BEGIN:VCALENDAR
VERSION:2.0
PRODID:-//Discover Crewe - ECPv6.15.15//NONSGML v1.0//EN
CALSCALE:GREGORIAN
METHOD:PUBLISH
X-ORIGINAL-URL:https://discovercrewe.co.uk
X-WR-CALDESC:Events for Discover Crewe
REFRESH-INTERVAL;VALUE=DURATION:PT1H
X-Robots-Tag:noindex
X-PUBLISHED-TTL:PT1H
BEGIN:VTIMEZONE
TZID:UTC
BEGIN:STANDARD
TZOFFSETFROM:+0000
TZOFFSETTO:+0000
TZNAME:UTC
DTSTART:20250101T000000
END:STANDARD
END:VTIMEZONE
BEGIN:VEVENT
DTSTART;TZID=UTC:20260115T100000
DTEND;TZID=UTC:20260119T170000
DTSTAMP:20260424T203010
CREATED:20260107T132348Z
LAST-MODIFIED:20260107T132412Z
UID:10038022-1768471200-1768842000@discovercrewe.co.uk
SUMMARY:Railway200 Inspiration Exhibition Train
DESCRIPTION:As part of the national campaign Railway200\, celebrating 200 years of the modern railway\, their nationally acclaimed exhibition train called Inspiration is coming to Crewe Station. \nIt is completely free to visit and hosts a unique experience where visitors can go on a journey through the past\, present and future of rail – a British innovation that transformed the world. \nMore than 45\,000 people have visited on it’s 60-stop tour of Britain. Now it’s your chance\, when it comes to Crewe Station from Thursday\, January 15th until Monday\, January 19th. \nRead about railway firsts\, take part in engaging hands-on activities of science and engineering and uncover some of the hidden roles in rail. You may even find your next career. \nAlthough the event is free\, you need to book in advance to secure your visit. Opening times are from 10am to 5pm with the last entry at 4pm. \nTo find our more information and to book please visit here. \nImage (Railway200)
URL:https://discovercrewe.co.uk/event/railway200-inspiration-exhibition-train/
LOCATION:Crewe Train Station\, Crewe Train Station\, Crewe\, CW1 6AA\, United Kingdom
CATEGORIES:Events,Family Attractions,Nantwich Road
ATTACH;FMTTYPE=image/jpeg:https://discovercrewe.co.uk/wp-content/uploads/2026/01/Railway-200-2.jpg
END:VEVENT
BEGIN:VEVENT
DTSTART;TZID=UTC:20260107T131700
DTEND;TZID=UTC:20260107T131700
DTSTAMP:20260424T203010
CREATED:20260107T132020Z
LAST-MODIFIED:20260107T132144Z
UID:10038021-1767791820-1767791820@discovercrewe.co.uk
SUMMARY:Railway200 Inspiration
DESCRIPTION:As part of the national campaign Railway200\, celebrating 200 years of the modern railway\, their nationally acclaimed exhibition train called Inspiration is coming to Crewe Station. \nIt is completely free to visit and hosts a unique experience where visitors can go on a journey through the past\, present and future of rail – a British innovation that transformed the world. \nMore than 45\,000 people have visited on it’s 60-stop tour of Britain. Now it’s your chance\, when it comes to Crewe Station from Thursday\, January 15th until Monday\, January 19th. \nRead about railway firsts\, take part in engaging hands-on activities of science and engineering and uncover some of the hidden roles in rail. You may even find your next career. \nAlthough the event is free\, you need to book in advance to secure your visit. Opening times are from 10am to 5pm with the last entry at 4pm. \nTo find our more information and to book please visit here. \nImage (Railway200)
URL:https://discovercrewe.co.uk/event/railway200-inspiration/
LOCATION:Crewe Train Station\, Crewe Train Station\, Crewe\, CW1 6AA\, United Kingdom
CATEGORIES:Events,Family Attractions,Nantwich Road
ATTACH;FMTTYPE=image/jpeg:https://discovercrewe.co.uk/wp-content/uploads/2026/01/Railway-200-2.jpg
END:VEVENT
END:VCALENDAR