BEGIN:VCALENDAR
VERSION:2.0
PRODID:-//Discover Crewe - ECPv6.15.15//NONSGML v1.0//EN
CALSCALE:GREGORIAN
METHOD:PUBLISH
X-ORIGINAL-URL:https://discovercrewe.co.uk
X-WR-CALDESC:Events for Discover Crewe
REFRESH-INTERVAL;VALUE=DURATION:PT1H
X-Robots-Tag:noindex
X-PUBLISHED-TTL:PT1H
BEGIN:VTIMEZONE
TZID:UTC
BEGIN:STANDARD
TZOFFSETFROM:+0000
TZOFFSETTO:+0000
TZNAME:UTC
DTSTART:20330101T000000
END:STANDARD
END:VTIMEZONE
BEGIN:VEVENT
DTSTART;TZID=UTC:20341009T183000
DTEND;TZID=UTC:20341009T193000
DTSTAMP:20260425T113112
CREATED:20260209T105426Z
LAST-MODIFIED:20260209T105426Z
UID:10038516-2044031400-2044035000@discovercrewe.co.uk
SUMMARY:Monday Night Board Games
DESCRIPTION:Join the Lizards Lair Gaming Co on Monday evenings for a chilled board game or two. \nStarting at 6.30pm\, it promises to be casual fun for all to get involved in\, a selection of games will be available in shop. \nFor more information please visit here. \nImage (The Lizards Lair Gaming Co)
URL:https://discovercrewe.co.uk/event/monday-night-board-games/2034-10-09/
LOCATION:Lizards Lair\, 22 Victoria Centre\, Crewe\, CW1 2PU\, United Kingdom
CATEGORIES:Lizards Lair,Town Centre
ATTACH;FMTTYPE=image/jpeg:https://discovercrewe.co.uk/wp-content/uploads/2026/02/Monday-Evening-Board-Games.jpg
END:VEVENT
BEGIN:VEVENT
DTSTART;TZID=UTC:20341016T183000
DTEND;TZID=UTC:20341016T193000
DTSTAMP:20260425T113112
CREATED:20260209T105426Z
LAST-MODIFIED:20260209T105426Z
UID:10038517-2044636200-2044639800@discovercrewe.co.uk
SUMMARY:Monday Night Board Games
DESCRIPTION:Join the Lizards Lair Gaming Co on Monday evenings for a chilled board game or two. \nStarting at 6.30pm\, it promises to be casual fun for all to get involved in\, a selection of games will be available in shop. \nFor more information please visit here. \nImage (The Lizards Lair Gaming Co)
URL:https://discovercrewe.co.uk/event/monday-night-board-games/2034-10-16/
LOCATION:Lizards Lair\, 22 Victoria Centre\, Crewe\, CW1 2PU\, United Kingdom
CATEGORIES:Lizards Lair,Town Centre
ATTACH;FMTTYPE=image/jpeg:https://discovercrewe.co.uk/wp-content/uploads/2026/02/Monday-Evening-Board-Games.jpg
END:VEVENT
BEGIN:VEVENT
DTSTART;TZID=UTC:20341023T183000
DTEND;TZID=UTC:20341023T193000
DTSTAMP:20260425T113112
CREATED:20260209T105426Z
LAST-MODIFIED:20260209T105426Z
UID:10038518-2045241000-2045244600@discovercrewe.co.uk
SUMMARY:Monday Night Board Games
DESCRIPTION:Join the Lizards Lair Gaming Co on Monday evenings for a chilled board game or two. \nStarting at 6.30pm\, it promises to be casual fun for all to get involved in\, a selection of games will be available in shop. \nFor more information please visit here. \nImage (The Lizards Lair Gaming Co)
URL:https://discovercrewe.co.uk/event/monday-night-board-games/2034-10-23/
LOCATION:Lizards Lair\, 22 Victoria Centre\, Crewe\, CW1 2PU\, United Kingdom
CATEGORIES:Lizards Lair,Town Centre
ATTACH;FMTTYPE=image/jpeg:https://discovercrewe.co.uk/wp-content/uploads/2026/02/Monday-Evening-Board-Games.jpg
END:VEVENT
BEGIN:VEVENT
DTSTART;TZID=UTC:20341030T183000
DTEND;TZID=UTC:20341030T193000
DTSTAMP:20260425T113112
CREATED:20260209T105426Z
LAST-MODIFIED:20260209T105426Z
UID:10038519-2045845800-2045849400@discovercrewe.co.uk
SUMMARY:Monday Night Board Games
DESCRIPTION:Join the Lizards Lair Gaming Co on Monday evenings for a chilled board game or two. \nStarting at 6.30pm\, it promises to be casual fun for all to get involved in\, a selection of games will be available in shop. \nFor more information please visit here. \nImage (The Lizards Lair Gaming Co)
URL:https://discovercrewe.co.uk/event/monday-night-board-games/2034-10-30/
LOCATION:Lizards Lair\, 22 Victoria Centre\, Crewe\, CW1 2PU\, United Kingdom
CATEGORIES:Lizards Lair,Town Centre
ATTACH;FMTTYPE=image/jpeg:https://discovercrewe.co.uk/wp-content/uploads/2026/02/Monday-Evening-Board-Games.jpg
END:VEVENT
BEGIN:VEVENT
DTSTART;TZID=UTC:20341106T183000
DTEND;TZID=UTC:20341106T193000
DTSTAMP:20260425T113112
CREATED:20260209T105426Z
LAST-MODIFIED:20260209T105426Z
UID:10038520-2046450600-2046454200@discovercrewe.co.uk
SUMMARY:Monday Night Board Games
DESCRIPTION:Join the Lizards Lair Gaming Co on Monday evenings for a chilled board game or two. \nStarting at 6.30pm\, it promises to be casual fun for all to get involved in\, a selection of games will be available in shop. \nFor more information please visit here. \nImage (The Lizards Lair Gaming Co)
URL:https://discovercrewe.co.uk/event/monday-night-board-games/2034-11-06/
LOCATION:Lizards Lair\, 22 Victoria Centre\, Crewe\, CW1 2PU\, United Kingdom
CATEGORIES:Lizards Lair,Town Centre
ATTACH;FMTTYPE=image/jpeg:https://discovercrewe.co.uk/wp-content/uploads/2026/02/Monday-Evening-Board-Games.jpg
END:VEVENT
BEGIN:VEVENT
DTSTART;TZID=UTC:20341113T183000
DTEND;TZID=UTC:20341113T193000
DTSTAMP:20260425T113112
CREATED:20260209T105426Z
LAST-MODIFIED:20260209T105426Z
UID:10038521-2047055400-2047059000@discovercrewe.co.uk
SUMMARY:Monday Night Board Games
DESCRIPTION:Join the Lizards Lair Gaming Co on Monday evenings for a chilled board game or two. \nStarting at 6.30pm\, it promises to be casual fun for all to get involved in\, a selection of games will be available in shop. \nFor more information please visit here. \nImage (The Lizards Lair Gaming Co)
URL:https://discovercrewe.co.uk/event/monday-night-board-games/2034-11-13/
LOCATION:Lizards Lair\, 22 Victoria Centre\, Crewe\, CW1 2PU\, United Kingdom
CATEGORIES:Lizards Lair,Town Centre
ATTACH;FMTTYPE=image/jpeg:https://discovercrewe.co.uk/wp-content/uploads/2026/02/Monday-Evening-Board-Games.jpg
END:VEVENT
BEGIN:VEVENT
DTSTART;TZID=UTC:20341120T183000
DTEND;TZID=UTC:20341120T193000
DTSTAMP:20260425T113112
CREATED:20260209T105426Z
LAST-MODIFIED:20260209T105426Z
UID:10038522-2047660200-2047663800@discovercrewe.co.uk
SUMMARY:Monday Night Board Games
DESCRIPTION:Join the Lizards Lair Gaming Co on Monday evenings for a chilled board game or two. \nStarting at 6.30pm\, it promises to be casual fun for all to get involved in\, a selection of games will be available in shop. \nFor more information please visit here. \nImage (The Lizards Lair Gaming Co)
URL:https://discovercrewe.co.uk/event/monday-night-board-games/2034-11-20/
LOCATION:Lizards Lair\, 22 Victoria Centre\, Crewe\, CW1 2PU\, United Kingdom
CATEGORIES:Lizards Lair,Town Centre
ATTACH;FMTTYPE=image/jpeg:https://discovercrewe.co.uk/wp-content/uploads/2026/02/Monday-Evening-Board-Games.jpg
END:VEVENT
BEGIN:VEVENT
DTSTART;TZID=UTC:20341127T183000
DTEND;TZID=UTC:20341127T193000
DTSTAMP:20260425T113112
CREATED:20260209T105426Z
LAST-MODIFIED:20260209T105426Z
UID:10038523-2048265000-2048268600@discovercrewe.co.uk
SUMMARY:Monday Night Board Games
DESCRIPTION:Join the Lizards Lair Gaming Co on Monday evenings for a chilled board game or two. \nStarting at 6.30pm\, it promises to be casual fun for all to get involved in\, a selection of games will be available in shop. \nFor more information please visit here. \nImage (The Lizards Lair Gaming Co)
URL:https://discovercrewe.co.uk/event/monday-night-board-games/2034-11-27/
LOCATION:Lizards Lair\, 22 Victoria Centre\, Crewe\, CW1 2PU\, United Kingdom
CATEGORIES:Lizards Lair,Town Centre
ATTACH;FMTTYPE=image/jpeg:https://discovercrewe.co.uk/wp-content/uploads/2026/02/Monday-Evening-Board-Games.jpg
END:VEVENT
BEGIN:VEVENT
DTSTART;TZID=UTC:20341204T183000
DTEND;TZID=UTC:20341204T193000
DTSTAMP:20260425T113112
CREATED:20260209T105426Z
LAST-MODIFIED:20260209T105426Z
UID:10038524-2048869800-2048873400@discovercrewe.co.uk
SUMMARY:Monday Night Board Games
DESCRIPTION:Join the Lizards Lair Gaming Co on Monday evenings for a chilled board game or two. \nStarting at 6.30pm\, it promises to be casual fun for all to get involved in\, a selection of games will be available in shop. \nFor more information please visit here. \nImage (The Lizards Lair Gaming Co)
URL:https://discovercrewe.co.uk/event/monday-night-board-games/2034-12-04/
LOCATION:Lizards Lair\, 22 Victoria Centre\, Crewe\, CW1 2PU\, United Kingdom
CATEGORIES:Lizards Lair,Town Centre
ATTACH;FMTTYPE=image/jpeg:https://discovercrewe.co.uk/wp-content/uploads/2026/02/Monday-Evening-Board-Games.jpg
END:VEVENT
BEGIN:VEVENT
DTSTART;TZID=UTC:20341211T183000
DTEND;TZID=UTC:20341211T193000
DTSTAMP:20260425T113112
CREATED:20260209T105426Z
LAST-MODIFIED:20260209T105426Z
UID:10038525-2049474600-2049478200@discovercrewe.co.uk
SUMMARY:Monday Night Board Games
DESCRIPTION:Join the Lizards Lair Gaming Co on Monday evenings for a chilled board game or two. \nStarting at 6.30pm\, it promises to be casual fun for all to get involved in\, a selection of games will be available in shop. \nFor more information please visit here. \nImage (The Lizards Lair Gaming Co)
URL:https://discovercrewe.co.uk/event/monday-night-board-games/2034-12-11/
LOCATION:Lizards Lair\, 22 Victoria Centre\, Crewe\, CW1 2PU\, United Kingdom
CATEGORIES:Lizards Lair,Town Centre
ATTACH;FMTTYPE=image/jpeg:https://discovercrewe.co.uk/wp-content/uploads/2026/02/Monday-Evening-Board-Games.jpg
END:VEVENT
BEGIN:VEVENT
DTSTART;TZID=UTC:20341218T183000
DTEND;TZID=UTC:20341218T193000
DTSTAMP:20260425T113112
CREATED:20260209T105426Z
LAST-MODIFIED:20260209T105426Z
UID:10038526-2050079400-2050083000@discovercrewe.co.uk
SUMMARY:Monday Night Board Games
DESCRIPTION:Join the Lizards Lair Gaming Co on Monday evenings for a chilled board game or two. \nStarting at 6.30pm\, it promises to be casual fun for all to get involved in\, a selection of games will be available in shop. \nFor more information please visit here. \nImage (The Lizards Lair Gaming Co)
URL:https://discovercrewe.co.uk/event/monday-night-board-games/2034-12-18/
LOCATION:Lizards Lair\, 22 Victoria Centre\, Crewe\, CW1 2PU\, United Kingdom
CATEGORIES:Lizards Lair,Town Centre
ATTACH;FMTTYPE=image/jpeg:https://discovercrewe.co.uk/wp-content/uploads/2026/02/Monday-Evening-Board-Games.jpg
END:VEVENT
BEGIN:VEVENT
DTSTART;TZID=UTC:20341225T183000
DTEND;TZID=UTC:20341225T193000
DTSTAMP:20260425T113112
CREATED:20260209T105426Z
LAST-MODIFIED:20260209T105426Z
UID:10038527-2050684200-2050687800@discovercrewe.co.uk
SUMMARY:Monday Night Board Games
DESCRIPTION:Join the Lizards Lair Gaming Co on Monday evenings for a chilled board game or two. \nStarting at 6.30pm\, it promises to be casual fun for all to get involved in\, a selection of games will be available in shop. \nFor more information please visit here. \nImage (The Lizards Lair Gaming Co)
URL:https://discovercrewe.co.uk/event/monday-night-board-games/2034-12-25/
LOCATION:Lizards Lair\, 22 Victoria Centre\, Crewe\, CW1 2PU\, United Kingdom
CATEGORIES:Lizards Lair,Town Centre
ATTACH;FMTTYPE=image/jpeg:https://discovercrewe.co.uk/wp-content/uploads/2026/02/Monday-Evening-Board-Games.jpg
END:VEVENT
BEGIN:VEVENT
DTSTART;TZID=UTC:20350101T183000
DTEND;TZID=UTC:20350101T193000
DTSTAMP:20260425T113112
CREATED:20260209T105426Z
LAST-MODIFIED:20260209T105426Z
UID:10038528-2051289000-2051292600@discovercrewe.co.uk
SUMMARY:Monday Night Board Games
DESCRIPTION:Join the Lizards Lair Gaming Co on Monday evenings for a chilled board game or two. \nStarting at 6.30pm\, it promises to be casual fun for all to get involved in\, a selection of games will be available in shop. \nFor more information please visit here. \nImage (The Lizards Lair Gaming Co)
URL:https://discovercrewe.co.uk/event/monday-night-board-games/2035-01-01/
LOCATION:Lizards Lair\, 22 Victoria Centre\, Crewe\, CW1 2PU\, United Kingdom
CATEGORIES:Lizards Lair,Town Centre
ATTACH;FMTTYPE=image/jpeg:https://discovercrewe.co.uk/wp-content/uploads/2026/02/Monday-Evening-Board-Games.jpg
END:VEVENT
BEGIN:VEVENT
DTSTART;TZID=UTC:20350108T183000
DTEND;TZID=UTC:20350108T193000
DTSTAMP:20260425T113112
CREATED:20260209T105426Z
LAST-MODIFIED:20260209T105426Z
UID:10038529-2051893800-2051897400@discovercrewe.co.uk
SUMMARY:Monday Night Board Games
DESCRIPTION:Join the Lizards Lair Gaming Co on Monday evenings for a chilled board game or two. \nStarting at 6.30pm\, it promises to be casual fun for all to get involved in\, a selection of games will be available in shop. \nFor more information please visit here. \nImage (The Lizards Lair Gaming Co)
URL:https://discovercrewe.co.uk/event/monday-night-board-games/2035-01-08/
LOCATION:Lizards Lair\, 22 Victoria Centre\, Crewe\, CW1 2PU\, United Kingdom
CATEGORIES:Lizards Lair,Town Centre
ATTACH;FMTTYPE=image/jpeg:https://discovercrewe.co.uk/wp-content/uploads/2026/02/Monday-Evening-Board-Games.jpg
END:VEVENT
BEGIN:VEVENT
DTSTART;TZID=UTC:20350115T183000
DTEND;TZID=UTC:20350115T193000
DTSTAMP:20260425T113112
CREATED:20260209T105426Z
LAST-MODIFIED:20260209T105426Z
UID:10038530-2052498600-2052502200@discovercrewe.co.uk
SUMMARY:Monday Night Board Games
DESCRIPTION:Join the Lizards Lair Gaming Co on Monday evenings for a chilled board game or two. \nStarting at 6.30pm\, it promises to be casual fun for all to get involved in\, a selection of games will be available in shop. \nFor more information please visit here. \nImage (The Lizards Lair Gaming Co)
URL:https://discovercrewe.co.uk/event/monday-night-board-games/2035-01-15/
LOCATION:Lizards Lair\, 22 Victoria Centre\, Crewe\, CW1 2PU\, United Kingdom
CATEGORIES:Lizards Lair,Town Centre
ATTACH;FMTTYPE=image/jpeg:https://discovercrewe.co.uk/wp-content/uploads/2026/02/Monday-Evening-Board-Games.jpg
END:VEVENT
BEGIN:VEVENT
DTSTART;TZID=UTC:20350122T183000
DTEND;TZID=UTC:20350122T193000
DTSTAMP:20260425T113112
CREATED:20260209T105426Z
LAST-MODIFIED:20260209T105426Z
UID:10038531-2053103400-2053107000@discovercrewe.co.uk
SUMMARY:Monday Night Board Games
DESCRIPTION:Join the Lizards Lair Gaming Co on Monday evenings for a chilled board game or two. \nStarting at 6.30pm\, it promises to be casual fun for all to get involved in\, a selection of games will be available in shop. \nFor more information please visit here. \nImage (The Lizards Lair Gaming Co)
URL:https://discovercrewe.co.uk/event/monday-night-board-games/2035-01-22/
LOCATION:Lizards Lair\, 22 Victoria Centre\, Crewe\, CW1 2PU\, United Kingdom
CATEGORIES:Lizards Lair,Town Centre
ATTACH;FMTTYPE=image/jpeg:https://discovercrewe.co.uk/wp-content/uploads/2026/02/Monday-Evening-Board-Games.jpg
END:VEVENT
BEGIN:VEVENT
DTSTART;TZID=UTC:20350129T183000
DTEND;TZID=UTC:20350129T193000
DTSTAMP:20260425T113112
CREATED:20260209T105426Z
LAST-MODIFIED:20260209T105426Z
UID:10038532-2053708200-2053711800@discovercrewe.co.uk
SUMMARY:Monday Night Board Games
DESCRIPTION:Join the Lizards Lair Gaming Co on Monday evenings for a chilled board game or two. \nStarting at 6.30pm\, it promises to be casual fun for all to get involved in\, a selection of games will be available in shop. \nFor more information please visit here. \nImage (The Lizards Lair Gaming Co)
URL:https://discovercrewe.co.uk/event/monday-night-board-games/2035-01-29/
LOCATION:Lizards Lair\, 22 Victoria Centre\, Crewe\, CW1 2PU\, United Kingdom
CATEGORIES:Lizards Lair,Town Centre
ATTACH;FMTTYPE=image/jpeg:https://discovercrewe.co.uk/wp-content/uploads/2026/02/Monday-Evening-Board-Games.jpg
END:VEVENT
BEGIN:VEVENT
DTSTART;TZID=UTC:20350205T183000
DTEND;TZID=UTC:20350205T193000
DTSTAMP:20260425T113112
CREATED:20260209T105426Z
LAST-MODIFIED:20260209T105426Z
UID:10038533-2054313000-2054316600@discovercrewe.co.uk
SUMMARY:Monday Night Board Games
DESCRIPTION:Join the Lizards Lair Gaming Co on Monday evenings for a chilled board game or two. \nStarting at 6.30pm\, it promises to be casual fun for all to get involved in\, a selection of games will be available in shop. \nFor more information please visit here. \nImage (The Lizards Lair Gaming Co)
URL:https://discovercrewe.co.uk/event/monday-night-board-games/2035-02-05/
LOCATION:Lizards Lair\, 22 Victoria Centre\, Crewe\, CW1 2PU\, United Kingdom
CATEGORIES:Lizards Lair,Town Centre
ATTACH;FMTTYPE=image/jpeg:https://discovercrewe.co.uk/wp-content/uploads/2026/02/Monday-Evening-Board-Games.jpg
END:VEVENT
BEGIN:VEVENT
DTSTART;TZID=UTC:20350212T183000
DTEND;TZID=UTC:20350212T193000
DTSTAMP:20260425T113112
CREATED:20260209T105426Z
LAST-MODIFIED:20260209T105426Z
UID:10038534-2054917800-2054921400@discovercrewe.co.uk
SUMMARY:Monday Night Board Games
DESCRIPTION:Join the Lizards Lair Gaming Co on Monday evenings for a chilled board game or two. \nStarting at 6.30pm\, it promises to be casual fun for all to get involved in\, a selection of games will be available in shop. \nFor more information please visit here. \nImage (The Lizards Lair Gaming Co)
URL:https://discovercrewe.co.uk/event/monday-night-board-games/2035-02-12/
LOCATION:Lizards Lair\, 22 Victoria Centre\, Crewe\, CW1 2PU\, United Kingdom
CATEGORIES:Lizards Lair,Town Centre
ATTACH;FMTTYPE=image/jpeg:https://discovercrewe.co.uk/wp-content/uploads/2026/02/Monday-Evening-Board-Games.jpg
END:VEVENT
BEGIN:VEVENT
DTSTART;TZID=UTC:20350219T183000
DTEND;TZID=UTC:20350219T193000
DTSTAMP:20260425T113112
CREATED:20260209T105426Z
LAST-MODIFIED:20260209T105426Z
UID:10038535-2055522600-2055526200@discovercrewe.co.uk
SUMMARY:Monday Night Board Games
DESCRIPTION:Join the Lizards Lair Gaming Co on Monday evenings for a chilled board game or two. \nStarting at 6.30pm\, it promises to be casual fun for all to get involved in\, a selection of games will be available in shop. \nFor more information please visit here. \nImage (The Lizards Lair Gaming Co)
URL:https://discovercrewe.co.uk/event/monday-night-board-games/2035-02-19/
LOCATION:Lizards Lair\, 22 Victoria Centre\, Crewe\, CW1 2PU\, United Kingdom
CATEGORIES:Lizards Lair,Town Centre
ATTACH;FMTTYPE=image/jpeg:https://discovercrewe.co.uk/wp-content/uploads/2026/02/Monday-Evening-Board-Games.jpg
END:VEVENT
BEGIN:VEVENT
DTSTART;TZID=UTC:20350226T183000
DTEND;TZID=UTC:20350226T193000
DTSTAMP:20260425T113112
CREATED:20260209T105426Z
LAST-MODIFIED:20260209T105426Z
UID:10038536-2056127400-2056131000@discovercrewe.co.uk
SUMMARY:Monday Night Board Games
DESCRIPTION:Join the Lizards Lair Gaming Co on Monday evenings for a chilled board game or two. \nStarting at 6.30pm\, it promises to be casual fun for all to get involved in\, a selection of games will be available in shop. \nFor more information please visit here. \nImage (The Lizards Lair Gaming Co)
URL:https://discovercrewe.co.uk/event/monday-night-board-games/2035-02-26/
LOCATION:Lizards Lair\, 22 Victoria Centre\, Crewe\, CW1 2PU\, United Kingdom
CATEGORIES:Lizards Lair,Town Centre
ATTACH;FMTTYPE=image/jpeg:https://discovercrewe.co.uk/wp-content/uploads/2026/02/Monday-Evening-Board-Games.jpg
END:VEVENT
BEGIN:VEVENT
DTSTART;TZID=UTC:20350305T183000
DTEND;TZID=UTC:20350305T193000
DTSTAMP:20260425T113112
CREATED:20260209T105426Z
LAST-MODIFIED:20260209T105426Z
UID:10038537-2056732200-2056735800@discovercrewe.co.uk
SUMMARY:Monday Night Board Games
DESCRIPTION:Join the Lizards Lair Gaming Co on Monday evenings for a chilled board game or two. \nStarting at 6.30pm\, it promises to be casual fun for all to get involved in\, a selection of games will be available in shop. \nFor more information please visit here. \nImage (The Lizards Lair Gaming Co)
URL:https://discovercrewe.co.uk/event/monday-night-board-games/2035-03-05/
LOCATION:Lizards Lair\, 22 Victoria Centre\, Crewe\, CW1 2PU\, United Kingdom
CATEGORIES:Lizards Lair,Town Centre
ATTACH;FMTTYPE=image/jpeg:https://discovercrewe.co.uk/wp-content/uploads/2026/02/Monday-Evening-Board-Games.jpg
END:VEVENT
BEGIN:VEVENT
DTSTART;TZID=UTC:20350312T183000
DTEND;TZID=UTC:20350312T193000
DTSTAMP:20260425T113112
CREATED:20260209T105426Z
LAST-MODIFIED:20260209T105426Z
UID:10038538-2057337000-2057340600@discovercrewe.co.uk
SUMMARY:Monday Night Board Games
DESCRIPTION:Join the Lizards Lair Gaming Co on Monday evenings for a chilled board game or two. \nStarting at 6.30pm\, it promises to be casual fun for all to get involved in\, a selection of games will be available in shop. \nFor more information please visit here. \nImage (The Lizards Lair Gaming Co)
URL:https://discovercrewe.co.uk/event/monday-night-board-games/2035-03-12/
LOCATION:Lizards Lair\, 22 Victoria Centre\, Crewe\, CW1 2PU\, United Kingdom
CATEGORIES:Lizards Lair,Town Centre
ATTACH;FMTTYPE=image/jpeg:https://discovercrewe.co.uk/wp-content/uploads/2026/02/Monday-Evening-Board-Games.jpg
END:VEVENT
BEGIN:VEVENT
DTSTART;TZID=UTC:20350319T183000
DTEND;TZID=UTC:20350319T193000
DTSTAMP:20260425T113112
CREATED:20260209T105426Z
LAST-MODIFIED:20260209T105426Z
UID:10038539-2057941800-2057945400@discovercrewe.co.uk
SUMMARY:Monday Night Board Games
DESCRIPTION:Join the Lizards Lair Gaming Co on Monday evenings for a chilled board game or two. \nStarting at 6.30pm\, it promises to be casual fun for all to get involved in\, a selection of games will be available in shop. \nFor more information please visit here. \nImage (The Lizards Lair Gaming Co)
URL:https://discovercrewe.co.uk/event/monday-night-board-games/2035-03-19/
LOCATION:Lizards Lair\, 22 Victoria Centre\, Crewe\, CW1 2PU\, United Kingdom
CATEGORIES:Lizards Lair,Town Centre
ATTACH;FMTTYPE=image/jpeg:https://discovercrewe.co.uk/wp-content/uploads/2026/02/Monday-Evening-Board-Games.jpg
END:VEVENT
BEGIN:VEVENT
DTSTART;TZID=UTC:20350326T183000
DTEND;TZID=UTC:20350326T193000
DTSTAMP:20260425T113112
CREATED:20260209T105426Z
LAST-MODIFIED:20260209T105426Z
UID:10038540-2058546600-2058550200@discovercrewe.co.uk
SUMMARY:Monday Night Board Games
DESCRIPTION:Join the Lizards Lair Gaming Co on Monday evenings for a chilled board game or two. \nStarting at 6.30pm\, it promises to be casual fun for all to get involved in\, a selection of games will be available in shop. \nFor more information please visit here. \nImage (The Lizards Lair Gaming Co)
URL:https://discovercrewe.co.uk/event/monday-night-board-games/2035-03-26/
LOCATION:Lizards Lair\, 22 Victoria Centre\, Crewe\, CW1 2PU\, United Kingdom
CATEGORIES:Lizards Lair,Town Centre
ATTACH;FMTTYPE=image/jpeg:https://discovercrewe.co.uk/wp-content/uploads/2026/02/Monday-Evening-Board-Games.jpg
END:VEVENT
BEGIN:VEVENT
DTSTART;TZID=UTC:20350402T183000
DTEND;TZID=UTC:20350402T193000
DTSTAMP:20260425T113112
CREATED:20260209T105426Z
LAST-MODIFIED:20260209T105426Z
UID:10038541-2059151400-2059155000@discovercrewe.co.uk
SUMMARY:Monday Night Board Games
DESCRIPTION:Join the Lizards Lair Gaming Co on Monday evenings for a chilled board game or two. \nStarting at 6.30pm\, it promises to be casual fun for all to get involved in\, a selection of games will be available in shop. \nFor more information please visit here. \nImage (The Lizards Lair Gaming Co)
URL:https://discovercrewe.co.uk/event/monday-night-board-games/2035-04-02/
LOCATION:Lizards Lair\, 22 Victoria Centre\, Crewe\, CW1 2PU\, United Kingdom
CATEGORIES:Lizards Lair,Town Centre
ATTACH;FMTTYPE=image/jpeg:https://discovercrewe.co.uk/wp-content/uploads/2026/02/Monday-Evening-Board-Games.jpg
END:VEVENT
BEGIN:VEVENT
DTSTART;TZID=UTC:20350409T183000
DTEND;TZID=UTC:20350409T193000
DTSTAMP:20260425T113112
CREATED:20260209T105426Z
LAST-MODIFIED:20260209T105426Z
UID:10038542-2059756200-2059759800@discovercrewe.co.uk
SUMMARY:Monday Night Board Games
DESCRIPTION:Join the Lizards Lair Gaming Co on Monday evenings for a chilled board game or two. \nStarting at 6.30pm\, it promises to be casual fun for all to get involved in\, a selection of games will be available in shop. \nFor more information please visit here. \nImage (The Lizards Lair Gaming Co)
URL:https://discovercrewe.co.uk/event/monday-night-board-games/2035-04-09/
LOCATION:Lizards Lair\, 22 Victoria Centre\, Crewe\, CW1 2PU\, United Kingdom
CATEGORIES:Lizards Lair,Town Centre
ATTACH;FMTTYPE=image/jpeg:https://discovercrewe.co.uk/wp-content/uploads/2026/02/Monday-Evening-Board-Games.jpg
END:VEVENT
BEGIN:VEVENT
DTSTART;TZID=UTC:20350416T183000
DTEND;TZID=UTC:20350416T193000
DTSTAMP:20260425T113112
CREATED:20260209T105426Z
LAST-MODIFIED:20260209T105426Z
UID:10038543-2060361000-2060364600@discovercrewe.co.uk
SUMMARY:Monday Night Board Games
DESCRIPTION:Join the Lizards Lair Gaming Co on Monday evenings for a chilled board game or two. \nStarting at 6.30pm\, it promises to be casual fun for all to get involved in\, a selection of games will be available in shop. \nFor more information please visit here. \nImage (The Lizards Lair Gaming Co)
URL:https://discovercrewe.co.uk/event/monday-night-board-games/2035-04-16/
LOCATION:Lizards Lair\, 22 Victoria Centre\, Crewe\, CW1 2PU\, United Kingdom
CATEGORIES:Lizards Lair,Town Centre
ATTACH;FMTTYPE=image/jpeg:https://discovercrewe.co.uk/wp-content/uploads/2026/02/Monday-Evening-Board-Games.jpg
END:VEVENT
BEGIN:VEVENT
DTSTART;TZID=UTC:20350423T183000
DTEND;TZID=UTC:20350423T193000
DTSTAMP:20260425T113112
CREATED:20260209T105426Z
LAST-MODIFIED:20260209T105426Z
UID:10038544-2060965800-2060969400@discovercrewe.co.uk
SUMMARY:Monday Night Board Games
DESCRIPTION:Join the Lizards Lair Gaming Co on Monday evenings for a chilled board game or two. \nStarting at 6.30pm\, it promises to be casual fun for all to get involved in\, a selection of games will be available in shop. \nFor more information please visit here. \nImage (The Lizards Lair Gaming Co)
URL:https://discovercrewe.co.uk/event/monday-night-board-games/2035-04-23/
LOCATION:Lizards Lair\, 22 Victoria Centre\, Crewe\, CW1 2PU\, United Kingdom
CATEGORIES:Lizards Lair,Town Centre
ATTACH;FMTTYPE=image/jpeg:https://discovercrewe.co.uk/wp-content/uploads/2026/02/Monday-Evening-Board-Games.jpg
END:VEVENT
BEGIN:VEVENT
DTSTART;TZID=UTC:20350430T183000
DTEND;TZID=UTC:20350430T193000
DTSTAMP:20260425T113112
CREATED:20260209T105426Z
LAST-MODIFIED:20260209T105426Z
UID:10038545-2061570600-2061574200@discovercrewe.co.uk
SUMMARY:Monday Night Board Games
DESCRIPTION:Join the Lizards Lair Gaming Co on Monday evenings for a chilled board game or two. \nStarting at 6.30pm\, it promises to be casual fun for all to get involved in\, a selection of games will be available in shop. \nFor more information please visit here. \nImage (The Lizards Lair Gaming Co)
URL:https://discovercrewe.co.uk/event/monday-night-board-games/2035-04-30/
LOCATION:Lizards Lair\, 22 Victoria Centre\, Crewe\, CW1 2PU\, United Kingdom
CATEGORIES:Lizards Lair,Town Centre
ATTACH;FMTTYPE=image/jpeg:https://discovercrewe.co.uk/wp-content/uploads/2026/02/Monday-Evening-Board-Games.jpg
END:VEVENT
END:VCALENDAR