BEGIN:VCALENDAR
VERSION:2.0
PRODID:-//Discover Crewe - ECPv6.15.15//NONSGML v1.0//EN
CALSCALE:GREGORIAN
METHOD:PUBLISH
X-ORIGINAL-URL:https://discovercrewe.co.uk
X-WR-CALDESC:Events for Discover Crewe
REFRESH-INTERVAL;VALUE=DURATION:PT1H
X-Robots-Tag:noindex
X-PUBLISHED-TTL:PT1H
BEGIN:VTIMEZONE
TZID:UTC
BEGIN:STANDARD
TZOFFSETFROM:+0000
TZOFFSETTO:+0000
TZNAME:UTC
DTSTART:20320101T000000
END:STANDARD
END:VTIMEZONE
BEGIN:VEVENT
DTSTART;TZID=UTC:20331127T140000
DTEND;TZID=UTC:20331127T160000
DTSTAMP:20260424T215125
CREATED:20260209T111455Z
LAST-MODIFIED:20260209T111455Z
UID:10038992-2016712800-2016720000@discovercrewe.co.uk
SUMMARY:Geeky Quiz
DESCRIPTION:Every Sunday afternoon at The Lizards Lair Gaming Co\, they have a geeky quiz from 2pm until 4pm. \nCovering all topics from sci-fi\, games\, comics and fantasy its a trivia quiz fun for all nerds. \nThere will be prizes on offer and it’s completely free to take part. \nFor more information please visit here. \nImage (The Lizards Lair Gaming Co)
URL:https://discovercrewe.co.uk/event/geeky-quiz/2033-11-27/
LOCATION:Lizards Lair\, 22 Victoria Centre\, Crewe\, CW1 2PU\, United Kingdom
CATEGORIES:Lizards Lair,Town Centre
ATTACH;FMTTYPE=image/jpeg:https://discovercrewe.co.uk/wp-content/uploads/2026/02/geeky-quiz.jpg
END:VEVENT
BEGIN:VEVENT
DTSTART;TZID=UTC:20331204T140000
DTEND;TZID=UTC:20331204T160000
DTSTAMP:20260424T215125
CREATED:20260209T111455Z
LAST-MODIFIED:20260209T111455Z
UID:10038993-2017317600-2017324800@discovercrewe.co.uk
SUMMARY:Geeky Quiz
DESCRIPTION:Every Sunday afternoon at The Lizards Lair Gaming Co\, they have a geeky quiz from 2pm until 4pm. \nCovering all topics from sci-fi\, games\, comics and fantasy its a trivia quiz fun for all nerds. \nThere will be prizes on offer and it’s completely free to take part. \nFor more information please visit here. \nImage (The Lizards Lair Gaming Co)
URL:https://discovercrewe.co.uk/event/geeky-quiz/2033-12-04/
LOCATION:Lizards Lair\, 22 Victoria Centre\, Crewe\, CW1 2PU\, United Kingdom
CATEGORIES:Lizards Lair,Town Centre
ATTACH;FMTTYPE=image/jpeg:https://discovercrewe.co.uk/wp-content/uploads/2026/02/geeky-quiz.jpg
END:VEVENT
BEGIN:VEVENT
DTSTART;TZID=UTC:20331211T140000
DTEND;TZID=UTC:20331211T160000
DTSTAMP:20260424T215125
CREATED:20260209T111455Z
LAST-MODIFIED:20260209T111455Z
UID:10038994-2017922400-2017929600@discovercrewe.co.uk
SUMMARY:Geeky Quiz
DESCRIPTION:Every Sunday afternoon at The Lizards Lair Gaming Co\, they have a geeky quiz from 2pm until 4pm. \nCovering all topics from sci-fi\, games\, comics and fantasy its a trivia quiz fun for all nerds. \nThere will be prizes on offer and it’s completely free to take part. \nFor more information please visit here. \nImage (The Lizards Lair Gaming Co)
URL:https://discovercrewe.co.uk/event/geeky-quiz/2033-12-11/
LOCATION:Lizards Lair\, 22 Victoria Centre\, Crewe\, CW1 2PU\, United Kingdom
CATEGORIES:Lizards Lair,Town Centre
ATTACH;FMTTYPE=image/jpeg:https://discovercrewe.co.uk/wp-content/uploads/2026/02/geeky-quiz.jpg
END:VEVENT
BEGIN:VEVENT
DTSTART;TZID=UTC:20331218T140000
DTEND;TZID=UTC:20331218T160000
DTSTAMP:20260424T215125
CREATED:20260209T111455Z
LAST-MODIFIED:20260209T111455Z
UID:10038995-2018527200-2018534400@discovercrewe.co.uk
SUMMARY:Geeky Quiz
DESCRIPTION:Every Sunday afternoon at The Lizards Lair Gaming Co\, they have a geeky quiz from 2pm until 4pm. \nCovering all topics from sci-fi\, games\, comics and fantasy its a trivia quiz fun for all nerds. \nThere will be prizes on offer and it’s completely free to take part. \nFor more information please visit here. \nImage (The Lizards Lair Gaming Co)
URL:https://discovercrewe.co.uk/event/geeky-quiz/2033-12-18/
LOCATION:Lizards Lair\, 22 Victoria Centre\, Crewe\, CW1 2PU\, United Kingdom
CATEGORIES:Lizards Lair,Town Centre
ATTACH;FMTTYPE=image/jpeg:https://discovercrewe.co.uk/wp-content/uploads/2026/02/geeky-quiz.jpg
END:VEVENT
BEGIN:VEVENT
DTSTART;TZID=UTC:20331225T140000
DTEND;TZID=UTC:20331225T160000
DTSTAMP:20260424T215125
CREATED:20260209T111455Z
LAST-MODIFIED:20260209T111455Z
UID:10038996-2019132000-2019139200@discovercrewe.co.uk
SUMMARY:Geeky Quiz
DESCRIPTION:Every Sunday afternoon at The Lizards Lair Gaming Co\, they have a geeky quiz from 2pm until 4pm. \nCovering all topics from sci-fi\, games\, comics and fantasy its a trivia quiz fun for all nerds. \nThere will be prizes on offer and it’s completely free to take part. \nFor more information please visit here. \nImage (The Lizards Lair Gaming Co)
URL:https://discovercrewe.co.uk/event/geeky-quiz/2033-12-25/
LOCATION:Lizards Lair\, 22 Victoria Centre\, Crewe\, CW1 2PU\, United Kingdom
CATEGORIES:Lizards Lair,Town Centre
ATTACH;FMTTYPE=image/jpeg:https://discovercrewe.co.uk/wp-content/uploads/2026/02/geeky-quiz.jpg
END:VEVENT
BEGIN:VEVENT
DTSTART;TZID=UTC:20340101T140000
DTEND;TZID=UTC:20340101T160000
DTSTAMP:20260424T215125
CREATED:20260209T111455Z
LAST-MODIFIED:20260209T111455Z
UID:10038997-2019736800-2019744000@discovercrewe.co.uk
SUMMARY:Geeky Quiz
DESCRIPTION:Every Sunday afternoon at The Lizards Lair Gaming Co\, they have a geeky quiz from 2pm until 4pm. \nCovering all topics from sci-fi\, games\, comics and fantasy its a trivia quiz fun for all nerds. \nThere will be prizes on offer and it’s completely free to take part. \nFor more information please visit here. \nImage (The Lizards Lair Gaming Co)
URL:https://discovercrewe.co.uk/event/geeky-quiz/2034-01-01/
LOCATION:Lizards Lair\, 22 Victoria Centre\, Crewe\, CW1 2PU\, United Kingdom
CATEGORIES:Lizards Lair,Town Centre
ATTACH;FMTTYPE=image/jpeg:https://discovercrewe.co.uk/wp-content/uploads/2026/02/geeky-quiz.jpg
END:VEVENT
BEGIN:VEVENT
DTSTART;TZID=UTC:20340108T140000
DTEND;TZID=UTC:20340108T160000
DTSTAMP:20260424T215125
CREATED:20260209T111455Z
LAST-MODIFIED:20260209T111455Z
UID:10038998-2020341600-2020348800@discovercrewe.co.uk
SUMMARY:Geeky Quiz
DESCRIPTION:Every Sunday afternoon at The Lizards Lair Gaming Co\, they have a geeky quiz from 2pm until 4pm. \nCovering all topics from sci-fi\, games\, comics and fantasy its a trivia quiz fun for all nerds. \nThere will be prizes on offer and it’s completely free to take part. \nFor more information please visit here. \nImage (The Lizards Lair Gaming Co)
URL:https://discovercrewe.co.uk/event/geeky-quiz/2034-01-08/
LOCATION:Lizards Lair\, 22 Victoria Centre\, Crewe\, CW1 2PU\, United Kingdom
CATEGORIES:Lizards Lair,Town Centre
ATTACH;FMTTYPE=image/jpeg:https://discovercrewe.co.uk/wp-content/uploads/2026/02/geeky-quiz.jpg
END:VEVENT
BEGIN:VEVENT
DTSTART;TZID=UTC:20340115T140000
DTEND;TZID=UTC:20340115T160000
DTSTAMP:20260424T215125
CREATED:20260209T111455Z
LAST-MODIFIED:20260209T111455Z
UID:10038999-2020946400-2020953600@discovercrewe.co.uk
SUMMARY:Geeky Quiz
DESCRIPTION:Every Sunday afternoon at The Lizards Lair Gaming Co\, they have a geeky quiz from 2pm until 4pm. \nCovering all topics from sci-fi\, games\, comics and fantasy its a trivia quiz fun for all nerds. \nThere will be prizes on offer and it’s completely free to take part. \nFor more information please visit here. \nImage (The Lizards Lair Gaming Co)
URL:https://discovercrewe.co.uk/event/geeky-quiz/2034-01-15/
LOCATION:Lizards Lair\, 22 Victoria Centre\, Crewe\, CW1 2PU\, United Kingdom
CATEGORIES:Lizards Lair,Town Centre
ATTACH;FMTTYPE=image/jpeg:https://discovercrewe.co.uk/wp-content/uploads/2026/02/geeky-quiz.jpg
END:VEVENT
BEGIN:VEVENT
DTSTART;TZID=UTC:20340122T140000
DTEND;TZID=UTC:20340122T160000
DTSTAMP:20260424T215125
CREATED:20260209T111455Z
LAST-MODIFIED:20260209T111455Z
UID:10039000-2021551200-2021558400@discovercrewe.co.uk
SUMMARY:Geeky Quiz
DESCRIPTION:Every Sunday afternoon at The Lizards Lair Gaming Co\, they have a geeky quiz from 2pm until 4pm. \nCovering all topics from sci-fi\, games\, comics and fantasy its a trivia quiz fun for all nerds. \nThere will be prizes on offer and it’s completely free to take part. \nFor more information please visit here. \nImage (The Lizards Lair Gaming Co)
URL:https://discovercrewe.co.uk/event/geeky-quiz/2034-01-22/
LOCATION:Lizards Lair\, 22 Victoria Centre\, Crewe\, CW1 2PU\, United Kingdom
CATEGORIES:Lizards Lair,Town Centre
ATTACH;FMTTYPE=image/jpeg:https://discovercrewe.co.uk/wp-content/uploads/2026/02/geeky-quiz.jpg
END:VEVENT
BEGIN:VEVENT
DTSTART;TZID=UTC:20340129T140000
DTEND;TZID=UTC:20340129T160000
DTSTAMP:20260424T215125
CREATED:20260209T111455Z
LAST-MODIFIED:20260209T111455Z
UID:10039001-2022156000-2022163200@discovercrewe.co.uk
SUMMARY:Geeky Quiz
DESCRIPTION:Every Sunday afternoon at The Lizards Lair Gaming Co\, they have a geeky quiz from 2pm until 4pm. \nCovering all topics from sci-fi\, games\, comics and fantasy its a trivia quiz fun for all nerds. \nThere will be prizes on offer and it’s completely free to take part. \nFor more information please visit here. \nImage (The Lizards Lair Gaming Co)
URL:https://discovercrewe.co.uk/event/geeky-quiz/2034-01-29/
LOCATION:Lizards Lair\, 22 Victoria Centre\, Crewe\, CW1 2PU\, United Kingdom
CATEGORIES:Lizards Lair,Town Centre
ATTACH;FMTTYPE=image/jpeg:https://discovercrewe.co.uk/wp-content/uploads/2026/02/geeky-quiz.jpg
END:VEVENT
BEGIN:VEVENT
DTSTART;TZID=UTC:20340205T140000
DTEND;TZID=UTC:20340205T160000
DTSTAMP:20260424T215125
CREATED:20260209T111455Z
LAST-MODIFIED:20260209T111455Z
UID:10039002-2022760800-2022768000@discovercrewe.co.uk
SUMMARY:Geeky Quiz
DESCRIPTION:Every Sunday afternoon at The Lizards Lair Gaming Co\, they have a geeky quiz from 2pm until 4pm. \nCovering all topics from sci-fi\, games\, comics and fantasy its a trivia quiz fun for all nerds. \nThere will be prizes on offer and it’s completely free to take part. \nFor more information please visit here. \nImage (The Lizards Lair Gaming Co)
URL:https://discovercrewe.co.uk/event/geeky-quiz/2034-02-05/
LOCATION:Lizards Lair\, 22 Victoria Centre\, Crewe\, CW1 2PU\, United Kingdom
CATEGORIES:Lizards Lair,Town Centre
ATTACH;FMTTYPE=image/jpeg:https://discovercrewe.co.uk/wp-content/uploads/2026/02/geeky-quiz.jpg
END:VEVENT
BEGIN:VEVENT
DTSTART;TZID=UTC:20340212T140000
DTEND;TZID=UTC:20340212T160000
DTSTAMP:20260424T215125
CREATED:20260209T111455Z
LAST-MODIFIED:20260209T111455Z
UID:10039003-2023365600-2023372800@discovercrewe.co.uk
SUMMARY:Geeky Quiz
DESCRIPTION:Every Sunday afternoon at The Lizards Lair Gaming Co\, they have a geeky quiz from 2pm until 4pm. \nCovering all topics from sci-fi\, games\, comics and fantasy its a trivia quiz fun for all nerds. \nThere will be prizes on offer and it’s completely free to take part. \nFor more information please visit here. \nImage (The Lizards Lair Gaming Co)
URL:https://discovercrewe.co.uk/event/geeky-quiz/2034-02-12/
LOCATION:Lizards Lair\, 22 Victoria Centre\, Crewe\, CW1 2PU\, United Kingdom
CATEGORIES:Lizards Lair,Town Centre
ATTACH;FMTTYPE=image/jpeg:https://discovercrewe.co.uk/wp-content/uploads/2026/02/geeky-quiz.jpg
END:VEVENT
BEGIN:VEVENT
DTSTART;TZID=UTC:20340219T140000
DTEND;TZID=UTC:20340219T160000
DTSTAMP:20260424T215125
CREATED:20260209T111455Z
LAST-MODIFIED:20260209T111455Z
UID:10039004-2023970400-2023977600@discovercrewe.co.uk
SUMMARY:Geeky Quiz
DESCRIPTION:Every Sunday afternoon at The Lizards Lair Gaming Co\, they have a geeky quiz from 2pm until 4pm. \nCovering all topics from sci-fi\, games\, comics and fantasy its a trivia quiz fun for all nerds. \nThere will be prizes on offer and it’s completely free to take part. \nFor more information please visit here. \nImage (The Lizards Lair Gaming Co)
URL:https://discovercrewe.co.uk/event/geeky-quiz/2034-02-19/
LOCATION:Lizards Lair\, 22 Victoria Centre\, Crewe\, CW1 2PU\, United Kingdom
CATEGORIES:Lizards Lair,Town Centre
ATTACH;FMTTYPE=image/jpeg:https://discovercrewe.co.uk/wp-content/uploads/2026/02/geeky-quiz.jpg
END:VEVENT
BEGIN:VEVENT
DTSTART;TZID=UTC:20340226T140000
DTEND;TZID=UTC:20340226T160000
DTSTAMP:20260424T215125
CREATED:20260209T111455Z
LAST-MODIFIED:20260209T111455Z
UID:10039005-2024575200-2024582400@discovercrewe.co.uk
SUMMARY:Geeky Quiz
DESCRIPTION:Every Sunday afternoon at The Lizards Lair Gaming Co\, they have a geeky quiz from 2pm until 4pm. \nCovering all topics from sci-fi\, games\, comics and fantasy its a trivia quiz fun for all nerds. \nThere will be prizes on offer and it’s completely free to take part. \nFor more information please visit here. \nImage (The Lizards Lair Gaming Co)
URL:https://discovercrewe.co.uk/event/geeky-quiz/2034-02-26/
LOCATION:Lizards Lair\, 22 Victoria Centre\, Crewe\, CW1 2PU\, United Kingdom
CATEGORIES:Lizards Lair,Town Centre
ATTACH;FMTTYPE=image/jpeg:https://discovercrewe.co.uk/wp-content/uploads/2026/02/geeky-quiz.jpg
END:VEVENT
BEGIN:VEVENT
DTSTART;TZID=UTC:20340305T140000
DTEND;TZID=UTC:20340305T160000
DTSTAMP:20260424T215125
CREATED:20260209T111455Z
LAST-MODIFIED:20260209T111455Z
UID:10039006-2025180000-2025187200@discovercrewe.co.uk
SUMMARY:Geeky Quiz
DESCRIPTION:Every Sunday afternoon at The Lizards Lair Gaming Co\, they have a geeky quiz from 2pm until 4pm. \nCovering all topics from sci-fi\, games\, comics and fantasy its a trivia quiz fun for all nerds. \nThere will be prizes on offer and it’s completely free to take part. \nFor more information please visit here. \nImage (The Lizards Lair Gaming Co)
URL:https://discovercrewe.co.uk/event/geeky-quiz/2034-03-05/
LOCATION:Lizards Lair\, 22 Victoria Centre\, Crewe\, CW1 2PU\, United Kingdom
CATEGORIES:Lizards Lair,Town Centre
ATTACH;FMTTYPE=image/jpeg:https://discovercrewe.co.uk/wp-content/uploads/2026/02/geeky-quiz.jpg
END:VEVENT
BEGIN:VEVENT
DTSTART;TZID=UTC:20340312T140000
DTEND;TZID=UTC:20340312T160000
DTSTAMP:20260424T215125
CREATED:20260209T111455Z
LAST-MODIFIED:20260209T111455Z
UID:10039007-2025784800-2025792000@discovercrewe.co.uk
SUMMARY:Geeky Quiz
DESCRIPTION:Every Sunday afternoon at The Lizards Lair Gaming Co\, they have a geeky quiz from 2pm until 4pm. \nCovering all topics from sci-fi\, games\, comics and fantasy its a trivia quiz fun for all nerds. \nThere will be prizes on offer and it’s completely free to take part. \nFor more information please visit here. \nImage (The Lizards Lair Gaming Co)
URL:https://discovercrewe.co.uk/event/geeky-quiz/2034-03-12/
LOCATION:Lizards Lair\, 22 Victoria Centre\, Crewe\, CW1 2PU\, United Kingdom
CATEGORIES:Lizards Lair,Town Centre
ATTACH;FMTTYPE=image/jpeg:https://discovercrewe.co.uk/wp-content/uploads/2026/02/geeky-quiz.jpg
END:VEVENT
BEGIN:VEVENT
DTSTART;TZID=UTC:20340319T140000
DTEND;TZID=UTC:20340319T160000
DTSTAMP:20260424T215125
CREATED:20260209T111455Z
LAST-MODIFIED:20260209T111455Z
UID:10039008-2026389600-2026396800@discovercrewe.co.uk
SUMMARY:Geeky Quiz
DESCRIPTION:Every Sunday afternoon at The Lizards Lair Gaming Co\, they have a geeky quiz from 2pm until 4pm. \nCovering all topics from sci-fi\, games\, comics and fantasy its a trivia quiz fun for all nerds. \nThere will be prizes on offer and it’s completely free to take part. \nFor more information please visit here. \nImage (The Lizards Lair Gaming Co)
URL:https://discovercrewe.co.uk/event/geeky-quiz/2034-03-19/
LOCATION:Lizards Lair\, 22 Victoria Centre\, Crewe\, CW1 2PU\, United Kingdom
CATEGORIES:Lizards Lair,Town Centre
ATTACH;FMTTYPE=image/jpeg:https://discovercrewe.co.uk/wp-content/uploads/2026/02/geeky-quiz.jpg
END:VEVENT
BEGIN:VEVENT
DTSTART;TZID=UTC:20340326T140000
DTEND;TZID=UTC:20340326T160000
DTSTAMP:20260424T215125
CREATED:20260209T111455Z
LAST-MODIFIED:20260209T111455Z
UID:10039009-2026994400-2027001600@discovercrewe.co.uk
SUMMARY:Geeky Quiz
DESCRIPTION:Every Sunday afternoon at The Lizards Lair Gaming Co\, they have a geeky quiz from 2pm until 4pm. \nCovering all topics from sci-fi\, games\, comics and fantasy its a trivia quiz fun for all nerds. \nThere will be prizes on offer and it’s completely free to take part. \nFor more information please visit here. \nImage (The Lizards Lair Gaming Co)
URL:https://discovercrewe.co.uk/event/geeky-quiz/2034-03-26/
LOCATION:Lizards Lair\, 22 Victoria Centre\, Crewe\, CW1 2PU\, United Kingdom
CATEGORIES:Lizards Lair,Town Centre
ATTACH;FMTTYPE=image/jpeg:https://discovercrewe.co.uk/wp-content/uploads/2026/02/geeky-quiz.jpg
END:VEVENT
BEGIN:VEVENT
DTSTART;TZID=UTC:20340402T140000
DTEND;TZID=UTC:20340402T160000
DTSTAMP:20260424T215125
CREATED:20260209T111455Z
LAST-MODIFIED:20260209T111455Z
UID:10039010-2027599200-2027606400@discovercrewe.co.uk
SUMMARY:Geeky Quiz
DESCRIPTION:Every Sunday afternoon at The Lizards Lair Gaming Co\, they have a geeky quiz from 2pm until 4pm. \nCovering all topics from sci-fi\, games\, comics and fantasy its a trivia quiz fun for all nerds. \nThere will be prizes on offer and it’s completely free to take part. \nFor more information please visit here. \nImage (The Lizards Lair Gaming Co)
URL:https://discovercrewe.co.uk/event/geeky-quiz/2034-04-02/
LOCATION:Lizards Lair\, 22 Victoria Centre\, Crewe\, CW1 2PU\, United Kingdom
CATEGORIES:Lizards Lair,Town Centre
ATTACH;FMTTYPE=image/jpeg:https://discovercrewe.co.uk/wp-content/uploads/2026/02/geeky-quiz.jpg
END:VEVENT
BEGIN:VEVENT
DTSTART;TZID=UTC:20340409T140000
DTEND;TZID=UTC:20340409T160000
DTSTAMP:20260424T215125
CREATED:20260209T111455Z
LAST-MODIFIED:20260209T111455Z
UID:10039011-2028204000-2028211200@discovercrewe.co.uk
SUMMARY:Geeky Quiz
DESCRIPTION:Every Sunday afternoon at The Lizards Lair Gaming Co\, they have a geeky quiz from 2pm until 4pm. \nCovering all topics from sci-fi\, games\, comics and fantasy its a trivia quiz fun for all nerds. \nThere will be prizes on offer and it’s completely free to take part. \nFor more information please visit here. \nImage (The Lizards Lair Gaming Co)
URL:https://discovercrewe.co.uk/event/geeky-quiz/2034-04-09/
LOCATION:Lizards Lair\, 22 Victoria Centre\, Crewe\, CW1 2PU\, United Kingdom
CATEGORIES:Lizards Lair,Town Centre
ATTACH;FMTTYPE=image/jpeg:https://discovercrewe.co.uk/wp-content/uploads/2026/02/geeky-quiz.jpg
END:VEVENT
BEGIN:VEVENT
DTSTART;TZID=UTC:20340416T140000
DTEND;TZID=UTC:20340416T160000
DTSTAMP:20260424T215125
CREATED:20260209T111455Z
LAST-MODIFIED:20260209T111455Z
UID:10039012-2028808800-2028816000@discovercrewe.co.uk
SUMMARY:Geeky Quiz
DESCRIPTION:Every Sunday afternoon at The Lizards Lair Gaming Co\, they have a geeky quiz from 2pm until 4pm. \nCovering all topics from sci-fi\, games\, comics and fantasy its a trivia quiz fun for all nerds. \nThere will be prizes on offer and it’s completely free to take part. \nFor more information please visit here. \nImage (The Lizards Lair Gaming Co)
URL:https://discovercrewe.co.uk/event/geeky-quiz/2034-04-16/
LOCATION:Lizards Lair\, 22 Victoria Centre\, Crewe\, CW1 2PU\, United Kingdom
CATEGORIES:Lizards Lair,Town Centre
ATTACH;FMTTYPE=image/jpeg:https://discovercrewe.co.uk/wp-content/uploads/2026/02/geeky-quiz.jpg
END:VEVENT
BEGIN:VEVENT
DTSTART;TZID=UTC:20340423T140000
DTEND;TZID=UTC:20340423T160000
DTSTAMP:20260424T215125
CREATED:20260209T111455Z
LAST-MODIFIED:20260209T111455Z
UID:10039013-2029413600-2029420800@discovercrewe.co.uk
SUMMARY:Geeky Quiz
DESCRIPTION:Every Sunday afternoon at The Lizards Lair Gaming Co\, they have a geeky quiz from 2pm until 4pm. \nCovering all topics from sci-fi\, games\, comics and fantasy its a trivia quiz fun for all nerds. \nThere will be prizes on offer and it’s completely free to take part. \nFor more information please visit here. \nImage (The Lizards Lair Gaming Co)
URL:https://discovercrewe.co.uk/event/geeky-quiz/2034-04-23/
LOCATION:Lizards Lair\, 22 Victoria Centre\, Crewe\, CW1 2PU\, United Kingdom
CATEGORIES:Lizards Lair,Town Centre
ATTACH;FMTTYPE=image/jpeg:https://discovercrewe.co.uk/wp-content/uploads/2026/02/geeky-quiz.jpg
END:VEVENT
BEGIN:VEVENT
DTSTART;TZID=UTC:20340430T140000
DTEND;TZID=UTC:20340430T160000
DTSTAMP:20260424T215125
CREATED:20260209T111455Z
LAST-MODIFIED:20260209T111455Z
UID:10039014-2030018400-2030025600@discovercrewe.co.uk
SUMMARY:Geeky Quiz
DESCRIPTION:Every Sunday afternoon at The Lizards Lair Gaming Co\, they have a geeky quiz from 2pm until 4pm. \nCovering all topics from sci-fi\, games\, comics and fantasy its a trivia quiz fun for all nerds. \nThere will be prizes on offer and it’s completely free to take part. \nFor more information please visit here. \nImage (The Lizards Lair Gaming Co)
URL:https://discovercrewe.co.uk/event/geeky-quiz/2034-04-30/
LOCATION:Lizards Lair\, 22 Victoria Centre\, Crewe\, CW1 2PU\, United Kingdom
CATEGORIES:Lizards Lair,Town Centre
ATTACH;FMTTYPE=image/jpeg:https://discovercrewe.co.uk/wp-content/uploads/2026/02/geeky-quiz.jpg
END:VEVENT
BEGIN:VEVENT
DTSTART;TZID=UTC:20340507T140000
DTEND;TZID=UTC:20340507T160000
DTSTAMP:20260424T215125
CREATED:20260209T111455Z
LAST-MODIFIED:20260209T111455Z
UID:10039015-2030623200-2030630400@discovercrewe.co.uk
SUMMARY:Geeky Quiz
DESCRIPTION:Every Sunday afternoon at The Lizards Lair Gaming Co\, they have a geeky quiz from 2pm until 4pm. \nCovering all topics from sci-fi\, games\, comics and fantasy its a trivia quiz fun for all nerds. \nThere will be prizes on offer and it’s completely free to take part. \nFor more information please visit here. \nImage (The Lizards Lair Gaming Co)
URL:https://discovercrewe.co.uk/event/geeky-quiz/2034-05-07/
LOCATION:Lizards Lair\, 22 Victoria Centre\, Crewe\, CW1 2PU\, United Kingdom
CATEGORIES:Lizards Lair,Town Centre
ATTACH;FMTTYPE=image/jpeg:https://discovercrewe.co.uk/wp-content/uploads/2026/02/geeky-quiz.jpg
END:VEVENT
BEGIN:VEVENT
DTSTART;TZID=UTC:20340514T140000
DTEND;TZID=UTC:20340514T160000
DTSTAMP:20260424T215125
CREATED:20260209T111455Z
LAST-MODIFIED:20260209T111455Z
UID:10039016-2031228000-2031235200@discovercrewe.co.uk
SUMMARY:Geeky Quiz
DESCRIPTION:Every Sunday afternoon at The Lizards Lair Gaming Co\, they have a geeky quiz from 2pm until 4pm. \nCovering all topics from sci-fi\, games\, comics and fantasy its a trivia quiz fun for all nerds. \nThere will be prizes on offer and it’s completely free to take part. \nFor more information please visit here. \nImage (The Lizards Lair Gaming Co)
URL:https://discovercrewe.co.uk/event/geeky-quiz/2034-05-14/
LOCATION:Lizards Lair\, 22 Victoria Centre\, Crewe\, CW1 2PU\, United Kingdom
CATEGORIES:Lizards Lair,Town Centre
ATTACH;FMTTYPE=image/jpeg:https://discovercrewe.co.uk/wp-content/uploads/2026/02/geeky-quiz.jpg
END:VEVENT
BEGIN:VEVENT
DTSTART;TZID=UTC:20340521T140000
DTEND;TZID=UTC:20340521T160000
DTSTAMP:20260424T215125
CREATED:20260209T111455Z
LAST-MODIFIED:20260209T111455Z
UID:10039017-2031832800-2031840000@discovercrewe.co.uk
SUMMARY:Geeky Quiz
DESCRIPTION:Every Sunday afternoon at The Lizards Lair Gaming Co\, they have a geeky quiz from 2pm until 4pm. \nCovering all topics from sci-fi\, games\, comics and fantasy its a trivia quiz fun for all nerds. \nThere will be prizes on offer and it’s completely free to take part. \nFor more information please visit here. \nImage (The Lizards Lair Gaming Co)
URL:https://discovercrewe.co.uk/event/geeky-quiz/2034-05-21/
LOCATION:Lizards Lair\, 22 Victoria Centre\, Crewe\, CW1 2PU\, United Kingdom
CATEGORIES:Lizards Lair,Town Centre
ATTACH;FMTTYPE=image/jpeg:https://discovercrewe.co.uk/wp-content/uploads/2026/02/geeky-quiz.jpg
END:VEVENT
BEGIN:VEVENT
DTSTART;TZID=UTC:20340528T140000
DTEND;TZID=UTC:20340528T160000
DTSTAMP:20260424T215125
CREATED:20260209T111455Z
LAST-MODIFIED:20260209T111455Z
UID:10039018-2032437600-2032444800@discovercrewe.co.uk
SUMMARY:Geeky Quiz
DESCRIPTION:Every Sunday afternoon at The Lizards Lair Gaming Co\, they have a geeky quiz from 2pm until 4pm. \nCovering all topics from sci-fi\, games\, comics and fantasy its a trivia quiz fun for all nerds. \nThere will be prizes on offer and it’s completely free to take part. \nFor more information please visit here. \nImage (The Lizards Lair Gaming Co)
URL:https://discovercrewe.co.uk/event/geeky-quiz/2034-05-28/
LOCATION:Lizards Lair\, 22 Victoria Centre\, Crewe\, CW1 2PU\, United Kingdom
CATEGORIES:Lizards Lair,Town Centre
ATTACH;FMTTYPE=image/jpeg:https://discovercrewe.co.uk/wp-content/uploads/2026/02/geeky-quiz.jpg
END:VEVENT
BEGIN:VEVENT
DTSTART;TZID=UTC:20340604T140000
DTEND;TZID=UTC:20340604T160000
DTSTAMP:20260424T215125
CREATED:20260209T111455Z
LAST-MODIFIED:20260209T111455Z
UID:10039019-2033042400-2033049600@discovercrewe.co.uk
SUMMARY:Geeky Quiz
DESCRIPTION:Every Sunday afternoon at The Lizards Lair Gaming Co\, they have a geeky quiz from 2pm until 4pm. \nCovering all topics from sci-fi\, games\, comics and fantasy its a trivia quiz fun for all nerds. \nThere will be prizes on offer and it’s completely free to take part. \nFor more information please visit here. \nImage (The Lizards Lair Gaming Co)
URL:https://discovercrewe.co.uk/event/geeky-quiz/2034-06-04/
LOCATION:Lizards Lair\, 22 Victoria Centre\, Crewe\, CW1 2PU\, United Kingdom
CATEGORIES:Lizards Lair,Town Centre
ATTACH;FMTTYPE=image/jpeg:https://discovercrewe.co.uk/wp-content/uploads/2026/02/geeky-quiz.jpg
END:VEVENT
BEGIN:VEVENT
DTSTART;TZID=UTC:20340611T140000
DTEND;TZID=UTC:20340611T160000
DTSTAMP:20260424T215125
CREATED:20260209T111455Z
LAST-MODIFIED:20260209T111455Z
UID:10039020-2033647200-2033654400@discovercrewe.co.uk
SUMMARY:Geeky Quiz
DESCRIPTION:Every Sunday afternoon at The Lizards Lair Gaming Co\, they have a geeky quiz from 2pm until 4pm. \nCovering all topics from sci-fi\, games\, comics and fantasy its a trivia quiz fun for all nerds. \nThere will be prizes on offer and it’s completely free to take part. \nFor more information please visit here. \nImage (The Lizards Lair Gaming Co)
URL:https://discovercrewe.co.uk/event/geeky-quiz/2034-06-11/
LOCATION:Lizards Lair\, 22 Victoria Centre\, Crewe\, CW1 2PU\, United Kingdom
CATEGORIES:Lizards Lair,Town Centre
ATTACH;FMTTYPE=image/jpeg:https://discovercrewe.co.uk/wp-content/uploads/2026/02/geeky-quiz.jpg
END:VEVENT
BEGIN:VEVENT
DTSTART;TZID=UTC:20340618T140000
DTEND;TZID=UTC:20340618T160000
DTSTAMP:20260424T215125
CREATED:20260209T111455Z
LAST-MODIFIED:20260209T111455Z
UID:10039021-2034252000-2034259200@discovercrewe.co.uk
SUMMARY:Geeky Quiz
DESCRIPTION:Every Sunday afternoon at The Lizards Lair Gaming Co\, they have a geeky quiz from 2pm until 4pm. \nCovering all topics from sci-fi\, games\, comics and fantasy its a trivia quiz fun for all nerds. \nThere will be prizes on offer and it’s completely free to take part. \nFor more information please visit here. \nImage (The Lizards Lair Gaming Co)
URL:https://discovercrewe.co.uk/event/geeky-quiz/2034-06-18/
LOCATION:Lizards Lair\, 22 Victoria Centre\, Crewe\, CW1 2PU\, United Kingdom
CATEGORIES:Lizards Lair,Town Centre
ATTACH;FMTTYPE=image/jpeg:https://discovercrewe.co.uk/wp-content/uploads/2026/02/geeky-quiz.jpg
END:VEVENT
END:VCALENDAR