BEGIN:VCALENDAR
VERSION:2.0
PRODID:-//Discover Crewe - ECPv6.15.15//NONSGML v1.0//EN
CALSCALE:GREGORIAN
METHOD:PUBLISH
X-WR-CALNAME:Discover Crewe
X-ORIGINAL-URL:https://discovercrewe.co.uk
X-WR-CALDESC:Events for Discover Crewe
REFRESH-INTERVAL;VALUE=DURATION:PT1H
X-Robots-Tag:noindex
X-PUBLISHED-TTL:PT1H
BEGIN:VTIMEZONE
TZID:UTC
BEGIN:STANDARD
TZOFFSETFROM:+0000
TZOFFSETTO:+0000
TZNAME:UTC
DTSTART:20320101T000000
END:STANDARD
END:VTIMEZONE
BEGIN:VEVENT
DTSTART;TZID=UTC:20330724T140000
DTEND;TZID=UTC:20330724T160000
DTSTAMP:20260424T200933
CREATED:20260209T111455Z
LAST-MODIFIED:20260209T111455Z
UID:10038974-2005826400-2005833600@discovercrewe.co.uk
SUMMARY:Geeky Quiz
DESCRIPTION:Every Sunday afternoon at The Lizards Lair Gaming Co\, they have a geeky quiz from 2pm until 4pm. \nCovering all topics from sci-fi\, games\, comics and fantasy its a trivia quiz fun for all nerds. \nThere will be prizes on offer and it’s completely free to take part. \nFor more information please visit here. \nImage (The Lizards Lair Gaming Co)
URL:https://discovercrewe.co.uk/event/geeky-quiz/2033-07-24/
LOCATION:Lizards Lair\, 22 Victoria Centre\, Crewe\, CW1 2PU\, United Kingdom
CATEGORIES:Lizards Lair,Town Centre
ATTACH;FMTTYPE=image/jpeg:https://discovercrewe.co.uk/wp-content/uploads/2026/02/geeky-quiz.jpg
END:VEVENT
BEGIN:VEVENT
DTSTART;TZID=UTC:20330731T140000
DTEND;TZID=UTC:20330731T160000
DTSTAMP:20260424T200933
CREATED:20260209T111455Z
LAST-MODIFIED:20260209T111455Z
UID:10038975-2006431200-2006438400@discovercrewe.co.uk
SUMMARY:Geeky Quiz
DESCRIPTION:Every Sunday afternoon at The Lizards Lair Gaming Co\, they have a geeky quiz from 2pm until 4pm. \nCovering all topics from sci-fi\, games\, comics and fantasy its a trivia quiz fun for all nerds. \nThere will be prizes on offer and it’s completely free to take part. \nFor more information please visit here. \nImage (The Lizards Lair Gaming Co)
URL:https://discovercrewe.co.uk/event/geeky-quiz/2033-07-31/
LOCATION:Lizards Lair\, 22 Victoria Centre\, Crewe\, CW1 2PU\, United Kingdom
CATEGORIES:Lizards Lair,Town Centre
ATTACH;FMTTYPE=image/jpeg:https://discovercrewe.co.uk/wp-content/uploads/2026/02/geeky-quiz.jpg
END:VEVENT
BEGIN:VEVENT
DTSTART;TZID=UTC:20330807T140000
DTEND;TZID=UTC:20330807T160000
DTSTAMP:20260424T200933
CREATED:20260209T111455Z
LAST-MODIFIED:20260209T111455Z
UID:10038976-2007036000-2007043200@discovercrewe.co.uk
SUMMARY:Geeky Quiz
DESCRIPTION:Every Sunday afternoon at The Lizards Lair Gaming Co\, they have a geeky quiz from 2pm until 4pm. \nCovering all topics from sci-fi\, games\, comics and fantasy its a trivia quiz fun for all nerds. \nThere will be prizes on offer and it’s completely free to take part. \nFor more information please visit here. \nImage (The Lizards Lair Gaming Co)
URL:https://discovercrewe.co.uk/event/geeky-quiz/2033-08-07/
LOCATION:Lizards Lair\, 22 Victoria Centre\, Crewe\, CW1 2PU\, United Kingdom
CATEGORIES:Lizards Lair,Town Centre
ATTACH;FMTTYPE=image/jpeg:https://discovercrewe.co.uk/wp-content/uploads/2026/02/geeky-quiz.jpg
END:VEVENT
BEGIN:VEVENT
DTSTART;TZID=UTC:20330814T140000
DTEND;TZID=UTC:20330814T160000
DTSTAMP:20260424T200933
CREATED:20260209T111455Z
LAST-MODIFIED:20260209T111455Z
UID:10038977-2007640800-2007648000@discovercrewe.co.uk
SUMMARY:Geeky Quiz
DESCRIPTION:Every Sunday afternoon at The Lizards Lair Gaming Co\, they have a geeky quiz from 2pm until 4pm. \nCovering all topics from sci-fi\, games\, comics and fantasy its a trivia quiz fun for all nerds. \nThere will be prizes on offer and it’s completely free to take part. \nFor more information please visit here. \nImage (The Lizards Lair Gaming Co)
URL:https://discovercrewe.co.uk/event/geeky-quiz/2033-08-14/
LOCATION:Lizards Lair\, 22 Victoria Centre\, Crewe\, CW1 2PU\, United Kingdom
CATEGORIES:Lizards Lair,Town Centre
ATTACH;FMTTYPE=image/jpeg:https://discovercrewe.co.uk/wp-content/uploads/2026/02/geeky-quiz.jpg
END:VEVENT
BEGIN:VEVENT
DTSTART;TZID=UTC:20330821T140000
DTEND;TZID=UTC:20330821T160000
DTSTAMP:20260424T200933
CREATED:20260209T111455Z
LAST-MODIFIED:20260209T111455Z
UID:10038978-2008245600-2008252800@discovercrewe.co.uk
SUMMARY:Geeky Quiz
DESCRIPTION:Every Sunday afternoon at The Lizards Lair Gaming Co\, they have a geeky quiz from 2pm until 4pm. \nCovering all topics from sci-fi\, games\, comics and fantasy its a trivia quiz fun for all nerds. \nThere will be prizes on offer and it’s completely free to take part. \nFor more information please visit here. \nImage (The Lizards Lair Gaming Co)
URL:https://discovercrewe.co.uk/event/geeky-quiz/2033-08-21/
LOCATION:Lizards Lair\, 22 Victoria Centre\, Crewe\, CW1 2PU\, United Kingdom
CATEGORIES:Lizards Lair,Town Centre
ATTACH;FMTTYPE=image/jpeg:https://discovercrewe.co.uk/wp-content/uploads/2026/02/geeky-quiz.jpg
END:VEVENT
BEGIN:VEVENT
DTSTART;TZID=UTC:20330828T140000
DTEND;TZID=UTC:20330828T160000
DTSTAMP:20260424T200933
CREATED:20260209T111455Z
LAST-MODIFIED:20260209T111455Z
UID:10038979-2008850400-2008857600@discovercrewe.co.uk
SUMMARY:Geeky Quiz
DESCRIPTION:Every Sunday afternoon at The Lizards Lair Gaming Co\, they have a geeky quiz from 2pm until 4pm. \nCovering all topics from sci-fi\, games\, comics and fantasy its a trivia quiz fun for all nerds. \nThere will be prizes on offer and it’s completely free to take part. \nFor more information please visit here. \nImage (The Lizards Lair Gaming Co)
URL:https://discovercrewe.co.uk/event/geeky-quiz/2033-08-28/
LOCATION:Lizards Lair\, 22 Victoria Centre\, Crewe\, CW1 2PU\, United Kingdom
CATEGORIES:Lizards Lair,Town Centre
ATTACH;FMTTYPE=image/jpeg:https://discovercrewe.co.uk/wp-content/uploads/2026/02/geeky-quiz.jpg
END:VEVENT
BEGIN:VEVENT
DTSTART;TZID=UTC:20330904T140000
DTEND;TZID=UTC:20330904T160000
DTSTAMP:20260424T200933
CREATED:20260209T111455Z
LAST-MODIFIED:20260209T111455Z
UID:10038980-2009455200-2009462400@discovercrewe.co.uk
SUMMARY:Geeky Quiz
DESCRIPTION:Every Sunday afternoon at The Lizards Lair Gaming Co\, they have a geeky quiz from 2pm until 4pm. \nCovering all topics from sci-fi\, games\, comics and fantasy its a trivia quiz fun for all nerds. \nThere will be prizes on offer and it’s completely free to take part. \nFor more information please visit here. \nImage (The Lizards Lair Gaming Co)
URL:https://discovercrewe.co.uk/event/geeky-quiz/2033-09-04/
LOCATION:Lizards Lair\, 22 Victoria Centre\, Crewe\, CW1 2PU\, United Kingdom
CATEGORIES:Lizards Lair,Town Centre
ATTACH;FMTTYPE=image/jpeg:https://discovercrewe.co.uk/wp-content/uploads/2026/02/geeky-quiz.jpg
END:VEVENT
BEGIN:VEVENT
DTSTART;TZID=UTC:20330911T140000
DTEND;TZID=UTC:20330911T160000
DTSTAMP:20260424T200933
CREATED:20260209T111455Z
LAST-MODIFIED:20260209T111455Z
UID:10038981-2010060000-2010067200@discovercrewe.co.uk
SUMMARY:Geeky Quiz
DESCRIPTION:Every Sunday afternoon at The Lizards Lair Gaming Co\, they have a geeky quiz from 2pm until 4pm. \nCovering all topics from sci-fi\, games\, comics and fantasy its a trivia quiz fun for all nerds. \nThere will be prizes on offer and it’s completely free to take part. \nFor more information please visit here. \nImage (The Lizards Lair Gaming Co)
URL:https://discovercrewe.co.uk/event/geeky-quiz/2033-09-11/
LOCATION:Lizards Lair\, 22 Victoria Centre\, Crewe\, CW1 2PU\, United Kingdom
CATEGORIES:Lizards Lair,Town Centre
ATTACH;FMTTYPE=image/jpeg:https://discovercrewe.co.uk/wp-content/uploads/2026/02/geeky-quiz.jpg
END:VEVENT
BEGIN:VEVENT
DTSTART;TZID=UTC:20330918T140000
DTEND;TZID=UTC:20330918T160000
DTSTAMP:20260424T200933
CREATED:20260209T111455Z
LAST-MODIFIED:20260209T111455Z
UID:10038982-2010664800-2010672000@discovercrewe.co.uk
SUMMARY:Geeky Quiz
DESCRIPTION:Every Sunday afternoon at The Lizards Lair Gaming Co\, they have a geeky quiz from 2pm until 4pm. \nCovering all topics from sci-fi\, games\, comics and fantasy its a trivia quiz fun for all nerds. \nThere will be prizes on offer and it’s completely free to take part. \nFor more information please visit here. \nImage (The Lizards Lair Gaming Co)
URL:https://discovercrewe.co.uk/event/geeky-quiz/2033-09-18/
LOCATION:Lizards Lair\, 22 Victoria Centre\, Crewe\, CW1 2PU\, United Kingdom
CATEGORIES:Lizards Lair,Town Centre
ATTACH;FMTTYPE=image/jpeg:https://discovercrewe.co.uk/wp-content/uploads/2026/02/geeky-quiz.jpg
END:VEVENT
BEGIN:VEVENT
DTSTART;TZID=UTC:20330925T140000
DTEND;TZID=UTC:20330925T160000
DTSTAMP:20260424T200933
CREATED:20260209T111455Z
LAST-MODIFIED:20260209T111455Z
UID:10038983-2011269600-2011276800@discovercrewe.co.uk
SUMMARY:Geeky Quiz
DESCRIPTION:Every Sunday afternoon at The Lizards Lair Gaming Co\, they have a geeky quiz from 2pm until 4pm. \nCovering all topics from sci-fi\, games\, comics and fantasy its a trivia quiz fun for all nerds. \nThere will be prizes on offer and it’s completely free to take part. \nFor more information please visit here. \nImage (The Lizards Lair Gaming Co)
URL:https://discovercrewe.co.uk/event/geeky-quiz/2033-09-25/
LOCATION:Lizards Lair\, 22 Victoria Centre\, Crewe\, CW1 2PU\, United Kingdom
CATEGORIES:Lizards Lair,Town Centre
ATTACH;FMTTYPE=image/jpeg:https://discovercrewe.co.uk/wp-content/uploads/2026/02/geeky-quiz.jpg
END:VEVENT
BEGIN:VEVENT
DTSTART;TZID=UTC:20331002T140000
DTEND;TZID=UTC:20331002T160000
DTSTAMP:20260424T200933
CREATED:20260209T111455Z
LAST-MODIFIED:20260209T111455Z
UID:10038984-2011874400-2011881600@discovercrewe.co.uk
SUMMARY:Geeky Quiz
DESCRIPTION:Every Sunday afternoon at The Lizards Lair Gaming Co\, they have a geeky quiz from 2pm until 4pm. \nCovering all topics from sci-fi\, games\, comics and fantasy its a trivia quiz fun for all nerds. \nThere will be prizes on offer and it’s completely free to take part. \nFor more information please visit here. \nImage (The Lizards Lair Gaming Co)
URL:https://discovercrewe.co.uk/event/geeky-quiz/2033-10-02/
LOCATION:Lizards Lair\, 22 Victoria Centre\, Crewe\, CW1 2PU\, United Kingdom
CATEGORIES:Lizards Lair,Town Centre
ATTACH;FMTTYPE=image/jpeg:https://discovercrewe.co.uk/wp-content/uploads/2026/02/geeky-quiz.jpg
END:VEVENT
BEGIN:VEVENT
DTSTART;TZID=UTC:20331009T140000
DTEND;TZID=UTC:20331009T160000
DTSTAMP:20260424T200933
CREATED:20260209T111455Z
LAST-MODIFIED:20260209T111455Z
UID:10038985-2012479200-2012486400@discovercrewe.co.uk
SUMMARY:Geeky Quiz
DESCRIPTION:Every Sunday afternoon at The Lizards Lair Gaming Co\, they have a geeky quiz from 2pm until 4pm. \nCovering all topics from sci-fi\, games\, comics and fantasy its a trivia quiz fun for all nerds. \nThere will be prizes on offer and it’s completely free to take part. \nFor more information please visit here. \nImage (The Lizards Lair Gaming Co)
URL:https://discovercrewe.co.uk/event/geeky-quiz/2033-10-09/
LOCATION:Lizards Lair\, 22 Victoria Centre\, Crewe\, CW1 2PU\, United Kingdom
CATEGORIES:Lizards Lair,Town Centre
ATTACH;FMTTYPE=image/jpeg:https://discovercrewe.co.uk/wp-content/uploads/2026/02/geeky-quiz.jpg
END:VEVENT
BEGIN:VEVENT
DTSTART;TZID=UTC:20331016T140000
DTEND;TZID=UTC:20331016T160000
DTSTAMP:20260424T200933
CREATED:20260209T111455Z
LAST-MODIFIED:20260209T111455Z
UID:10038986-2013084000-2013091200@discovercrewe.co.uk
SUMMARY:Geeky Quiz
DESCRIPTION:Every Sunday afternoon at The Lizards Lair Gaming Co\, they have a geeky quiz from 2pm until 4pm. \nCovering all topics from sci-fi\, games\, comics and fantasy its a trivia quiz fun for all nerds. \nThere will be prizes on offer and it’s completely free to take part. \nFor more information please visit here. \nImage (The Lizards Lair Gaming Co)
URL:https://discovercrewe.co.uk/event/geeky-quiz/2033-10-16/
LOCATION:Lizards Lair\, 22 Victoria Centre\, Crewe\, CW1 2PU\, United Kingdom
CATEGORIES:Lizards Lair,Town Centre
ATTACH;FMTTYPE=image/jpeg:https://discovercrewe.co.uk/wp-content/uploads/2026/02/geeky-quiz.jpg
END:VEVENT
BEGIN:VEVENT
DTSTART;TZID=UTC:20331023T140000
DTEND;TZID=UTC:20331023T160000
DTSTAMP:20260424T200933
CREATED:20260209T111455Z
LAST-MODIFIED:20260209T111455Z
UID:10038987-2013688800-2013696000@discovercrewe.co.uk
SUMMARY:Geeky Quiz
DESCRIPTION:Every Sunday afternoon at The Lizards Lair Gaming Co\, they have a geeky quiz from 2pm until 4pm. \nCovering all topics from sci-fi\, games\, comics and fantasy its a trivia quiz fun for all nerds. \nThere will be prizes on offer and it’s completely free to take part. \nFor more information please visit here. \nImage (The Lizards Lair Gaming Co)
URL:https://discovercrewe.co.uk/event/geeky-quiz/2033-10-23/
LOCATION:Lizards Lair\, 22 Victoria Centre\, Crewe\, CW1 2PU\, United Kingdom
CATEGORIES:Lizards Lair,Town Centre
ATTACH;FMTTYPE=image/jpeg:https://discovercrewe.co.uk/wp-content/uploads/2026/02/geeky-quiz.jpg
END:VEVENT
BEGIN:VEVENT
DTSTART;TZID=UTC:20331030T140000
DTEND;TZID=UTC:20331030T160000
DTSTAMP:20260424T200933
CREATED:20260209T111455Z
LAST-MODIFIED:20260209T111455Z
UID:10038988-2014293600-2014300800@discovercrewe.co.uk
SUMMARY:Geeky Quiz
DESCRIPTION:Every Sunday afternoon at The Lizards Lair Gaming Co\, they have a geeky quiz from 2pm until 4pm. \nCovering all topics from sci-fi\, games\, comics and fantasy its a trivia quiz fun for all nerds. \nThere will be prizes on offer and it’s completely free to take part. \nFor more information please visit here. \nImage (The Lizards Lair Gaming Co)
URL:https://discovercrewe.co.uk/event/geeky-quiz/2033-10-30/
LOCATION:Lizards Lair\, 22 Victoria Centre\, Crewe\, CW1 2PU\, United Kingdom
CATEGORIES:Lizards Lair,Town Centre
ATTACH;FMTTYPE=image/jpeg:https://discovercrewe.co.uk/wp-content/uploads/2026/02/geeky-quiz.jpg
END:VEVENT
BEGIN:VEVENT
DTSTART;TZID=UTC:20331106T140000
DTEND;TZID=UTC:20331106T160000
DTSTAMP:20260424T200933
CREATED:20260209T111455Z
LAST-MODIFIED:20260209T111455Z
UID:10038989-2014898400-2014905600@discovercrewe.co.uk
SUMMARY:Geeky Quiz
DESCRIPTION:Every Sunday afternoon at The Lizards Lair Gaming Co\, they have a geeky quiz from 2pm until 4pm. \nCovering all topics from sci-fi\, games\, comics and fantasy its a trivia quiz fun for all nerds. \nThere will be prizes on offer and it’s completely free to take part. \nFor more information please visit here. \nImage (The Lizards Lair Gaming Co)
URL:https://discovercrewe.co.uk/event/geeky-quiz/2033-11-06/
LOCATION:Lizards Lair\, 22 Victoria Centre\, Crewe\, CW1 2PU\, United Kingdom
CATEGORIES:Lizards Lair,Town Centre
ATTACH;FMTTYPE=image/jpeg:https://discovercrewe.co.uk/wp-content/uploads/2026/02/geeky-quiz.jpg
END:VEVENT
BEGIN:VEVENT
DTSTART;TZID=UTC:20331113T140000
DTEND;TZID=UTC:20331113T160000
DTSTAMP:20260424T200933
CREATED:20260209T111455Z
LAST-MODIFIED:20260209T111455Z
UID:10038990-2015503200-2015510400@discovercrewe.co.uk
SUMMARY:Geeky Quiz
DESCRIPTION:Every Sunday afternoon at The Lizards Lair Gaming Co\, they have a geeky quiz from 2pm until 4pm. \nCovering all topics from sci-fi\, games\, comics and fantasy its a trivia quiz fun for all nerds. \nThere will be prizes on offer and it’s completely free to take part. \nFor more information please visit here. \nImage (The Lizards Lair Gaming Co)
URL:https://discovercrewe.co.uk/event/geeky-quiz/2033-11-13/
LOCATION:Lizards Lair\, 22 Victoria Centre\, Crewe\, CW1 2PU\, United Kingdom
CATEGORIES:Lizards Lair,Town Centre
ATTACH;FMTTYPE=image/jpeg:https://discovercrewe.co.uk/wp-content/uploads/2026/02/geeky-quiz.jpg
END:VEVENT
BEGIN:VEVENT
DTSTART;TZID=UTC:20331120T140000
DTEND;TZID=UTC:20331120T160000
DTSTAMP:20260424T200933
CREATED:20260209T111455Z
LAST-MODIFIED:20260209T111455Z
UID:10038991-2016108000-2016115200@discovercrewe.co.uk
SUMMARY:Geeky Quiz
DESCRIPTION:Every Sunday afternoon at The Lizards Lair Gaming Co\, they have a geeky quiz from 2pm until 4pm. \nCovering all topics from sci-fi\, games\, comics and fantasy its a trivia quiz fun for all nerds. \nThere will be prizes on offer and it’s completely free to take part. \nFor more information please visit here. \nImage (The Lizards Lair Gaming Co)
URL:https://discovercrewe.co.uk/event/geeky-quiz/2033-11-20/
LOCATION:Lizards Lair\, 22 Victoria Centre\, Crewe\, CW1 2PU\, United Kingdom
CATEGORIES:Lizards Lair,Town Centre
ATTACH;FMTTYPE=image/jpeg:https://discovercrewe.co.uk/wp-content/uploads/2026/02/geeky-quiz.jpg
END:VEVENT
BEGIN:VEVENT
DTSTART;TZID=UTC:20331127T140000
DTEND;TZID=UTC:20331127T160000
DTSTAMP:20260424T200933
CREATED:20260209T111455Z
LAST-MODIFIED:20260209T111455Z
UID:10038992-2016712800-2016720000@discovercrewe.co.uk
SUMMARY:Geeky Quiz
DESCRIPTION:Every Sunday afternoon at The Lizards Lair Gaming Co\, they have a geeky quiz from 2pm until 4pm. \nCovering all topics from sci-fi\, games\, comics and fantasy its a trivia quiz fun for all nerds. \nThere will be prizes on offer and it’s completely free to take part. \nFor more information please visit here. \nImage (The Lizards Lair Gaming Co)
URL:https://discovercrewe.co.uk/event/geeky-quiz/2033-11-27/
LOCATION:Lizards Lair\, 22 Victoria Centre\, Crewe\, CW1 2PU\, United Kingdom
CATEGORIES:Lizards Lair,Town Centre
ATTACH;FMTTYPE=image/jpeg:https://discovercrewe.co.uk/wp-content/uploads/2026/02/geeky-quiz.jpg
END:VEVENT
BEGIN:VEVENT
DTSTART;TZID=UTC:20331204T140000
DTEND;TZID=UTC:20331204T160000
DTSTAMP:20260424T200933
CREATED:20260209T111455Z
LAST-MODIFIED:20260209T111455Z
UID:10038993-2017317600-2017324800@discovercrewe.co.uk
SUMMARY:Geeky Quiz
DESCRIPTION:Every Sunday afternoon at The Lizards Lair Gaming Co\, they have a geeky quiz from 2pm until 4pm. \nCovering all topics from sci-fi\, games\, comics and fantasy its a trivia quiz fun for all nerds. \nThere will be prizes on offer and it’s completely free to take part. \nFor more information please visit here. \nImage (The Lizards Lair Gaming Co)
URL:https://discovercrewe.co.uk/event/geeky-quiz/2033-12-04/
LOCATION:Lizards Lair\, 22 Victoria Centre\, Crewe\, CW1 2PU\, United Kingdom
CATEGORIES:Lizards Lair,Town Centre
ATTACH;FMTTYPE=image/jpeg:https://discovercrewe.co.uk/wp-content/uploads/2026/02/geeky-quiz.jpg
END:VEVENT
BEGIN:VEVENT
DTSTART;TZID=UTC:20331211T140000
DTEND;TZID=UTC:20331211T160000
DTSTAMP:20260424T200933
CREATED:20260209T111455Z
LAST-MODIFIED:20260209T111455Z
UID:10038994-2017922400-2017929600@discovercrewe.co.uk
SUMMARY:Geeky Quiz
DESCRIPTION:Every Sunday afternoon at The Lizards Lair Gaming Co\, they have a geeky quiz from 2pm until 4pm. \nCovering all topics from sci-fi\, games\, comics and fantasy its a trivia quiz fun for all nerds. \nThere will be prizes on offer and it’s completely free to take part. \nFor more information please visit here. \nImage (The Lizards Lair Gaming Co)
URL:https://discovercrewe.co.uk/event/geeky-quiz/2033-12-11/
LOCATION:Lizards Lair\, 22 Victoria Centre\, Crewe\, CW1 2PU\, United Kingdom
CATEGORIES:Lizards Lair,Town Centre
ATTACH;FMTTYPE=image/jpeg:https://discovercrewe.co.uk/wp-content/uploads/2026/02/geeky-quiz.jpg
END:VEVENT
BEGIN:VEVENT
DTSTART;TZID=UTC:20331218T140000
DTEND;TZID=UTC:20331218T160000
DTSTAMP:20260424T200933
CREATED:20260209T111455Z
LAST-MODIFIED:20260209T111455Z
UID:10038995-2018527200-2018534400@discovercrewe.co.uk
SUMMARY:Geeky Quiz
DESCRIPTION:Every Sunday afternoon at The Lizards Lair Gaming Co\, they have a geeky quiz from 2pm until 4pm. \nCovering all topics from sci-fi\, games\, comics and fantasy its a trivia quiz fun for all nerds. \nThere will be prizes on offer and it’s completely free to take part. \nFor more information please visit here. \nImage (The Lizards Lair Gaming Co)
URL:https://discovercrewe.co.uk/event/geeky-quiz/2033-12-18/
LOCATION:Lizards Lair\, 22 Victoria Centre\, Crewe\, CW1 2PU\, United Kingdom
CATEGORIES:Lizards Lair,Town Centre
ATTACH;FMTTYPE=image/jpeg:https://discovercrewe.co.uk/wp-content/uploads/2026/02/geeky-quiz.jpg
END:VEVENT
BEGIN:VEVENT
DTSTART;TZID=UTC:20331225T140000
DTEND;TZID=UTC:20331225T160000
DTSTAMP:20260424T200933
CREATED:20260209T111455Z
LAST-MODIFIED:20260209T111455Z
UID:10038996-2019132000-2019139200@discovercrewe.co.uk
SUMMARY:Geeky Quiz
DESCRIPTION:Every Sunday afternoon at The Lizards Lair Gaming Co\, they have a geeky quiz from 2pm until 4pm. \nCovering all topics from sci-fi\, games\, comics and fantasy its a trivia quiz fun for all nerds. \nThere will be prizes on offer and it’s completely free to take part. \nFor more information please visit here. \nImage (The Lizards Lair Gaming Co)
URL:https://discovercrewe.co.uk/event/geeky-quiz/2033-12-25/
LOCATION:Lizards Lair\, 22 Victoria Centre\, Crewe\, CW1 2PU\, United Kingdom
CATEGORIES:Lizards Lair,Town Centre
ATTACH;FMTTYPE=image/jpeg:https://discovercrewe.co.uk/wp-content/uploads/2026/02/geeky-quiz.jpg
END:VEVENT
BEGIN:VEVENT
DTSTART;TZID=UTC:20340101T140000
DTEND;TZID=UTC:20340101T160000
DTSTAMP:20260424T200933
CREATED:20260209T111455Z
LAST-MODIFIED:20260209T111455Z
UID:10038997-2019736800-2019744000@discovercrewe.co.uk
SUMMARY:Geeky Quiz
DESCRIPTION:Every Sunday afternoon at The Lizards Lair Gaming Co\, they have a geeky quiz from 2pm until 4pm. \nCovering all topics from sci-fi\, games\, comics and fantasy its a trivia quiz fun for all nerds. \nThere will be prizes on offer and it’s completely free to take part. \nFor more information please visit here. \nImage (The Lizards Lair Gaming Co)
URL:https://discovercrewe.co.uk/event/geeky-quiz/2034-01-01/
LOCATION:Lizards Lair\, 22 Victoria Centre\, Crewe\, CW1 2PU\, United Kingdom
CATEGORIES:Lizards Lair,Town Centre
ATTACH;FMTTYPE=image/jpeg:https://discovercrewe.co.uk/wp-content/uploads/2026/02/geeky-quiz.jpg
END:VEVENT
BEGIN:VEVENT
DTSTART;TZID=UTC:20340108T140000
DTEND;TZID=UTC:20340108T160000
DTSTAMP:20260424T200933
CREATED:20260209T111455Z
LAST-MODIFIED:20260209T111455Z
UID:10038998-2020341600-2020348800@discovercrewe.co.uk
SUMMARY:Geeky Quiz
DESCRIPTION:Every Sunday afternoon at The Lizards Lair Gaming Co\, they have a geeky quiz from 2pm until 4pm. \nCovering all topics from sci-fi\, games\, comics and fantasy its a trivia quiz fun for all nerds. \nThere will be prizes on offer and it’s completely free to take part. \nFor more information please visit here. \nImage (The Lizards Lair Gaming Co)
URL:https://discovercrewe.co.uk/event/geeky-quiz/2034-01-08/
LOCATION:Lizards Lair\, 22 Victoria Centre\, Crewe\, CW1 2PU\, United Kingdom
CATEGORIES:Lizards Lair,Town Centre
ATTACH;FMTTYPE=image/jpeg:https://discovercrewe.co.uk/wp-content/uploads/2026/02/geeky-quiz.jpg
END:VEVENT
BEGIN:VEVENT
DTSTART;TZID=UTC:20340115T140000
DTEND;TZID=UTC:20340115T160000
DTSTAMP:20260424T200933
CREATED:20260209T111455Z
LAST-MODIFIED:20260209T111455Z
UID:10038999-2020946400-2020953600@discovercrewe.co.uk
SUMMARY:Geeky Quiz
DESCRIPTION:Every Sunday afternoon at The Lizards Lair Gaming Co\, they have a geeky quiz from 2pm until 4pm. \nCovering all topics from sci-fi\, games\, comics and fantasy its a trivia quiz fun for all nerds. \nThere will be prizes on offer and it’s completely free to take part. \nFor more information please visit here. \nImage (The Lizards Lair Gaming Co)
URL:https://discovercrewe.co.uk/event/geeky-quiz/2034-01-15/
LOCATION:Lizards Lair\, 22 Victoria Centre\, Crewe\, CW1 2PU\, United Kingdom
CATEGORIES:Lizards Lair,Town Centre
ATTACH;FMTTYPE=image/jpeg:https://discovercrewe.co.uk/wp-content/uploads/2026/02/geeky-quiz.jpg
END:VEVENT
BEGIN:VEVENT
DTSTART;TZID=UTC:20340122T140000
DTEND;TZID=UTC:20340122T160000
DTSTAMP:20260424T200933
CREATED:20260209T111455Z
LAST-MODIFIED:20260209T111455Z
UID:10039000-2021551200-2021558400@discovercrewe.co.uk
SUMMARY:Geeky Quiz
DESCRIPTION:Every Sunday afternoon at The Lizards Lair Gaming Co\, they have a geeky quiz from 2pm until 4pm. \nCovering all topics from sci-fi\, games\, comics and fantasy its a trivia quiz fun for all nerds. \nThere will be prizes on offer and it’s completely free to take part. \nFor more information please visit here. \nImage (The Lizards Lair Gaming Co)
URL:https://discovercrewe.co.uk/event/geeky-quiz/2034-01-22/
LOCATION:Lizards Lair\, 22 Victoria Centre\, Crewe\, CW1 2PU\, United Kingdom
CATEGORIES:Lizards Lair,Town Centre
ATTACH;FMTTYPE=image/jpeg:https://discovercrewe.co.uk/wp-content/uploads/2026/02/geeky-quiz.jpg
END:VEVENT
BEGIN:VEVENT
DTSTART;TZID=UTC:20340129T140000
DTEND;TZID=UTC:20340129T160000
DTSTAMP:20260424T200933
CREATED:20260209T111455Z
LAST-MODIFIED:20260209T111455Z
UID:10039001-2022156000-2022163200@discovercrewe.co.uk
SUMMARY:Geeky Quiz
DESCRIPTION:Every Sunday afternoon at The Lizards Lair Gaming Co\, they have a geeky quiz from 2pm until 4pm. \nCovering all topics from sci-fi\, games\, comics and fantasy its a trivia quiz fun for all nerds. \nThere will be prizes on offer and it’s completely free to take part. \nFor more information please visit here. \nImage (The Lizards Lair Gaming Co)
URL:https://discovercrewe.co.uk/event/geeky-quiz/2034-01-29/
LOCATION:Lizards Lair\, 22 Victoria Centre\, Crewe\, CW1 2PU\, United Kingdom
CATEGORIES:Lizards Lair,Town Centre
ATTACH;FMTTYPE=image/jpeg:https://discovercrewe.co.uk/wp-content/uploads/2026/02/geeky-quiz.jpg
END:VEVENT
BEGIN:VEVENT
DTSTART;TZID=UTC:20340205T140000
DTEND;TZID=UTC:20340205T160000
DTSTAMP:20260424T200933
CREATED:20260209T111455Z
LAST-MODIFIED:20260209T111455Z
UID:10039002-2022760800-2022768000@discovercrewe.co.uk
SUMMARY:Geeky Quiz
DESCRIPTION:Every Sunday afternoon at The Lizards Lair Gaming Co\, they have a geeky quiz from 2pm until 4pm. \nCovering all topics from sci-fi\, games\, comics and fantasy its a trivia quiz fun for all nerds. \nThere will be prizes on offer and it’s completely free to take part. \nFor more information please visit here. \nImage (The Lizards Lair Gaming Co)
URL:https://discovercrewe.co.uk/event/geeky-quiz/2034-02-05/
LOCATION:Lizards Lair\, 22 Victoria Centre\, Crewe\, CW1 2PU\, United Kingdom
CATEGORIES:Lizards Lair,Town Centre
ATTACH;FMTTYPE=image/jpeg:https://discovercrewe.co.uk/wp-content/uploads/2026/02/geeky-quiz.jpg
END:VEVENT
BEGIN:VEVENT
DTSTART;TZID=UTC:20340212T140000
DTEND;TZID=UTC:20340212T160000
DTSTAMP:20260424T200933
CREATED:20260209T111455Z
LAST-MODIFIED:20260209T111455Z
UID:10039003-2023365600-2023372800@discovercrewe.co.uk
SUMMARY:Geeky Quiz
DESCRIPTION:Every Sunday afternoon at The Lizards Lair Gaming Co\, they have a geeky quiz from 2pm until 4pm. \nCovering all topics from sci-fi\, games\, comics and fantasy its a trivia quiz fun for all nerds. \nThere will be prizes on offer and it’s completely free to take part. \nFor more information please visit here. \nImage (The Lizards Lair Gaming Co)
URL:https://discovercrewe.co.uk/event/geeky-quiz/2034-02-12/
LOCATION:Lizards Lair\, 22 Victoria Centre\, Crewe\, CW1 2PU\, United Kingdom
CATEGORIES:Lizards Lair,Town Centre
ATTACH;FMTTYPE=image/jpeg:https://discovercrewe.co.uk/wp-content/uploads/2026/02/geeky-quiz.jpg
END:VEVENT
END:VCALENDAR