BEGIN:VCALENDAR
VERSION:2.0
PRODID:-//Discover Crewe - ECPv6.15.15//NONSGML v1.0//EN
CALSCALE:GREGORIAN
METHOD:PUBLISH
X-WR-CALNAME:Discover Crewe
X-ORIGINAL-URL:https://discovercrewe.co.uk
X-WR-CALDESC:Events for Discover Crewe
REFRESH-INTERVAL;VALUE=DURATION:PT1H
X-Robots-Tag:noindex
X-PUBLISHED-TTL:PT1H
BEGIN:VTIMEZONE
TZID:UTC
BEGIN:STANDARD
TZOFFSETFROM:+0000
TZOFFSETTO:+0000
TZNAME:UTC
DTSTART:20320101T000000
END:STANDARD
END:VTIMEZONE
BEGIN:VEVENT
DTSTART;TZID=UTC:20330324T180000
DTEND;TZID=UTC:20330324T210000
DTSTAMP:20260424T101836
CREATED:20260209T115940Z
LAST-MODIFIED:20260209T120234Z
UID:10040523-1995300000-1995310800@discovercrewe.co.uk
SUMMARY:Kill Team & Magic the Gathering
DESCRIPTION:Join Gumshoe Comics & Collectibles every Thursday at Big Mugs on Edleston Road for a games night. \nLearn how to play Warhammer Kill Team and Magic the Gathering or join the veteran gamers for friendly casual play. \nThe weekly event takes place from 6pm until 9pm. \nFor more information please visit here. \nImage (Gumshoe Comics & Collectibles)
URL:https://discovercrewe.co.uk/event/kill-team-magic-the-gathering/2033-03-24/
LOCATION:Big Mugs\, 251 Edleston Road\, Crewe\, CW2 7EA\, United Kingdom
CATEGORIES:Events,Market Hall,Town Centre
ATTACH;FMTTYPE=image/jpeg:https://discovercrewe.co.uk/wp-content/uploads/2026/02/warhammer-magic-the-gathering.jpg
END:VEVENT
BEGIN:VEVENT
DTSTART;TZID=UTC:20330331T180000
DTEND;TZID=UTC:20330331T210000
DTSTAMP:20260424T101836
CREATED:20260209T115940Z
LAST-MODIFIED:20260209T120234Z
UID:10040524-1995904800-1995915600@discovercrewe.co.uk
SUMMARY:Kill Team & Magic the Gathering
DESCRIPTION:Join Gumshoe Comics & Collectibles every Thursday at Big Mugs on Edleston Road for a games night. \nLearn how to play Warhammer Kill Team and Magic the Gathering or join the veteran gamers for friendly casual play. \nThe weekly event takes place from 6pm until 9pm. \nFor more information please visit here. \nImage (Gumshoe Comics & Collectibles)
URL:https://discovercrewe.co.uk/event/kill-team-magic-the-gathering/2033-03-31/
LOCATION:Big Mugs\, 251 Edleston Road\, Crewe\, CW2 7EA\, United Kingdom
CATEGORIES:Events,Market Hall,Town Centre
ATTACH;FMTTYPE=image/jpeg:https://discovercrewe.co.uk/wp-content/uploads/2026/02/warhammer-magic-the-gathering.jpg
END:VEVENT
BEGIN:VEVENT
DTSTART;TZID=UTC:20330407T180000
DTEND;TZID=UTC:20330407T210000
DTSTAMP:20260424T101836
CREATED:20260209T115940Z
LAST-MODIFIED:20260209T120234Z
UID:10040525-1996509600-1996520400@discovercrewe.co.uk
SUMMARY:Kill Team & Magic the Gathering
DESCRIPTION:Join Gumshoe Comics & Collectibles every Thursday at Big Mugs on Edleston Road for a games night. \nLearn how to play Warhammer Kill Team and Magic the Gathering or join the veteran gamers for friendly casual play. \nThe weekly event takes place from 6pm until 9pm. \nFor more information please visit here. \nImage (Gumshoe Comics & Collectibles)
URL:https://discovercrewe.co.uk/event/kill-team-magic-the-gathering/2033-04-07/
LOCATION:Big Mugs\, 251 Edleston Road\, Crewe\, CW2 7EA\, United Kingdom
CATEGORIES:Events,Market Hall,Town Centre
ATTACH;FMTTYPE=image/jpeg:https://discovercrewe.co.uk/wp-content/uploads/2026/02/warhammer-magic-the-gathering.jpg
END:VEVENT
BEGIN:VEVENT
DTSTART;TZID=UTC:20330414T180000
DTEND;TZID=UTC:20330414T210000
DTSTAMP:20260424T101836
CREATED:20260209T115940Z
LAST-MODIFIED:20260209T120234Z
UID:10040526-1997114400-1997125200@discovercrewe.co.uk
SUMMARY:Kill Team & Magic the Gathering
DESCRIPTION:Join Gumshoe Comics & Collectibles every Thursday at Big Mugs on Edleston Road for a games night. \nLearn how to play Warhammer Kill Team and Magic the Gathering or join the veteran gamers for friendly casual play. \nThe weekly event takes place from 6pm until 9pm. \nFor more information please visit here. \nImage (Gumshoe Comics & Collectibles)
URL:https://discovercrewe.co.uk/event/kill-team-magic-the-gathering/2033-04-14/
LOCATION:Big Mugs\, 251 Edleston Road\, Crewe\, CW2 7EA\, United Kingdom
CATEGORIES:Events,Market Hall,Town Centre
ATTACH;FMTTYPE=image/jpeg:https://discovercrewe.co.uk/wp-content/uploads/2026/02/warhammer-magic-the-gathering.jpg
END:VEVENT
BEGIN:VEVENT
DTSTART;TZID=UTC:20330421T180000
DTEND;TZID=UTC:20330421T210000
DTSTAMP:20260424T101836
CREATED:20260209T115940Z
LAST-MODIFIED:20260209T120234Z
UID:10040527-1997719200-1997730000@discovercrewe.co.uk
SUMMARY:Kill Team & Magic the Gathering
DESCRIPTION:Join Gumshoe Comics & Collectibles every Thursday at Big Mugs on Edleston Road for a games night. \nLearn how to play Warhammer Kill Team and Magic the Gathering or join the veteran gamers for friendly casual play. \nThe weekly event takes place from 6pm until 9pm. \nFor more information please visit here. \nImage (Gumshoe Comics & Collectibles)
URL:https://discovercrewe.co.uk/event/kill-team-magic-the-gathering/2033-04-21/
LOCATION:Big Mugs\, 251 Edleston Road\, Crewe\, CW2 7EA\, United Kingdom
CATEGORIES:Events,Market Hall,Town Centre
ATTACH;FMTTYPE=image/jpeg:https://discovercrewe.co.uk/wp-content/uploads/2026/02/warhammer-magic-the-gathering.jpg
END:VEVENT
BEGIN:VEVENT
DTSTART;TZID=UTC:20330428T180000
DTEND;TZID=UTC:20330428T210000
DTSTAMP:20260424T101836
CREATED:20260209T115940Z
LAST-MODIFIED:20260209T120234Z
UID:10040528-1998324000-1998334800@discovercrewe.co.uk
SUMMARY:Kill Team & Magic the Gathering
DESCRIPTION:Join Gumshoe Comics & Collectibles every Thursday at Big Mugs on Edleston Road for a games night. \nLearn how to play Warhammer Kill Team and Magic the Gathering or join the veteran gamers for friendly casual play. \nThe weekly event takes place from 6pm until 9pm. \nFor more information please visit here. \nImage (Gumshoe Comics & Collectibles)
URL:https://discovercrewe.co.uk/event/kill-team-magic-the-gathering/2033-04-28/
LOCATION:Big Mugs\, 251 Edleston Road\, Crewe\, CW2 7EA\, United Kingdom
CATEGORIES:Events,Market Hall,Town Centre
ATTACH;FMTTYPE=image/jpeg:https://discovercrewe.co.uk/wp-content/uploads/2026/02/warhammer-magic-the-gathering.jpg
END:VEVENT
BEGIN:VEVENT
DTSTART;TZID=UTC:20330505T180000
DTEND;TZID=UTC:20330505T210000
DTSTAMP:20260424T101836
CREATED:20260209T115940Z
LAST-MODIFIED:20260209T120234Z
UID:10040529-1998928800-1998939600@discovercrewe.co.uk
SUMMARY:Kill Team & Magic the Gathering
DESCRIPTION:Join Gumshoe Comics & Collectibles every Thursday at Big Mugs on Edleston Road for a games night. \nLearn how to play Warhammer Kill Team and Magic the Gathering or join the veteran gamers for friendly casual play. \nThe weekly event takes place from 6pm until 9pm. \nFor more information please visit here. \nImage (Gumshoe Comics & Collectibles)
URL:https://discovercrewe.co.uk/event/kill-team-magic-the-gathering/2033-05-05/
LOCATION:Big Mugs\, 251 Edleston Road\, Crewe\, CW2 7EA\, United Kingdom
CATEGORIES:Events,Market Hall,Town Centre
ATTACH;FMTTYPE=image/jpeg:https://discovercrewe.co.uk/wp-content/uploads/2026/02/warhammer-magic-the-gathering.jpg
END:VEVENT
BEGIN:VEVENT
DTSTART;TZID=UTC:20330512T180000
DTEND;TZID=UTC:20330512T210000
DTSTAMP:20260424T101836
CREATED:20260209T115940Z
LAST-MODIFIED:20260209T120234Z
UID:10040530-1999533600-1999544400@discovercrewe.co.uk
SUMMARY:Kill Team & Magic the Gathering
DESCRIPTION:Join Gumshoe Comics & Collectibles every Thursday at Big Mugs on Edleston Road for a games night. \nLearn how to play Warhammer Kill Team and Magic the Gathering or join the veteran gamers for friendly casual play. \nThe weekly event takes place from 6pm until 9pm. \nFor more information please visit here. \nImage (Gumshoe Comics & Collectibles)
URL:https://discovercrewe.co.uk/event/kill-team-magic-the-gathering/2033-05-12/
LOCATION:Big Mugs\, 251 Edleston Road\, Crewe\, CW2 7EA\, United Kingdom
CATEGORIES:Events,Market Hall,Town Centre
ATTACH;FMTTYPE=image/jpeg:https://discovercrewe.co.uk/wp-content/uploads/2026/02/warhammer-magic-the-gathering.jpg
END:VEVENT
BEGIN:VEVENT
DTSTART;TZID=UTC:20330519T180000
DTEND;TZID=UTC:20330519T210000
DTSTAMP:20260424T101836
CREATED:20260209T115940Z
LAST-MODIFIED:20260209T120234Z
UID:10040531-2000138400-2000149200@discovercrewe.co.uk
SUMMARY:Kill Team & Magic the Gathering
DESCRIPTION:Join Gumshoe Comics & Collectibles every Thursday at Big Mugs on Edleston Road for a games night. \nLearn how to play Warhammer Kill Team and Magic the Gathering or join the veteran gamers for friendly casual play. \nThe weekly event takes place from 6pm until 9pm. \nFor more information please visit here. \nImage (Gumshoe Comics & Collectibles)
URL:https://discovercrewe.co.uk/event/kill-team-magic-the-gathering/2033-05-19/
LOCATION:Big Mugs\, 251 Edleston Road\, Crewe\, CW2 7EA\, United Kingdom
CATEGORIES:Events,Market Hall,Town Centre
ATTACH;FMTTYPE=image/jpeg:https://discovercrewe.co.uk/wp-content/uploads/2026/02/warhammer-magic-the-gathering.jpg
END:VEVENT
BEGIN:VEVENT
DTSTART;TZID=UTC:20330526T180000
DTEND;TZID=UTC:20330526T210000
DTSTAMP:20260424T101836
CREATED:20260209T115940Z
LAST-MODIFIED:20260209T120234Z
UID:10040532-2000743200-2000754000@discovercrewe.co.uk
SUMMARY:Kill Team & Magic the Gathering
DESCRIPTION:Join Gumshoe Comics & Collectibles every Thursday at Big Mugs on Edleston Road for a games night. \nLearn how to play Warhammer Kill Team and Magic the Gathering or join the veteran gamers for friendly casual play. \nThe weekly event takes place from 6pm until 9pm. \nFor more information please visit here. \nImage (Gumshoe Comics & Collectibles)
URL:https://discovercrewe.co.uk/event/kill-team-magic-the-gathering/2033-05-26/
LOCATION:Big Mugs\, 251 Edleston Road\, Crewe\, CW2 7EA\, United Kingdom
CATEGORIES:Events,Market Hall,Town Centre
ATTACH;FMTTYPE=image/jpeg:https://discovercrewe.co.uk/wp-content/uploads/2026/02/warhammer-magic-the-gathering.jpg
END:VEVENT
BEGIN:VEVENT
DTSTART;TZID=UTC:20330602T180000
DTEND;TZID=UTC:20330602T210000
DTSTAMP:20260424T101836
CREATED:20260209T115940Z
LAST-MODIFIED:20260209T120234Z
UID:10040533-2001348000-2001358800@discovercrewe.co.uk
SUMMARY:Kill Team & Magic the Gathering
DESCRIPTION:Join Gumshoe Comics & Collectibles every Thursday at Big Mugs on Edleston Road for a games night. \nLearn how to play Warhammer Kill Team and Magic the Gathering or join the veteran gamers for friendly casual play. \nThe weekly event takes place from 6pm until 9pm. \nFor more information please visit here. \nImage (Gumshoe Comics & Collectibles)
URL:https://discovercrewe.co.uk/event/kill-team-magic-the-gathering/2033-06-02/
LOCATION:Big Mugs\, 251 Edleston Road\, Crewe\, CW2 7EA\, United Kingdom
CATEGORIES:Events,Market Hall,Town Centre
ATTACH;FMTTYPE=image/jpeg:https://discovercrewe.co.uk/wp-content/uploads/2026/02/warhammer-magic-the-gathering.jpg
END:VEVENT
BEGIN:VEVENT
DTSTART;TZID=UTC:20330609T180000
DTEND;TZID=UTC:20330609T210000
DTSTAMP:20260424T101836
CREATED:20260209T115940Z
LAST-MODIFIED:20260209T120234Z
UID:10040534-2001952800-2001963600@discovercrewe.co.uk
SUMMARY:Kill Team & Magic the Gathering
DESCRIPTION:Join Gumshoe Comics & Collectibles every Thursday at Big Mugs on Edleston Road for a games night. \nLearn how to play Warhammer Kill Team and Magic the Gathering or join the veteran gamers for friendly casual play. \nThe weekly event takes place from 6pm until 9pm. \nFor more information please visit here. \nImage (Gumshoe Comics & Collectibles)
URL:https://discovercrewe.co.uk/event/kill-team-magic-the-gathering/2033-06-09/
LOCATION:Big Mugs\, 251 Edleston Road\, Crewe\, CW2 7EA\, United Kingdom
CATEGORIES:Events,Market Hall,Town Centre
ATTACH;FMTTYPE=image/jpeg:https://discovercrewe.co.uk/wp-content/uploads/2026/02/warhammer-magic-the-gathering.jpg
END:VEVENT
BEGIN:VEVENT
DTSTART;TZID=UTC:20330616T180000
DTEND;TZID=UTC:20330616T210000
DTSTAMP:20260424T101836
CREATED:20260209T115940Z
LAST-MODIFIED:20260209T120234Z
UID:10040535-2002557600-2002568400@discovercrewe.co.uk
SUMMARY:Kill Team & Magic the Gathering
DESCRIPTION:Join Gumshoe Comics & Collectibles every Thursday at Big Mugs on Edleston Road for a games night. \nLearn how to play Warhammer Kill Team and Magic the Gathering or join the veteran gamers for friendly casual play. \nThe weekly event takes place from 6pm until 9pm. \nFor more information please visit here. \nImage (Gumshoe Comics & Collectibles)
URL:https://discovercrewe.co.uk/event/kill-team-magic-the-gathering/2033-06-16/
LOCATION:Big Mugs\, 251 Edleston Road\, Crewe\, CW2 7EA\, United Kingdom
CATEGORIES:Events,Market Hall,Town Centre
ATTACH;FMTTYPE=image/jpeg:https://discovercrewe.co.uk/wp-content/uploads/2026/02/warhammer-magic-the-gathering.jpg
END:VEVENT
BEGIN:VEVENT
DTSTART;TZID=UTC:20330623T180000
DTEND;TZID=UTC:20330623T210000
DTSTAMP:20260424T101836
CREATED:20260209T115940Z
LAST-MODIFIED:20260209T120234Z
UID:10040536-2003162400-2003173200@discovercrewe.co.uk
SUMMARY:Kill Team & Magic the Gathering
DESCRIPTION:Join Gumshoe Comics & Collectibles every Thursday at Big Mugs on Edleston Road for a games night. \nLearn how to play Warhammer Kill Team and Magic the Gathering or join the veteran gamers for friendly casual play. \nThe weekly event takes place from 6pm until 9pm. \nFor more information please visit here. \nImage (Gumshoe Comics & Collectibles)
URL:https://discovercrewe.co.uk/event/kill-team-magic-the-gathering/2033-06-23/
LOCATION:Big Mugs\, 251 Edleston Road\, Crewe\, CW2 7EA\, United Kingdom
CATEGORIES:Events,Market Hall,Town Centre
ATTACH;FMTTYPE=image/jpeg:https://discovercrewe.co.uk/wp-content/uploads/2026/02/warhammer-magic-the-gathering.jpg
END:VEVENT
BEGIN:VEVENT
DTSTART;TZID=UTC:20330630T180000
DTEND;TZID=UTC:20330630T210000
DTSTAMP:20260424T101836
CREATED:20260209T115940Z
LAST-MODIFIED:20260209T120234Z
UID:10040537-2003767200-2003778000@discovercrewe.co.uk
SUMMARY:Kill Team & Magic the Gathering
DESCRIPTION:Join Gumshoe Comics & Collectibles every Thursday at Big Mugs on Edleston Road for a games night. \nLearn how to play Warhammer Kill Team and Magic the Gathering or join the veteran gamers for friendly casual play. \nThe weekly event takes place from 6pm until 9pm. \nFor more information please visit here. \nImage (Gumshoe Comics & Collectibles)
URL:https://discovercrewe.co.uk/event/kill-team-magic-the-gathering/2033-06-30/
LOCATION:Big Mugs\, 251 Edleston Road\, Crewe\, CW2 7EA\, United Kingdom
CATEGORIES:Events,Market Hall,Town Centre
ATTACH;FMTTYPE=image/jpeg:https://discovercrewe.co.uk/wp-content/uploads/2026/02/warhammer-magic-the-gathering.jpg
END:VEVENT
BEGIN:VEVENT
DTSTART;TZID=UTC:20330707T180000
DTEND;TZID=UTC:20330707T210000
DTSTAMP:20260424T101836
CREATED:20260209T115940Z
LAST-MODIFIED:20260209T120234Z
UID:10040538-2004372000-2004382800@discovercrewe.co.uk
SUMMARY:Kill Team & Magic the Gathering
DESCRIPTION:Join Gumshoe Comics & Collectibles every Thursday at Big Mugs on Edleston Road for a games night. \nLearn how to play Warhammer Kill Team and Magic the Gathering or join the veteran gamers for friendly casual play. \nThe weekly event takes place from 6pm until 9pm. \nFor more information please visit here. \nImage (Gumshoe Comics & Collectibles)
URL:https://discovercrewe.co.uk/event/kill-team-magic-the-gathering/2033-07-07/
LOCATION:Big Mugs\, 251 Edleston Road\, Crewe\, CW2 7EA\, United Kingdom
CATEGORIES:Events,Market Hall,Town Centre
ATTACH;FMTTYPE=image/jpeg:https://discovercrewe.co.uk/wp-content/uploads/2026/02/warhammer-magic-the-gathering.jpg
END:VEVENT
BEGIN:VEVENT
DTSTART;TZID=UTC:20330714T180000
DTEND;TZID=UTC:20330714T210000
DTSTAMP:20260424T101836
CREATED:20260209T115940Z
LAST-MODIFIED:20260209T120234Z
UID:10040539-2004976800-2004987600@discovercrewe.co.uk
SUMMARY:Kill Team & Magic the Gathering
DESCRIPTION:Join Gumshoe Comics & Collectibles every Thursday at Big Mugs on Edleston Road for a games night. \nLearn how to play Warhammer Kill Team and Magic the Gathering or join the veteran gamers for friendly casual play. \nThe weekly event takes place from 6pm until 9pm. \nFor more information please visit here. \nImage (Gumshoe Comics & Collectibles)
URL:https://discovercrewe.co.uk/event/kill-team-magic-the-gathering/2033-07-14/
LOCATION:Big Mugs\, 251 Edleston Road\, Crewe\, CW2 7EA\, United Kingdom
CATEGORIES:Events,Market Hall,Town Centre
ATTACH;FMTTYPE=image/jpeg:https://discovercrewe.co.uk/wp-content/uploads/2026/02/warhammer-magic-the-gathering.jpg
END:VEVENT
BEGIN:VEVENT
DTSTART;TZID=UTC:20330721T180000
DTEND;TZID=UTC:20330721T210000
DTSTAMP:20260424T101836
CREATED:20260209T115940Z
LAST-MODIFIED:20260209T120234Z
UID:10040540-2005581600-2005592400@discovercrewe.co.uk
SUMMARY:Kill Team & Magic the Gathering
DESCRIPTION:Join Gumshoe Comics & Collectibles every Thursday at Big Mugs on Edleston Road for a games night. \nLearn how to play Warhammer Kill Team and Magic the Gathering or join the veteran gamers for friendly casual play. \nThe weekly event takes place from 6pm until 9pm. \nFor more information please visit here. \nImage (Gumshoe Comics & Collectibles)
URL:https://discovercrewe.co.uk/event/kill-team-magic-the-gathering/2033-07-21/
LOCATION:Big Mugs\, 251 Edleston Road\, Crewe\, CW2 7EA\, United Kingdom
CATEGORIES:Events,Market Hall,Town Centre
ATTACH;FMTTYPE=image/jpeg:https://discovercrewe.co.uk/wp-content/uploads/2026/02/warhammer-magic-the-gathering.jpg
END:VEVENT
BEGIN:VEVENT
DTSTART;TZID=UTC:20330728T180000
DTEND;TZID=UTC:20330728T210000
DTSTAMP:20260424T101836
CREATED:20260209T115940Z
LAST-MODIFIED:20260209T120234Z
UID:10040541-2006186400-2006197200@discovercrewe.co.uk
SUMMARY:Kill Team & Magic the Gathering
DESCRIPTION:Join Gumshoe Comics & Collectibles every Thursday at Big Mugs on Edleston Road for a games night. \nLearn how to play Warhammer Kill Team and Magic the Gathering or join the veteran gamers for friendly casual play. \nThe weekly event takes place from 6pm until 9pm. \nFor more information please visit here. \nImage (Gumshoe Comics & Collectibles)
URL:https://discovercrewe.co.uk/event/kill-team-magic-the-gathering/2033-07-28/
LOCATION:Big Mugs\, 251 Edleston Road\, Crewe\, CW2 7EA\, United Kingdom
CATEGORIES:Events,Market Hall,Town Centre
ATTACH;FMTTYPE=image/jpeg:https://discovercrewe.co.uk/wp-content/uploads/2026/02/warhammer-magic-the-gathering.jpg
END:VEVENT
BEGIN:VEVENT
DTSTART;TZID=UTC:20330804T180000
DTEND;TZID=UTC:20330804T210000
DTSTAMP:20260424T101836
CREATED:20260209T115940Z
LAST-MODIFIED:20260209T120234Z
UID:10040542-2006791200-2006802000@discovercrewe.co.uk
SUMMARY:Kill Team & Magic the Gathering
DESCRIPTION:Join Gumshoe Comics & Collectibles every Thursday at Big Mugs on Edleston Road for a games night. \nLearn how to play Warhammer Kill Team and Magic the Gathering or join the veteran gamers for friendly casual play. \nThe weekly event takes place from 6pm until 9pm. \nFor more information please visit here. \nImage (Gumshoe Comics & Collectibles)
URL:https://discovercrewe.co.uk/event/kill-team-magic-the-gathering/2033-08-04/
LOCATION:Big Mugs\, 251 Edleston Road\, Crewe\, CW2 7EA\, United Kingdom
CATEGORIES:Events,Market Hall,Town Centre
ATTACH;FMTTYPE=image/jpeg:https://discovercrewe.co.uk/wp-content/uploads/2026/02/warhammer-magic-the-gathering.jpg
END:VEVENT
BEGIN:VEVENT
DTSTART;TZID=UTC:20330811T180000
DTEND;TZID=UTC:20330811T210000
DTSTAMP:20260424T101836
CREATED:20260209T115940Z
LAST-MODIFIED:20260209T120234Z
UID:10040543-2007396000-2007406800@discovercrewe.co.uk
SUMMARY:Kill Team & Magic the Gathering
DESCRIPTION:Join Gumshoe Comics & Collectibles every Thursday at Big Mugs on Edleston Road for a games night. \nLearn how to play Warhammer Kill Team and Magic the Gathering or join the veteran gamers for friendly casual play. \nThe weekly event takes place from 6pm until 9pm. \nFor more information please visit here. \nImage (Gumshoe Comics & Collectibles)
URL:https://discovercrewe.co.uk/event/kill-team-magic-the-gathering/2033-08-11/
LOCATION:Big Mugs\, 251 Edleston Road\, Crewe\, CW2 7EA\, United Kingdom
CATEGORIES:Events,Market Hall,Town Centre
ATTACH;FMTTYPE=image/jpeg:https://discovercrewe.co.uk/wp-content/uploads/2026/02/warhammer-magic-the-gathering.jpg
END:VEVENT
BEGIN:VEVENT
DTSTART;TZID=UTC:20330818T180000
DTEND;TZID=UTC:20330818T210000
DTSTAMP:20260424T101836
CREATED:20260209T115940Z
LAST-MODIFIED:20260209T120234Z
UID:10040544-2008000800-2008011600@discovercrewe.co.uk
SUMMARY:Kill Team & Magic the Gathering
DESCRIPTION:Join Gumshoe Comics & Collectibles every Thursday at Big Mugs on Edleston Road for a games night. \nLearn how to play Warhammer Kill Team and Magic the Gathering or join the veteran gamers for friendly casual play. \nThe weekly event takes place from 6pm until 9pm. \nFor more information please visit here. \nImage (Gumshoe Comics & Collectibles)
URL:https://discovercrewe.co.uk/event/kill-team-magic-the-gathering/2033-08-18/
LOCATION:Big Mugs\, 251 Edleston Road\, Crewe\, CW2 7EA\, United Kingdom
CATEGORIES:Events,Market Hall,Town Centre
ATTACH;FMTTYPE=image/jpeg:https://discovercrewe.co.uk/wp-content/uploads/2026/02/warhammer-magic-the-gathering.jpg
END:VEVENT
BEGIN:VEVENT
DTSTART;TZID=UTC:20330825T180000
DTEND;TZID=UTC:20330825T210000
DTSTAMP:20260424T101836
CREATED:20260209T115940Z
LAST-MODIFIED:20260209T120234Z
UID:10040545-2008605600-2008616400@discovercrewe.co.uk
SUMMARY:Kill Team & Magic the Gathering
DESCRIPTION:Join Gumshoe Comics & Collectibles every Thursday at Big Mugs on Edleston Road for a games night. \nLearn how to play Warhammer Kill Team and Magic the Gathering or join the veteran gamers for friendly casual play. \nThe weekly event takes place from 6pm until 9pm. \nFor more information please visit here. \nImage (Gumshoe Comics & Collectibles)
URL:https://discovercrewe.co.uk/event/kill-team-magic-the-gathering/2033-08-25/
LOCATION:Big Mugs\, 251 Edleston Road\, Crewe\, CW2 7EA\, United Kingdom
CATEGORIES:Events,Market Hall,Town Centre
ATTACH;FMTTYPE=image/jpeg:https://discovercrewe.co.uk/wp-content/uploads/2026/02/warhammer-magic-the-gathering.jpg
END:VEVENT
BEGIN:VEVENT
DTSTART;TZID=UTC:20330901T180000
DTEND;TZID=UTC:20330901T210000
DTSTAMP:20260424T101836
CREATED:20260209T115940Z
LAST-MODIFIED:20260209T120234Z
UID:10040546-2009210400-2009221200@discovercrewe.co.uk
SUMMARY:Kill Team & Magic the Gathering
DESCRIPTION:Join Gumshoe Comics & Collectibles every Thursday at Big Mugs on Edleston Road for a games night. \nLearn how to play Warhammer Kill Team and Magic the Gathering or join the veteran gamers for friendly casual play. \nThe weekly event takes place from 6pm until 9pm. \nFor more information please visit here. \nImage (Gumshoe Comics & Collectibles)
URL:https://discovercrewe.co.uk/event/kill-team-magic-the-gathering/2033-09-01/
LOCATION:Big Mugs\, 251 Edleston Road\, Crewe\, CW2 7EA\, United Kingdom
CATEGORIES:Events,Market Hall,Town Centre
ATTACH;FMTTYPE=image/jpeg:https://discovercrewe.co.uk/wp-content/uploads/2026/02/warhammer-magic-the-gathering.jpg
END:VEVENT
BEGIN:VEVENT
DTSTART;TZID=UTC:20330908T180000
DTEND;TZID=UTC:20330908T210000
DTSTAMP:20260424T101836
CREATED:20260209T115940Z
LAST-MODIFIED:20260209T120234Z
UID:10040547-2009815200-2009826000@discovercrewe.co.uk
SUMMARY:Kill Team & Magic the Gathering
DESCRIPTION:Join Gumshoe Comics & Collectibles every Thursday at Big Mugs on Edleston Road for a games night. \nLearn how to play Warhammer Kill Team and Magic the Gathering or join the veteran gamers for friendly casual play. \nThe weekly event takes place from 6pm until 9pm. \nFor more information please visit here. \nImage (Gumshoe Comics & Collectibles)
URL:https://discovercrewe.co.uk/event/kill-team-magic-the-gathering/2033-09-08/
LOCATION:Big Mugs\, 251 Edleston Road\, Crewe\, CW2 7EA\, United Kingdom
CATEGORIES:Events,Market Hall,Town Centre
ATTACH;FMTTYPE=image/jpeg:https://discovercrewe.co.uk/wp-content/uploads/2026/02/warhammer-magic-the-gathering.jpg
END:VEVENT
BEGIN:VEVENT
DTSTART;TZID=UTC:20330915T180000
DTEND;TZID=UTC:20330915T210000
DTSTAMP:20260424T101836
CREATED:20260209T115940Z
LAST-MODIFIED:20260209T120234Z
UID:10040548-2010420000-2010430800@discovercrewe.co.uk
SUMMARY:Kill Team & Magic the Gathering
DESCRIPTION:Join Gumshoe Comics & Collectibles every Thursday at Big Mugs on Edleston Road for a games night. \nLearn how to play Warhammer Kill Team and Magic the Gathering or join the veteran gamers for friendly casual play. \nThe weekly event takes place from 6pm until 9pm. \nFor more information please visit here. \nImage (Gumshoe Comics & Collectibles)
URL:https://discovercrewe.co.uk/event/kill-team-magic-the-gathering/2033-09-15/
LOCATION:Big Mugs\, 251 Edleston Road\, Crewe\, CW2 7EA\, United Kingdom
CATEGORIES:Events,Market Hall,Town Centre
ATTACH;FMTTYPE=image/jpeg:https://discovercrewe.co.uk/wp-content/uploads/2026/02/warhammer-magic-the-gathering.jpg
END:VEVENT
BEGIN:VEVENT
DTSTART;TZID=UTC:20330922T180000
DTEND;TZID=UTC:20330922T210000
DTSTAMP:20260424T101836
CREATED:20260209T115940Z
LAST-MODIFIED:20260209T120234Z
UID:10040549-2011024800-2011035600@discovercrewe.co.uk
SUMMARY:Kill Team & Magic the Gathering
DESCRIPTION:Join Gumshoe Comics & Collectibles every Thursday at Big Mugs on Edleston Road for a games night. \nLearn how to play Warhammer Kill Team and Magic the Gathering or join the veteran gamers for friendly casual play. \nThe weekly event takes place from 6pm until 9pm. \nFor more information please visit here. \nImage (Gumshoe Comics & Collectibles)
URL:https://discovercrewe.co.uk/event/kill-team-magic-the-gathering/2033-09-22/
LOCATION:Big Mugs\, 251 Edleston Road\, Crewe\, CW2 7EA\, United Kingdom
CATEGORIES:Events,Market Hall,Town Centre
ATTACH;FMTTYPE=image/jpeg:https://discovercrewe.co.uk/wp-content/uploads/2026/02/warhammer-magic-the-gathering.jpg
END:VEVENT
BEGIN:VEVENT
DTSTART;TZID=UTC:20330929T180000
DTEND;TZID=UTC:20330929T210000
DTSTAMP:20260424T101836
CREATED:20260209T115940Z
LAST-MODIFIED:20260209T120234Z
UID:10040550-2011629600-2011640400@discovercrewe.co.uk
SUMMARY:Kill Team & Magic the Gathering
DESCRIPTION:Join Gumshoe Comics & Collectibles every Thursday at Big Mugs on Edleston Road for a games night. \nLearn how to play Warhammer Kill Team and Magic the Gathering or join the veteran gamers for friendly casual play. \nThe weekly event takes place from 6pm until 9pm. \nFor more information please visit here. \nImage (Gumshoe Comics & Collectibles)
URL:https://discovercrewe.co.uk/event/kill-team-magic-the-gathering/2033-09-29/
LOCATION:Big Mugs\, 251 Edleston Road\, Crewe\, CW2 7EA\, United Kingdom
CATEGORIES:Events,Market Hall,Town Centre
ATTACH;FMTTYPE=image/jpeg:https://discovercrewe.co.uk/wp-content/uploads/2026/02/warhammer-magic-the-gathering.jpg
END:VEVENT
BEGIN:VEVENT
DTSTART;TZID=UTC:20331006T180000
DTEND;TZID=UTC:20331006T210000
DTSTAMP:20260424T101836
CREATED:20260209T115940Z
LAST-MODIFIED:20260209T120234Z
UID:10040551-2012234400-2012245200@discovercrewe.co.uk
SUMMARY:Kill Team & Magic the Gathering
DESCRIPTION:Join Gumshoe Comics & Collectibles every Thursday at Big Mugs on Edleston Road for a games night. \nLearn how to play Warhammer Kill Team and Magic the Gathering or join the veteran gamers for friendly casual play. \nThe weekly event takes place from 6pm until 9pm. \nFor more information please visit here. \nImage (Gumshoe Comics & Collectibles)
URL:https://discovercrewe.co.uk/event/kill-team-magic-the-gathering/2033-10-06/
LOCATION:Big Mugs\, 251 Edleston Road\, Crewe\, CW2 7EA\, United Kingdom
CATEGORIES:Events,Market Hall,Town Centre
ATTACH;FMTTYPE=image/jpeg:https://discovercrewe.co.uk/wp-content/uploads/2026/02/warhammer-magic-the-gathering.jpg
END:VEVENT
BEGIN:VEVENT
DTSTART;TZID=UTC:20331013T180000
DTEND;TZID=UTC:20331013T210000
DTSTAMP:20260424T101836
CREATED:20260209T115940Z
LAST-MODIFIED:20260209T120234Z
UID:10040552-2012839200-2012850000@discovercrewe.co.uk
SUMMARY:Kill Team & Magic the Gathering
DESCRIPTION:Join Gumshoe Comics & Collectibles every Thursday at Big Mugs on Edleston Road for a games night. \nLearn how to play Warhammer Kill Team and Magic the Gathering or join the veteran gamers for friendly casual play. \nThe weekly event takes place from 6pm until 9pm. \nFor more information please visit here. \nImage (Gumshoe Comics & Collectibles)
URL:https://discovercrewe.co.uk/event/kill-team-magic-the-gathering/2033-10-13/
LOCATION:Big Mugs\, 251 Edleston Road\, Crewe\, CW2 7EA\, United Kingdom
CATEGORIES:Events,Market Hall,Town Centre
ATTACH;FMTTYPE=image/jpeg:https://discovercrewe.co.uk/wp-content/uploads/2026/02/warhammer-magic-the-gathering.jpg
END:VEVENT
END:VCALENDAR