BEGIN:VCALENDAR
VERSION:2.0
PRODID:-//Discover Crewe - ECPv6.15.15//NONSGML v1.0//EN
CALSCALE:GREGORIAN
METHOD:PUBLISH
X-WR-CALNAME:Discover Crewe
X-ORIGINAL-URL:https://discovercrewe.co.uk
X-WR-CALDESC:Events for Discover Crewe
REFRESH-INTERVAL;VALUE=DURATION:PT1H
X-Robots-Tag:noindex
X-PUBLISHED-TTL:PT1H
BEGIN:VTIMEZONE
TZID:UTC
BEGIN:STANDARD
TZOFFSETFROM:+0000
TZOFFSETTO:+0000
TZNAME:UTC
DTSTART:20250101T000000
END:STANDARD
END:VTIMEZONE
BEGIN:VEVENT
DTSTART;VALUE=DATE:20260613
DTEND;VALUE=DATE:20260614
DTSTAMP:20260424T055020
CREATED:20260319T144305Z
LAST-MODIFIED:20260416T104545Z
UID:10041456-1781308800-1781395199@discovercrewe.co.uk
SUMMARY:Crewe Pride 2026
DESCRIPTION:This year\, Crewe Pride will return on Saturday 13 June 2026. \nIt promises to be their biggest celebration yet\, bringing the community together for a day of colour\, music\, performance and visibility. \nIt will be a day to celebrate LGBTQ+ lives across Cheshire and beyond. \nCrewe Pride are inviting sponsors\, stallholders and community supporters to be part of the day. Supporting helps create a welcoming event for everyone while showing clear commitment to equality\, inclusion and community pride. \nGet involved by becoming a Pride sponsor and support the event\, book a stall for an organisation\, group or business\, volunteer or support behind the scenes and help spread the word. \nFor more information and to get involved visit here.
URL:https://discovercrewe.co.uk/event/crewe-pride-2026-2/
LOCATION:Lyceum Square\, Lyceum Square\, Crewe\, Cheshire\, CW1 2DA\, United Kingdom
CATEGORIES:Events,Lyceum Square,Town Centre
ATTACH;FMTTYPE=image/jpeg:https://discovercrewe.co.uk/wp-content/uploads/2026/03/VEM00439-scaled.jpg
END:VEVENT
BEGIN:VEVENT
DTSTART;TZID=UTC:20260616T173000
DTEND;TZID=UTC:20260616T190000
DTSTAMP:20260424T055020
CREATED:20260316T105513Z
LAST-MODIFIED:20260316T105513Z
UID:10041335-1781631000-1781636400@discovercrewe.co.uk
SUMMARY:Creative Writers
DESCRIPTION:Creative Writers \nNew members are welcome to this informal and friendly group who meet on every second Tuesday of the month. \nThere are monthly themes to inspire you to write\, or you can bring along whatever you are working on to the drop in sessions and gain feedback from other members. \nMembership is £1 per session to help cover the cost of light refreshments. \nTime: 5:30pm – 7pm \nImage (Crewe Library)
URL:https://discovercrewe.co.uk/event/creative-writers-2/2026-06-16/
LOCATION:Crewe Library\, Lifestyle Centre\, Moss Square\, Crewe\, CW1 2BB
CATEGORIES:Events,Library,Town Centre
ATTACH;FMTTYPE=image/jpeg:https://discovercrewe.co.uk/wp-content/uploads/2025/06/crewe-library.jpg
END:VEVENT
BEGIN:VEVENT
DTSTART;TZID=UTC:20260619T080000
DTEND;TZID=UTC:20260619T170000
DTSTAMP:20260424T055020
CREATED:20251015T112211Z
LAST-MODIFIED:20251015T115507Z
UID:10032667-1781856000-1781888400@discovercrewe.co.uk
SUMMARY:Family History Group
DESCRIPTION:On every third Friday of each month\, Crewe Library hosts a family history group from 2pm to 4pm. \nThe sessions are free for adults to drop in to gain help and encouragements with researching their family history. Join a friendly and supporting group of likeminded people monthly to find out more about your past. \nThe local studies librarian will be on hand to offer advice and the library computers and other resources are available for free. \nLight refreshments are also on offer. \nTo find out more information and to see the full list of Crewe Library activities visit here.
URL:https://discovercrewe.co.uk/event/family-history-group/2026-06-19/
LOCATION:Crewe Library\, Lifestyle Centre\, Moss Square\, Crewe\, CW1 2BB
CATEGORIES:Events,Heritage,Town Centre
ATTACH;FMTTYPE=image/jpeg:https://discovercrewe.co.uk/wp-content/uploads/2025/10/Photo-09-08-2025-12-20-48-scaled-e1760529294236.jpg
END:VEVENT
BEGIN:VEVENT
DTSTART;TZID=UTC:20260630T160000
DTEND;TZID=UTC:20260630T170000
DTSTAMP:20260424T055020
CREATED:20250721T150824Z
LAST-MODIFIED:20251023T092421Z
UID:10023879-1782835200-1782838800@discovercrewe.co.uk
SUMMARY:LEGO Building Club
DESCRIPTION:Fun\, themed\, LEGO building sessions for all ages. \nCrewe Library hosts these sessions with a huge selection of bricks and accessories\, plus Duplo for the little ones. \nNo bookings are required and there is no charge. They are available for all children but they must be accompanied by an adult. \nEvery other Tuesday from 4pm – 5pm. \nImage (Crewe Town Council)
URL:https://discovercrewe.co.uk/event/lego-building-club/2026-06-30/
LOCATION:Crewe Library\, Lifestyle Centre\, Moss Square\, Crewe\, CW1 2BB
CATEGORIES:Events,Family Attractions,Town Centre
ATTACH;FMTTYPE=image/jpeg:https://discovercrewe.co.uk/wp-content/uploads/2025/07/LEGO-Building-e1753110948289.jpg
END:VEVENT
BEGIN:VEVENT
DTSTART;TZID=UTC:20261025T090000
DTEND;TZID=UTC:20261025T110000
DTSTAMP:20260424T055020
CREATED:20260309T124639Z
LAST-MODIFIED:20260309T124813Z
UID:10041330-1792918800-1792926000@discovercrewe.co.uk
SUMMARY:Crewe 10k Presented by Mornflake
DESCRIPTION:Join RunThrough North for the Crewe 10k presented by Mornflake on Sunday 25 October\, supporting YMCA Cheshire. \nStarting and finishing in Crewe town centre\, it will be a closed-road 10k featuring a fast\, flat course to chase a PB or take on a new challenge. \nThe event village will be based at the brand-new Royal Arcade\, which will set the stage for a race-day atmosphere and offers easy access for participants and spectators alike. \nDate & time = Sunday 25 October at 9am – 11am \nEntry fee = £32 \nFor more information and to sign up visit here. \nImage (Run Through)
URL:https://discovercrewe.co.uk/event/crewe-10k-presented-by-mornflake/
LOCATION:29 Queensway\, 29 Queensway\, Crewe\, CW1 2JG\, United Kingdom
CATEGORIES:Charity,Events,Town Centre
ATTACH;FMTTYPE=image/png:https://discovercrewe.co.uk/wp-content/uploads/2026/03/Screenshot-2026-03-09-124331.png
END:VEVENT
END:VCALENDAR