BEGIN:VCALENDAR
VERSION:2.0
PRODID:-//Discover Crewe - ECPv6.15.15//NONSGML v1.0//EN
CALSCALE:GREGORIAN
METHOD:PUBLISH
X-WR-CALNAME:Discover Crewe
X-ORIGINAL-URL:https://discovercrewe.co.uk
X-WR-CALDESC:Events for Discover Crewe
REFRESH-INTERVAL;VALUE=DURATION:PT1H
X-Robots-Tag:noindex
X-PUBLISHED-TTL:PT1H
BEGIN:VTIMEZONE
TZID:UTC
BEGIN:STANDARD
TZOFFSETFROM:+0000
TZOFFSETTO:+0000
TZNAME:UTC
DTSTART:20250101T000000
END:STANDARD
END:VTIMEZONE
BEGIN:VEVENT
DTSTART;TZID=UTC:20261102T100000
DTEND;TZID=UTC:20261102T103000
DTSTAMP:20260424T083529
CREATED:20250721T154153Z
LAST-MODIFIED:20250721T154153Z
UID:10024104-1793613600-1793615400@discovercrewe.co.uk
SUMMARY:Stories and Songs
DESCRIPTION:A Monday Funday Interactive session. \nFrom 10am – 10.30am every Monday at Crewe Library\, there are sessions of stories\, singing\, movement\, games and activities. \nThey are free of charge and drop-in for under 5’s who must be accompanied by an adult. \nImage (Crewe Town Council)
URL:https://discovercrewe.co.uk/event/stories-and-songs/2026-11-02/
LOCATION:Crewe Library\, Lifestyle Centre\, Moss Square\, Crewe\, CW1 2BB
CATEGORIES:Events,Family Attractions,Town Centre
ATTACH;FMTTYPE=image/jpeg:https://discovercrewe.co.uk/wp-content/uploads/2025/07/Crewe-Library-storytime-e1753112480754.jpg
END:VEVENT
BEGIN:VEVENT
DTSTART;TZID=UTC:20261109T100000
DTEND;TZID=UTC:20261109T103000
DTSTAMP:20260424T083529
CREATED:20250721T154153Z
LAST-MODIFIED:20250721T154153Z
UID:10024105-1794218400-1794220200@discovercrewe.co.uk
SUMMARY:Stories and Songs
DESCRIPTION:A Monday Funday Interactive session. \nFrom 10am – 10.30am every Monday at Crewe Library\, there are sessions of stories\, singing\, movement\, games and activities. \nThey are free of charge and drop-in for under 5’s who must be accompanied by an adult. \nImage (Crewe Town Council)
URL:https://discovercrewe.co.uk/event/stories-and-songs/2026-11-09/
LOCATION:Crewe Library\, Lifestyle Centre\, Moss Square\, Crewe\, CW1 2BB
CATEGORIES:Events,Family Attractions,Town Centre
ATTACH;FMTTYPE=image/jpeg:https://discovercrewe.co.uk/wp-content/uploads/2025/07/Crewe-Library-storytime-e1753112480754.jpg
END:VEVENT
BEGIN:VEVENT
DTSTART;TZID=UTC:20261116T100000
DTEND;TZID=UTC:20261116T103000
DTSTAMP:20260424T083529
CREATED:20250721T154153Z
LAST-MODIFIED:20250721T154153Z
UID:10024106-1794823200-1794825000@discovercrewe.co.uk
SUMMARY:Stories and Songs
DESCRIPTION:A Monday Funday Interactive session. \nFrom 10am – 10.30am every Monday at Crewe Library\, there are sessions of stories\, singing\, movement\, games and activities. \nThey are free of charge and drop-in for under 5’s who must be accompanied by an adult. \nImage (Crewe Town Council)
URL:https://discovercrewe.co.uk/event/stories-and-songs/2026-11-16/
LOCATION:Crewe Library\, Lifestyle Centre\, Moss Square\, Crewe\, CW1 2BB
CATEGORIES:Events,Family Attractions,Town Centre
ATTACH;FMTTYPE=image/jpeg:https://discovercrewe.co.uk/wp-content/uploads/2025/07/Crewe-Library-storytime-e1753112480754.jpg
END:VEVENT
BEGIN:VEVENT
DTSTART;TZID=UTC:20261123T100000
DTEND;TZID=UTC:20261123T103000
DTSTAMP:20260424T083529
CREATED:20250721T154153Z
LAST-MODIFIED:20250721T154153Z
UID:10024107-1795428000-1795429800@discovercrewe.co.uk
SUMMARY:Stories and Songs
DESCRIPTION:A Monday Funday Interactive session. \nFrom 10am – 10.30am every Monday at Crewe Library\, there are sessions of stories\, singing\, movement\, games and activities. \nThey are free of charge and drop-in for under 5’s who must be accompanied by an adult. \nImage (Crewe Town Council)
URL:https://discovercrewe.co.uk/event/stories-and-songs/2026-11-23/
LOCATION:Crewe Library\, Lifestyle Centre\, Moss Square\, Crewe\, CW1 2BB
CATEGORIES:Events,Family Attractions,Town Centre
ATTACH;FMTTYPE=image/jpeg:https://discovercrewe.co.uk/wp-content/uploads/2025/07/Crewe-Library-storytime-e1753112480754.jpg
END:VEVENT
BEGIN:VEVENT
DTSTART;TZID=UTC:20261130T100000
DTEND;TZID=UTC:20261130T103000
DTSTAMP:20260424T083529
CREATED:20250721T154153Z
LAST-MODIFIED:20250721T154153Z
UID:10024108-1796032800-1796034600@discovercrewe.co.uk
SUMMARY:Stories and Songs
DESCRIPTION:A Monday Funday Interactive session. \nFrom 10am – 10.30am every Monday at Crewe Library\, there are sessions of stories\, singing\, movement\, games and activities. \nThey are free of charge and drop-in for under 5’s who must be accompanied by an adult. \nImage (Crewe Town Council)
URL:https://discovercrewe.co.uk/event/stories-and-songs/2026-11-30/
LOCATION:Crewe Library\, Lifestyle Centre\, Moss Square\, Crewe\, CW1 2BB
CATEGORIES:Events,Family Attractions,Town Centre
ATTACH;FMTTYPE=image/jpeg:https://discovercrewe.co.uk/wp-content/uploads/2025/07/Crewe-Library-storytime-e1753112480754.jpg
END:VEVENT
BEGIN:VEVENT
DTSTART;TZID=UTC:20261207T100000
DTEND;TZID=UTC:20261207T103000
DTSTAMP:20260424T083529
CREATED:20250721T154153Z
LAST-MODIFIED:20250721T154153Z
UID:10024109-1796637600-1796639400@discovercrewe.co.uk
SUMMARY:Stories and Songs
DESCRIPTION:A Monday Funday Interactive session. \nFrom 10am – 10.30am every Monday at Crewe Library\, there are sessions of stories\, singing\, movement\, games and activities. \nThey are free of charge and drop-in for under 5’s who must be accompanied by an adult. \nImage (Crewe Town Council)
URL:https://discovercrewe.co.uk/event/stories-and-songs/2026-12-07/
LOCATION:Crewe Library\, Lifestyle Centre\, Moss Square\, Crewe\, CW1 2BB
CATEGORIES:Events,Family Attractions,Town Centre
ATTACH;FMTTYPE=image/jpeg:https://discovercrewe.co.uk/wp-content/uploads/2025/07/Crewe-Library-storytime-e1753112480754.jpg
END:VEVENT
BEGIN:VEVENT
DTSTART;TZID=UTC:20261214T100000
DTEND;TZID=UTC:20261214T103000
DTSTAMP:20260424T083529
CREATED:20250721T154153Z
LAST-MODIFIED:20250721T154153Z
UID:10024110-1797242400-1797244200@discovercrewe.co.uk
SUMMARY:Stories and Songs
DESCRIPTION:A Monday Funday Interactive session. \nFrom 10am – 10.30am every Monday at Crewe Library\, there are sessions of stories\, singing\, movement\, games and activities. \nThey are free of charge and drop-in for under 5’s who must be accompanied by an adult. \nImage (Crewe Town Council)
URL:https://discovercrewe.co.uk/event/stories-and-songs/2026-12-14/
LOCATION:Crewe Library\, Lifestyle Centre\, Moss Square\, Crewe\, CW1 2BB
CATEGORIES:Events,Family Attractions,Town Centre
ATTACH;FMTTYPE=image/jpeg:https://discovercrewe.co.uk/wp-content/uploads/2025/07/Crewe-Library-storytime-e1753112480754.jpg
END:VEVENT
BEGIN:VEVENT
DTSTART;TZID=UTC:20261221T100000
DTEND;TZID=UTC:20261221T103000
DTSTAMP:20260424T083529
CREATED:20250721T154153Z
LAST-MODIFIED:20250721T154153Z
UID:10024111-1797847200-1797849000@discovercrewe.co.uk
SUMMARY:Stories and Songs
DESCRIPTION:A Monday Funday Interactive session. \nFrom 10am – 10.30am every Monday at Crewe Library\, there are sessions of stories\, singing\, movement\, games and activities. \nThey are free of charge and drop-in for under 5’s who must be accompanied by an adult. \nImage (Crewe Town Council)
URL:https://discovercrewe.co.uk/event/stories-and-songs/2026-12-21/
LOCATION:Crewe Library\, Lifestyle Centre\, Moss Square\, Crewe\, CW1 2BB
CATEGORIES:Events,Family Attractions,Town Centre
ATTACH;FMTTYPE=image/jpeg:https://discovercrewe.co.uk/wp-content/uploads/2025/07/Crewe-Library-storytime-e1753112480754.jpg
END:VEVENT
BEGIN:VEVENT
DTSTART;TZID=UTC:20261228T100000
DTEND;TZID=UTC:20261228T103000
DTSTAMP:20260424T083529
CREATED:20250721T154153Z
LAST-MODIFIED:20250721T154153Z
UID:10024112-1798452000-1798453800@discovercrewe.co.uk
SUMMARY:Stories and Songs
DESCRIPTION:A Monday Funday Interactive session. \nFrom 10am – 10.30am every Monday at Crewe Library\, there are sessions of stories\, singing\, movement\, games and activities. \nThey are free of charge and drop-in for under 5’s who must be accompanied by an adult. \nImage (Crewe Town Council)
URL:https://discovercrewe.co.uk/event/stories-and-songs/2026-12-28/
LOCATION:Crewe Library\, Lifestyle Centre\, Moss Square\, Crewe\, CW1 2BB
CATEGORIES:Events,Family Attractions,Town Centre
ATTACH;FMTTYPE=image/jpeg:https://discovercrewe.co.uk/wp-content/uploads/2025/07/Crewe-Library-storytime-e1753112480754.jpg
END:VEVENT
BEGIN:VEVENT
DTSTART;TZID=UTC:20270104T100000
DTEND;TZID=UTC:20270104T103000
DTSTAMP:20260424T083529
CREATED:20250721T154153Z
LAST-MODIFIED:20250721T154153Z
UID:10024113-1799056800-1799058600@discovercrewe.co.uk
SUMMARY:Stories and Songs
DESCRIPTION:A Monday Funday Interactive session. \nFrom 10am – 10.30am every Monday at Crewe Library\, there are sessions of stories\, singing\, movement\, games and activities. \nThey are free of charge and drop-in for under 5’s who must be accompanied by an adult. \nImage (Crewe Town Council)
URL:https://discovercrewe.co.uk/event/stories-and-songs/2027-01-04/
LOCATION:Crewe Library\, Lifestyle Centre\, Moss Square\, Crewe\, CW1 2BB
CATEGORIES:Events,Family Attractions,Town Centre
ATTACH;FMTTYPE=image/jpeg:https://discovercrewe.co.uk/wp-content/uploads/2025/07/Crewe-Library-storytime-e1753112480754.jpg
END:VEVENT
BEGIN:VEVENT
DTSTART;TZID=UTC:20270111T100000
DTEND;TZID=UTC:20270111T103000
DTSTAMP:20260424T083529
CREATED:20250721T154153Z
LAST-MODIFIED:20250721T154153Z
UID:10024114-1799661600-1799663400@discovercrewe.co.uk
SUMMARY:Stories and Songs
DESCRIPTION:A Monday Funday Interactive session. \nFrom 10am – 10.30am every Monday at Crewe Library\, there are sessions of stories\, singing\, movement\, games and activities. \nThey are free of charge and drop-in for under 5’s who must be accompanied by an adult. \nImage (Crewe Town Council)
URL:https://discovercrewe.co.uk/event/stories-and-songs/2027-01-11/
LOCATION:Crewe Library\, Lifestyle Centre\, Moss Square\, Crewe\, CW1 2BB
CATEGORIES:Events,Family Attractions,Town Centre
ATTACH;FMTTYPE=image/jpeg:https://discovercrewe.co.uk/wp-content/uploads/2025/07/Crewe-Library-storytime-e1753112480754.jpg
END:VEVENT
BEGIN:VEVENT
DTSTART;TZID=UTC:20270118T100000
DTEND;TZID=UTC:20270118T103000
DTSTAMP:20260424T083529
CREATED:20250721T154153Z
LAST-MODIFIED:20250721T154153Z
UID:10024115-1800266400-1800268200@discovercrewe.co.uk
SUMMARY:Stories and Songs
DESCRIPTION:A Monday Funday Interactive session. \nFrom 10am – 10.30am every Monday at Crewe Library\, there are sessions of stories\, singing\, movement\, games and activities. \nThey are free of charge and drop-in for under 5’s who must be accompanied by an adult. \nImage (Crewe Town Council)
URL:https://discovercrewe.co.uk/event/stories-and-songs/2027-01-18/
LOCATION:Crewe Library\, Lifestyle Centre\, Moss Square\, Crewe\, CW1 2BB
CATEGORIES:Events,Family Attractions,Town Centre
ATTACH;FMTTYPE=image/jpeg:https://discovercrewe.co.uk/wp-content/uploads/2025/07/Crewe-Library-storytime-e1753112480754.jpg
END:VEVENT
BEGIN:VEVENT
DTSTART;TZID=UTC:20270125T100000
DTEND;TZID=UTC:20270125T103000
DTSTAMP:20260424T083529
CREATED:20250721T154153Z
LAST-MODIFIED:20250721T154153Z
UID:10024116-1800871200-1800873000@discovercrewe.co.uk
SUMMARY:Stories and Songs
DESCRIPTION:A Monday Funday Interactive session. \nFrom 10am – 10.30am every Monday at Crewe Library\, there are sessions of stories\, singing\, movement\, games and activities. \nThey are free of charge and drop-in for under 5’s who must be accompanied by an adult. \nImage (Crewe Town Council)
URL:https://discovercrewe.co.uk/event/stories-and-songs/2027-01-25/
LOCATION:Crewe Library\, Lifestyle Centre\, Moss Square\, Crewe\, CW1 2BB
CATEGORIES:Events,Family Attractions,Town Centre
ATTACH;FMTTYPE=image/jpeg:https://discovercrewe.co.uk/wp-content/uploads/2025/07/Crewe-Library-storytime-e1753112480754.jpg
END:VEVENT
BEGIN:VEVENT
DTSTART;TZID=UTC:20270201T100000
DTEND;TZID=UTC:20270201T103000
DTSTAMP:20260424T083529
CREATED:20250721T154153Z
LAST-MODIFIED:20250721T154153Z
UID:10024117-1801476000-1801477800@discovercrewe.co.uk
SUMMARY:Stories and Songs
DESCRIPTION:A Monday Funday Interactive session. \nFrom 10am – 10.30am every Monday at Crewe Library\, there are sessions of stories\, singing\, movement\, games and activities. \nThey are free of charge and drop-in for under 5’s who must be accompanied by an adult. \nImage (Crewe Town Council)
URL:https://discovercrewe.co.uk/event/stories-and-songs/2027-02-01/
LOCATION:Crewe Library\, Lifestyle Centre\, Moss Square\, Crewe\, CW1 2BB
CATEGORIES:Events,Family Attractions,Town Centre
ATTACH;FMTTYPE=image/jpeg:https://discovercrewe.co.uk/wp-content/uploads/2025/07/Crewe-Library-storytime-e1753112480754.jpg
END:VEVENT
BEGIN:VEVENT
DTSTART;TZID=UTC:20270208T100000
DTEND;TZID=UTC:20270208T103000
DTSTAMP:20260424T083529
CREATED:20250721T154153Z
LAST-MODIFIED:20250721T154153Z
UID:10024118-1802080800-1802082600@discovercrewe.co.uk
SUMMARY:Stories and Songs
DESCRIPTION:A Monday Funday Interactive session. \nFrom 10am – 10.30am every Monday at Crewe Library\, there are sessions of stories\, singing\, movement\, games and activities. \nThey are free of charge and drop-in for under 5’s who must be accompanied by an adult. \nImage (Crewe Town Council)
URL:https://discovercrewe.co.uk/event/stories-and-songs/2027-02-08/
LOCATION:Crewe Library\, Lifestyle Centre\, Moss Square\, Crewe\, CW1 2BB
CATEGORIES:Events,Family Attractions,Town Centre
ATTACH;FMTTYPE=image/jpeg:https://discovercrewe.co.uk/wp-content/uploads/2025/07/Crewe-Library-storytime-e1753112480754.jpg
END:VEVENT
BEGIN:VEVENT
DTSTART;TZID=UTC:20270215T100000
DTEND;TZID=UTC:20270215T103000
DTSTAMP:20260424T083529
CREATED:20250721T154153Z
LAST-MODIFIED:20250721T154153Z
UID:10024119-1802685600-1802687400@discovercrewe.co.uk
SUMMARY:Stories and Songs
DESCRIPTION:A Monday Funday Interactive session. \nFrom 10am – 10.30am every Monday at Crewe Library\, there are sessions of stories\, singing\, movement\, games and activities. \nThey are free of charge and drop-in for under 5’s who must be accompanied by an adult. \nImage (Crewe Town Council)
URL:https://discovercrewe.co.uk/event/stories-and-songs/2027-02-15/
LOCATION:Crewe Library\, Lifestyle Centre\, Moss Square\, Crewe\, CW1 2BB
CATEGORIES:Events,Family Attractions,Town Centre
ATTACH;FMTTYPE=image/jpeg:https://discovercrewe.co.uk/wp-content/uploads/2025/07/Crewe-Library-storytime-e1753112480754.jpg
END:VEVENT
BEGIN:VEVENT
DTSTART;TZID=UTC:20270222T100000
DTEND;TZID=UTC:20270222T103000
DTSTAMP:20260424T083529
CREATED:20250721T154153Z
LAST-MODIFIED:20250721T154153Z
UID:10024120-1803290400-1803292200@discovercrewe.co.uk
SUMMARY:Stories and Songs
DESCRIPTION:A Monday Funday Interactive session. \nFrom 10am – 10.30am every Monday at Crewe Library\, there are sessions of stories\, singing\, movement\, games and activities. \nThey are free of charge and drop-in for under 5’s who must be accompanied by an adult. \nImage (Crewe Town Council)
URL:https://discovercrewe.co.uk/event/stories-and-songs/2027-02-22/
LOCATION:Crewe Library\, Lifestyle Centre\, Moss Square\, Crewe\, CW1 2BB
CATEGORIES:Events,Family Attractions,Town Centre
ATTACH;FMTTYPE=image/jpeg:https://discovercrewe.co.uk/wp-content/uploads/2025/07/Crewe-Library-storytime-e1753112480754.jpg
END:VEVENT
BEGIN:VEVENT
DTSTART;TZID=UTC:20270301T100000
DTEND;TZID=UTC:20270301T103000
DTSTAMP:20260424T083529
CREATED:20250721T154153Z
LAST-MODIFIED:20250721T154153Z
UID:10024121-1803895200-1803897000@discovercrewe.co.uk
SUMMARY:Stories and Songs
DESCRIPTION:A Monday Funday Interactive session. \nFrom 10am – 10.30am every Monday at Crewe Library\, there are sessions of stories\, singing\, movement\, games and activities. \nThey are free of charge and drop-in for under 5’s who must be accompanied by an adult. \nImage (Crewe Town Council)
URL:https://discovercrewe.co.uk/event/stories-and-songs/2027-03-01/
LOCATION:Crewe Library\, Lifestyle Centre\, Moss Square\, Crewe\, CW1 2BB
CATEGORIES:Events,Family Attractions,Town Centre
ATTACH;FMTTYPE=image/jpeg:https://discovercrewe.co.uk/wp-content/uploads/2025/07/Crewe-Library-storytime-e1753112480754.jpg
END:VEVENT
BEGIN:VEVENT
DTSTART;TZID=UTC:20270308T100000
DTEND;TZID=UTC:20270308T103000
DTSTAMP:20260424T083530
CREATED:20250721T154153Z
LAST-MODIFIED:20250721T154153Z
UID:10024122-1804500000-1804501800@discovercrewe.co.uk
SUMMARY:Stories and Songs
DESCRIPTION:A Monday Funday Interactive session. \nFrom 10am – 10.30am every Monday at Crewe Library\, there are sessions of stories\, singing\, movement\, games and activities. \nThey are free of charge and drop-in for under 5’s who must be accompanied by an adult. \nImage (Crewe Town Council)
URL:https://discovercrewe.co.uk/event/stories-and-songs/2027-03-08/
LOCATION:Crewe Library\, Lifestyle Centre\, Moss Square\, Crewe\, CW1 2BB
CATEGORIES:Events,Family Attractions,Town Centre
ATTACH;FMTTYPE=image/jpeg:https://discovercrewe.co.uk/wp-content/uploads/2025/07/Crewe-Library-storytime-e1753112480754.jpg
END:VEVENT
BEGIN:VEVENT
DTSTART;TZID=UTC:20270315T100000
DTEND;TZID=UTC:20270315T103000
DTSTAMP:20260424T083530
CREATED:20250721T154153Z
LAST-MODIFIED:20250721T154153Z
UID:10024123-1805104800-1805106600@discovercrewe.co.uk
SUMMARY:Stories and Songs
DESCRIPTION:A Monday Funday Interactive session. \nFrom 10am – 10.30am every Monday at Crewe Library\, there are sessions of stories\, singing\, movement\, games and activities. \nThey are free of charge and drop-in for under 5’s who must be accompanied by an adult. \nImage (Crewe Town Council)
URL:https://discovercrewe.co.uk/event/stories-and-songs/2027-03-15/
LOCATION:Crewe Library\, Lifestyle Centre\, Moss Square\, Crewe\, CW1 2BB
CATEGORIES:Events,Family Attractions,Town Centre
ATTACH;FMTTYPE=image/jpeg:https://discovercrewe.co.uk/wp-content/uploads/2025/07/Crewe-Library-storytime-e1753112480754.jpg
END:VEVENT
BEGIN:VEVENT
DTSTART;TZID=UTC:20270322T100000
DTEND;TZID=UTC:20270322T103000
DTSTAMP:20260424T083530
CREATED:20250721T154153Z
LAST-MODIFIED:20250721T154153Z
UID:10024124-1805709600-1805711400@discovercrewe.co.uk
SUMMARY:Stories and Songs
DESCRIPTION:A Monday Funday Interactive session. \nFrom 10am – 10.30am every Monday at Crewe Library\, there are sessions of stories\, singing\, movement\, games and activities. \nThey are free of charge and drop-in for under 5’s who must be accompanied by an adult. \nImage (Crewe Town Council)
URL:https://discovercrewe.co.uk/event/stories-and-songs/2027-03-22/
LOCATION:Crewe Library\, Lifestyle Centre\, Moss Square\, Crewe\, CW1 2BB
CATEGORIES:Events,Family Attractions,Town Centre
ATTACH;FMTTYPE=image/jpeg:https://discovercrewe.co.uk/wp-content/uploads/2025/07/Crewe-Library-storytime-e1753112480754.jpg
END:VEVENT
BEGIN:VEVENT
DTSTART;TZID=UTC:20270329T100000
DTEND;TZID=UTC:20270329T103000
DTSTAMP:20260424T083530
CREATED:20250721T154153Z
LAST-MODIFIED:20250721T154153Z
UID:10024125-1806314400-1806316200@discovercrewe.co.uk
SUMMARY:Stories and Songs
DESCRIPTION:A Monday Funday Interactive session. \nFrom 10am – 10.30am every Monday at Crewe Library\, there are sessions of stories\, singing\, movement\, games and activities. \nThey are free of charge and drop-in for under 5’s who must be accompanied by an adult. \nImage (Crewe Town Council)
URL:https://discovercrewe.co.uk/event/stories-and-songs/2027-03-29/
LOCATION:Crewe Library\, Lifestyle Centre\, Moss Square\, Crewe\, CW1 2BB
CATEGORIES:Events,Family Attractions,Town Centre
ATTACH;FMTTYPE=image/jpeg:https://discovercrewe.co.uk/wp-content/uploads/2025/07/Crewe-Library-storytime-e1753112480754.jpg
END:VEVENT
BEGIN:VEVENT
DTSTART;TZID=UTC:20270405T100000
DTEND;TZID=UTC:20270405T103000
DTSTAMP:20260424T083530
CREATED:20250721T154153Z
LAST-MODIFIED:20250721T154153Z
UID:10024126-1806919200-1806921000@discovercrewe.co.uk
SUMMARY:Stories and Songs
DESCRIPTION:A Monday Funday Interactive session. \nFrom 10am – 10.30am every Monday at Crewe Library\, there are sessions of stories\, singing\, movement\, games and activities. \nThey are free of charge and drop-in for under 5’s who must be accompanied by an adult. \nImage (Crewe Town Council)
URL:https://discovercrewe.co.uk/event/stories-and-songs/2027-04-05/
LOCATION:Crewe Library\, Lifestyle Centre\, Moss Square\, Crewe\, CW1 2BB
CATEGORIES:Events,Family Attractions,Town Centre
ATTACH;FMTTYPE=image/jpeg:https://discovercrewe.co.uk/wp-content/uploads/2025/07/Crewe-Library-storytime-e1753112480754.jpg
END:VEVENT
BEGIN:VEVENT
DTSTART;TZID=UTC:20270412T100000
DTEND;TZID=UTC:20270412T103000
DTSTAMP:20260424T083530
CREATED:20250721T154153Z
LAST-MODIFIED:20250721T154153Z
UID:10024127-1807524000-1807525800@discovercrewe.co.uk
SUMMARY:Stories and Songs
DESCRIPTION:A Monday Funday Interactive session. \nFrom 10am – 10.30am every Monday at Crewe Library\, there are sessions of stories\, singing\, movement\, games and activities. \nThey are free of charge and drop-in for under 5’s who must be accompanied by an adult. \nImage (Crewe Town Council)
URL:https://discovercrewe.co.uk/event/stories-and-songs/2027-04-12/
LOCATION:Crewe Library\, Lifestyle Centre\, Moss Square\, Crewe\, CW1 2BB
CATEGORIES:Events,Family Attractions,Town Centre
ATTACH;FMTTYPE=image/jpeg:https://discovercrewe.co.uk/wp-content/uploads/2025/07/Crewe-Library-storytime-e1753112480754.jpg
END:VEVENT
BEGIN:VEVENT
DTSTART;TZID=UTC:20270419T100000
DTEND;TZID=UTC:20270419T103000
DTSTAMP:20260424T083530
CREATED:20250721T154153Z
LAST-MODIFIED:20250721T154153Z
UID:10024128-1808128800-1808130600@discovercrewe.co.uk
SUMMARY:Stories and Songs
DESCRIPTION:A Monday Funday Interactive session. \nFrom 10am – 10.30am every Monday at Crewe Library\, there are sessions of stories\, singing\, movement\, games and activities. \nThey are free of charge and drop-in for under 5’s who must be accompanied by an adult. \nImage (Crewe Town Council)
URL:https://discovercrewe.co.uk/event/stories-and-songs/2027-04-19/
LOCATION:Crewe Library\, Lifestyle Centre\, Moss Square\, Crewe\, CW1 2BB
CATEGORIES:Events,Family Attractions,Town Centre
ATTACH;FMTTYPE=image/jpeg:https://discovercrewe.co.uk/wp-content/uploads/2025/07/Crewe-Library-storytime-e1753112480754.jpg
END:VEVENT
BEGIN:VEVENT
DTSTART;TZID=UTC:20270426T100000
DTEND;TZID=UTC:20270426T103000
DTSTAMP:20260424T083530
CREATED:20250721T154153Z
LAST-MODIFIED:20250721T154153Z
UID:10024129-1808733600-1808735400@discovercrewe.co.uk
SUMMARY:Stories and Songs
DESCRIPTION:A Monday Funday Interactive session. \nFrom 10am – 10.30am every Monday at Crewe Library\, there are sessions of stories\, singing\, movement\, games and activities. \nThey are free of charge and drop-in for under 5’s who must be accompanied by an adult. \nImage (Crewe Town Council)
URL:https://discovercrewe.co.uk/event/stories-and-songs/2027-04-26/
LOCATION:Crewe Library\, Lifestyle Centre\, Moss Square\, Crewe\, CW1 2BB
CATEGORIES:Events,Family Attractions,Town Centre
ATTACH;FMTTYPE=image/jpeg:https://discovercrewe.co.uk/wp-content/uploads/2025/07/Crewe-Library-storytime-e1753112480754.jpg
END:VEVENT
BEGIN:VEVENT
DTSTART;TZID=UTC:20270503T100000
DTEND;TZID=UTC:20270503T103000
DTSTAMP:20260424T083530
CREATED:20250721T154153Z
LAST-MODIFIED:20250721T154153Z
UID:10024130-1809338400-1809340200@discovercrewe.co.uk
SUMMARY:Stories and Songs
DESCRIPTION:A Monday Funday Interactive session. \nFrom 10am – 10.30am every Monday at Crewe Library\, there are sessions of stories\, singing\, movement\, games and activities. \nThey are free of charge and drop-in for under 5’s who must be accompanied by an adult. \nImage (Crewe Town Council)
URL:https://discovercrewe.co.uk/event/stories-and-songs/2027-05-03/
LOCATION:Crewe Library\, Lifestyle Centre\, Moss Square\, Crewe\, CW1 2BB
CATEGORIES:Events,Family Attractions,Town Centre
ATTACH;FMTTYPE=image/jpeg:https://discovercrewe.co.uk/wp-content/uploads/2025/07/Crewe-Library-storytime-e1753112480754.jpg
END:VEVENT
BEGIN:VEVENT
DTSTART;TZID=UTC:20270510T100000
DTEND;TZID=UTC:20270510T103000
DTSTAMP:20260424T083530
CREATED:20250721T154153Z
LAST-MODIFIED:20250721T154153Z
UID:10024131-1809943200-1809945000@discovercrewe.co.uk
SUMMARY:Stories and Songs
DESCRIPTION:A Monday Funday Interactive session. \nFrom 10am – 10.30am every Monday at Crewe Library\, there are sessions of stories\, singing\, movement\, games and activities. \nThey are free of charge and drop-in for under 5’s who must be accompanied by an adult. \nImage (Crewe Town Council)
URL:https://discovercrewe.co.uk/event/stories-and-songs/2027-05-10/
LOCATION:Crewe Library\, Lifestyle Centre\, Moss Square\, Crewe\, CW1 2BB
CATEGORIES:Events,Family Attractions,Town Centre
ATTACH;FMTTYPE=image/jpeg:https://discovercrewe.co.uk/wp-content/uploads/2025/07/Crewe-Library-storytime-e1753112480754.jpg
END:VEVENT
BEGIN:VEVENT
DTSTART;TZID=UTC:20270517T100000
DTEND;TZID=UTC:20270517T103000
DTSTAMP:20260424T083530
CREATED:20250721T154153Z
LAST-MODIFIED:20250721T154153Z
UID:10024132-1810548000-1810549800@discovercrewe.co.uk
SUMMARY:Stories and Songs
DESCRIPTION:A Monday Funday Interactive session. \nFrom 10am – 10.30am every Monday at Crewe Library\, there are sessions of stories\, singing\, movement\, games and activities. \nThey are free of charge and drop-in for under 5’s who must be accompanied by an adult. \nImage (Crewe Town Council)
URL:https://discovercrewe.co.uk/event/stories-and-songs/2027-05-17/
LOCATION:Crewe Library\, Lifestyle Centre\, Moss Square\, Crewe\, CW1 2BB
CATEGORIES:Events,Family Attractions,Town Centre
ATTACH;FMTTYPE=image/jpeg:https://discovercrewe.co.uk/wp-content/uploads/2025/07/Crewe-Library-storytime-e1753112480754.jpg
END:VEVENT
BEGIN:VEVENT
DTSTART;TZID=UTC:20270524T100000
DTEND;TZID=UTC:20270524T103000
DTSTAMP:20260424T083530
CREATED:20250721T154153Z
LAST-MODIFIED:20250721T154153Z
UID:10024133-1811152800-1811154600@discovercrewe.co.uk
SUMMARY:Stories and Songs
DESCRIPTION:A Monday Funday Interactive session. \nFrom 10am – 10.30am every Monday at Crewe Library\, there are sessions of stories\, singing\, movement\, games and activities. \nThey are free of charge and drop-in for under 5’s who must be accompanied by an adult. \nImage (Crewe Town Council)
URL:https://discovercrewe.co.uk/event/stories-and-songs/2027-05-24/
LOCATION:Crewe Library\, Lifestyle Centre\, Moss Square\, Crewe\, CW1 2BB
CATEGORIES:Events,Family Attractions,Town Centre
ATTACH;FMTTYPE=image/jpeg:https://discovercrewe.co.uk/wp-content/uploads/2025/07/Crewe-Library-storytime-e1753112480754.jpg
END:VEVENT
END:VCALENDAR