BEGIN:VCALENDAR
VERSION:2.0
PRODID:-//Discover Crewe - ECPv6.15.15//NONSGML v1.0//EN
CALSCALE:GREGORIAN
METHOD:PUBLISH
X-WR-CALNAME:Discover Crewe
X-ORIGINAL-URL:https://discovercrewe.co.uk
X-WR-CALDESC:Events for Discover Crewe
REFRESH-INTERVAL;VALUE=DURATION:PT1H
X-Robots-Tag:noindex
X-PUBLISHED-TTL:PT1H
BEGIN:VTIMEZONE
TZID:UTC
BEGIN:STANDARD
TZOFFSETFROM:+0000
TZOFFSETTO:+0000
TZNAME:UTC
DTSTART:20250101T000000
END:STANDARD
END:VTIMEZONE
BEGIN:VEVENT
DTSTART;TZID=UTC:20261030T110000
DTEND;TZID=UTC:20261030T113000
DTSTAMP:20260424T083508
CREATED:20250721T145547Z
LAST-MODIFIED:20250721T145547Z
UID:10023418-1793358000-1793359800@discovercrewe.co.uk
SUMMARY:Rhymetime
DESCRIPTION:Songs\, rhymes and lots of movement! \nEvery Friday from 11am – 11.30am Crewe Library holds a Rhymetime session for pre-school children or under 5’s. \nIt is free of charge and requires no booking so participants only need to drop in to enjoy this event. \nImage (Crewe Library)
URL:https://discovercrewe.co.uk/event/rhymetime/2026-10-30/
LOCATION:Crewe Library\, Lifestyle Centre\, Moss Square\, Crewe\, CW1 2BB
CATEGORIES:Events,Family Attractions,Town Centre
ATTACH;FMTTYPE=image/jpeg:https://discovercrewe.co.uk/wp-content/uploads/2025/06/crewe-library.jpg
END:VEVENT
BEGIN:VEVENT
DTSTART;TZID=UTC:20261106T110000
DTEND;TZID=UTC:20261106T113000
DTSTAMP:20260424T083508
CREATED:20250721T145547Z
LAST-MODIFIED:20250721T145547Z
UID:10023419-1793962800-1793964600@discovercrewe.co.uk
SUMMARY:Rhymetime
DESCRIPTION:Songs\, rhymes and lots of movement! \nEvery Friday from 11am – 11.30am Crewe Library holds a Rhymetime session for pre-school children or under 5’s. \nIt is free of charge and requires no booking so participants only need to drop in to enjoy this event. \nImage (Crewe Library)
URL:https://discovercrewe.co.uk/event/rhymetime/2026-11-06/
LOCATION:Crewe Library\, Lifestyle Centre\, Moss Square\, Crewe\, CW1 2BB
CATEGORIES:Events,Family Attractions,Town Centre
ATTACH;FMTTYPE=image/jpeg:https://discovercrewe.co.uk/wp-content/uploads/2025/06/crewe-library.jpg
END:VEVENT
BEGIN:VEVENT
DTSTART;TZID=UTC:20261113T110000
DTEND;TZID=UTC:20261113T113000
DTSTAMP:20260424T083508
CREATED:20250721T145547Z
LAST-MODIFIED:20250721T145547Z
UID:10023420-1794567600-1794569400@discovercrewe.co.uk
SUMMARY:Rhymetime
DESCRIPTION:Songs\, rhymes and lots of movement! \nEvery Friday from 11am – 11.30am Crewe Library holds a Rhymetime session for pre-school children or under 5’s. \nIt is free of charge and requires no booking so participants only need to drop in to enjoy this event. \nImage (Crewe Library)
URL:https://discovercrewe.co.uk/event/rhymetime/2026-11-13/
LOCATION:Crewe Library\, Lifestyle Centre\, Moss Square\, Crewe\, CW1 2BB
CATEGORIES:Events,Family Attractions,Town Centre
ATTACH;FMTTYPE=image/jpeg:https://discovercrewe.co.uk/wp-content/uploads/2025/06/crewe-library.jpg
END:VEVENT
BEGIN:VEVENT
DTSTART;TZID=UTC:20261120T110000
DTEND;TZID=UTC:20261120T113000
DTSTAMP:20260424T083508
CREATED:20250721T145547Z
LAST-MODIFIED:20250721T145547Z
UID:10023421-1795172400-1795174200@discovercrewe.co.uk
SUMMARY:Rhymetime
DESCRIPTION:Songs\, rhymes and lots of movement! \nEvery Friday from 11am – 11.30am Crewe Library holds a Rhymetime session for pre-school children or under 5’s. \nIt is free of charge and requires no booking so participants only need to drop in to enjoy this event. \nImage (Crewe Library)
URL:https://discovercrewe.co.uk/event/rhymetime/2026-11-20/
LOCATION:Crewe Library\, Lifestyle Centre\, Moss Square\, Crewe\, CW1 2BB
CATEGORIES:Events,Family Attractions,Town Centre
ATTACH;FMTTYPE=image/jpeg:https://discovercrewe.co.uk/wp-content/uploads/2025/06/crewe-library.jpg
END:VEVENT
BEGIN:VEVENT
DTSTART;TZID=UTC:20261127T110000
DTEND;TZID=UTC:20261127T113000
DTSTAMP:20260424T083508
CREATED:20250721T145547Z
LAST-MODIFIED:20250721T145547Z
UID:10023422-1795777200-1795779000@discovercrewe.co.uk
SUMMARY:Rhymetime
DESCRIPTION:Songs\, rhymes and lots of movement! \nEvery Friday from 11am – 11.30am Crewe Library holds a Rhymetime session for pre-school children or under 5’s. \nIt is free of charge and requires no booking so participants only need to drop in to enjoy this event. \nImage (Crewe Library)
URL:https://discovercrewe.co.uk/event/rhymetime/2026-11-27/
LOCATION:Crewe Library\, Lifestyle Centre\, Moss Square\, Crewe\, CW1 2BB
CATEGORIES:Events,Family Attractions,Town Centre
ATTACH;FMTTYPE=image/jpeg:https://discovercrewe.co.uk/wp-content/uploads/2025/06/crewe-library.jpg
END:VEVENT
BEGIN:VEVENT
DTSTART;TZID=UTC:20261204T110000
DTEND;TZID=UTC:20261204T113000
DTSTAMP:20260424T083508
CREATED:20250721T145547Z
LAST-MODIFIED:20250721T145547Z
UID:10023423-1796382000-1796383800@discovercrewe.co.uk
SUMMARY:Rhymetime
DESCRIPTION:Songs\, rhymes and lots of movement! \nEvery Friday from 11am – 11.30am Crewe Library holds a Rhymetime session for pre-school children or under 5’s. \nIt is free of charge and requires no booking so participants only need to drop in to enjoy this event. \nImage (Crewe Library)
URL:https://discovercrewe.co.uk/event/rhymetime/2026-12-04/
LOCATION:Crewe Library\, Lifestyle Centre\, Moss Square\, Crewe\, CW1 2BB
CATEGORIES:Events,Family Attractions,Town Centre
ATTACH;FMTTYPE=image/jpeg:https://discovercrewe.co.uk/wp-content/uploads/2025/06/crewe-library.jpg
END:VEVENT
BEGIN:VEVENT
DTSTART;TZID=UTC:20261211T110000
DTEND;TZID=UTC:20261211T113000
DTSTAMP:20260424T083508
CREATED:20250721T145547Z
LAST-MODIFIED:20250721T145547Z
UID:10023424-1796986800-1796988600@discovercrewe.co.uk
SUMMARY:Rhymetime
DESCRIPTION:Songs\, rhymes and lots of movement! \nEvery Friday from 11am – 11.30am Crewe Library holds a Rhymetime session for pre-school children or under 5’s. \nIt is free of charge and requires no booking so participants only need to drop in to enjoy this event. \nImage (Crewe Library)
URL:https://discovercrewe.co.uk/event/rhymetime/2026-12-11/
LOCATION:Crewe Library\, Lifestyle Centre\, Moss Square\, Crewe\, CW1 2BB
CATEGORIES:Events,Family Attractions,Town Centre
ATTACH;FMTTYPE=image/jpeg:https://discovercrewe.co.uk/wp-content/uploads/2025/06/crewe-library.jpg
END:VEVENT
BEGIN:VEVENT
DTSTART;TZID=UTC:20261218T110000
DTEND;TZID=UTC:20261218T113000
DTSTAMP:20260424T083508
CREATED:20250721T145547Z
LAST-MODIFIED:20250721T145547Z
UID:10023425-1797591600-1797593400@discovercrewe.co.uk
SUMMARY:Rhymetime
DESCRIPTION:Songs\, rhymes and lots of movement! \nEvery Friday from 11am – 11.30am Crewe Library holds a Rhymetime session for pre-school children or under 5’s. \nIt is free of charge and requires no booking so participants only need to drop in to enjoy this event. \nImage (Crewe Library)
URL:https://discovercrewe.co.uk/event/rhymetime/2026-12-18/
LOCATION:Crewe Library\, Lifestyle Centre\, Moss Square\, Crewe\, CW1 2BB
CATEGORIES:Events,Family Attractions,Town Centre
ATTACH;FMTTYPE=image/jpeg:https://discovercrewe.co.uk/wp-content/uploads/2025/06/crewe-library.jpg
END:VEVENT
BEGIN:VEVENT
DTSTART;TZID=UTC:20261225T110000
DTEND;TZID=UTC:20261225T113000
DTSTAMP:20260424T083508
CREATED:20250721T145547Z
LAST-MODIFIED:20250721T145547Z
UID:10023426-1798196400-1798198200@discovercrewe.co.uk
SUMMARY:Rhymetime
DESCRIPTION:Songs\, rhymes and lots of movement! \nEvery Friday from 11am – 11.30am Crewe Library holds a Rhymetime session for pre-school children or under 5’s. \nIt is free of charge and requires no booking so participants only need to drop in to enjoy this event. \nImage (Crewe Library)
URL:https://discovercrewe.co.uk/event/rhymetime/2026-12-25/
LOCATION:Crewe Library\, Lifestyle Centre\, Moss Square\, Crewe\, CW1 2BB
CATEGORIES:Events,Family Attractions,Town Centre
ATTACH;FMTTYPE=image/jpeg:https://discovercrewe.co.uk/wp-content/uploads/2025/06/crewe-library.jpg
END:VEVENT
BEGIN:VEVENT
DTSTART;TZID=UTC:20270101T110000
DTEND;TZID=UTC:20270101T113000
DTSTAMP:20260424T083508
CREATED:20250721T145547Z
LAST-MODIFIED:20250721T145547Z
UID:10023427-1798801200-1798803000@discovercrewe.co.uk
SUMMARY:Rhymetime
DESCRIPTION:Songs\, rhymes and lots of movement! \nEvery Friday from 11am – 11.30am Crewe Library holds a Rhymetime session for pre-school children or under 5’s. \nIt is free of charge and requires no booking so participants only need to drop in to enjoy this event. \nImage (Crewe Library)
URL:https://discovercrewe.co.uk/event/rhymetime/2027-01-01/
LOCATION:Crewe Library\, Lifestyle Centre\, Moss Square\, Crewe\, CW1 2BB
CATEGORIES:Events,Family Attractions,Town Centre
ATTACH;FMTTYPE=image/jpeg:https://discovercrewe.co.uk/wp-content/uploads/2025/06/crewe-library.jpg
END:VEVENT
BEGIN:VEVENT
DTSTART;TZID=UTC:20270108T110000
DTEND;TZID=UTC:20270108T113000
DTSTAMP:20260424T083508
CREATED:20250721T145547Z
LAST-MODIFIED:20250721T145547Z
UID:10023428-1799406000-1799407800@discovercrewe.co.uk
SUMMARY:Rhymetime
DESCRIPTION:Songs\, rhymes and lots of movement! \nEvery Friday from 11am – 11.30am Crewe Library holds a Rhymetime session for pre-school children or under 5’s. \nIt is free of charge and requires no booking so participants only need to drop in to enjoy this event. \nImage (Crewe Library)
URL:https://discovercrewe.co.uk/event/rhymetime/2027-01-08/
LOCATION:Crewe Library\, Lifestyle Centre\, Moss Square\, Crewe\, CW1 2BB
CATEGORIES:Events,Family Attractions,Town Centre
ATTACH;FMTTYPE=image/jpeg:https://discovercrewe.co.uk/wp-content/uploads/2025/06/crewe-library.jpg
END:VEVENT
BEGIN:VEVENT
DTSTART;TZID=UTC:20270115T110000
DTEND;TZID=UTC:20270115T113000
DTSTAMP:20260424T083508
CREATED:20250721T145547Z
LAST-MODIFIED:20250721T145547Z
UID:10023429-1800010800-1800012600@discovercrewe.co.uk
SUMMARY:Rhymetime
DESCRIPTION:Songs\, rhymes and lots of movement! \nEvery Friday from 11am – 11.30am Crewe Library holds a Rhymetime session for pre-school children or under 5’s. \nIt is free of charge and requires no booking so participants only need to drop in to enjoy this event. \nImage (Crewe Library)
URL:https://discovercrewe.co.uk/event/rhymetime/2027-01-15/
LOCATION:Crewe Library\, Lifestyle Centre\, Moss Square\, Crewe\, CW1 2BB
CATEGORIES:Events,Family Attractions,Town Centre
ATTACH;FMTTYPE=image/jpeg:https://discovercrewe.co.uk/wp-content/uploads/2025/06/crewe-library.jpg
END:VEVENT
BEGIN:VEVENT
DTSTART;TZID=UTC:20270122T110000
DTEND;TZID=UTC:20270122T113000
DTSTAMP:20260424T083508
CREATED:20250721T145547Z
LAST-MODIFIED:20250721T145547Z
UID:10023430-1800615600-1800617400@discovercrewe.co.uk
SUMMARY:Rhymetime
DESCRIPTION:Songs\, rhymes and lots of movement! \nEvery Friday from 11am – 11.30am Crewe Library holds a Rhymetime session for pre-school children or under 5’s. \nIt is free of charge and requires no booking so participants only need to drop in to enjoy this event. \nImage (Crewe Library)
URL:https://discovercrewe.co.uk/event/rhymetime/2027-01-22/
LOCATION:Crewe Library\, Lifestyle Centre\, Moss Square\, Crewe\, CW1 2BB
CATEGORIES:Events,Family Attractions,Town Centre
ATTACH;FMTTYPE=image/jpeg:https://discovercrewe.co.uk/wp-content/uploads/2025/06/crewe-library.jpg
END:VEVENT
BEGIN:VEVENT
DTSTART;TZID=UTC:20270129T110000
DTEND;TZID=UTC:20270129T113000
DTSTAMP:20260424T083508
CREATED:20250721T145547Z
LAST-MODIFIED:20250721T145547Z
UID:10023431-1801220400-1801222200@discovercrewe.co.uk
SUMMARY:Rhymetime
DESCRIPTION:Songs\, rhymes and lots of movement! \nEvery Friday from 11am – 11.30am Crewe Library holds a Rhymetime session for pre-school children or under 5’s. \nIt is free of charge and requires no booking so participants only need to drop in to enjoy this event. \nImage (Crewe Library)
URL:https://discovercrewe.co.uk/event/rhymetime/2027-01-29/
LOCATION:Crewe Library\, Lifestyle Centre\, Moss Square\, Crewe\, CW1 2BB
CATEGORIES:Events,Family Attractions,Town Centre
ATTACH;FMTTYPE=image/jpeg:https://discovercrewe.co.uk/wp-content/uploads/2025/06/crewe-library.jpg
END:VEVENT
BEGIN:VEVENT
DTSTART;TZID=UTC:20270205T110000
DTEND;TZID=UTC:20270205T113000
DTSTAMP:20260424T083508
CREATED:20250721T145547Z
LAST-MODIFIED:20250721T145547Z
UID:10023432-1801825200-1801827000@discovercrewe.co.uk
SUMMARY:Rhymetime
DESCRIPTION:Songs\, rhymes and lots of movement! \nEvery Friday from 11am – 11.30am Crewe Library holds a Rhymetime session for pre-school children or under 5’s. \nIt is free of charge and requires no booking so participants only need to drop in to enjoy this event. \nImage (Crewe Library)
URL:https://discovercrewe.co.uk/event/rhymetime/2027-02-05/
LOCATION:Crewe Library\, Lifestyle Centre\, Moss Square\, Crewe\, CW1 2BB
CATEGORIES:Events,Family Attractions,Town Centre
ATTACH;FMTTYPE=image/jpeg:https://discovercrewe.co.uk/wp-content/uploads/2025/06/crewe-library.jpg
END:VEVENT
BEGIN:VEVENT
DTSTART;TZID=UTC:20270212T110000
DTEND;TZID=UTC:20270212T113000
DTSTAMP:20260424T083508
CREATED:20250721T145547Z
LAST-MODIFIED:20250721T145547Z
UID:10023433-1802430000-1802431800@discovercrewe.co.uk
SUMMARY:Rhymetime
DESCRIPTION:Songs\, rhymes and lots of movement! \nEvery Friday from 11am – 11.30am Crewe Library holds a Rhymetime session for pre-school children or under 5’s. \nIt is free of charge and requires no booking so participants only need to drop in to enjoy this event. \nImage (Crewe Library)
URL:https://discovercrewe.co.uk/event/rhymetime/2027-02-12/
LOCATION:Crewe Library\, Lifestyle Centre\, Moss Square\, Crewe\, CW1 2BB
CATEGORIES:Events,Family Attractions,Town Centre
ATTACH;FMTTYPE=image/jpeg:https://discovercrewe.co.uk/wp-content/uploads/2025/06/crewe-library.jpg
END:VEVENT
BEGIN:VEVENT
DTSTART;TZID=UTC:20270219T110000
DTEND;TZID=UTC:20270219T113000
DTSTAMP:20260424T083508
CREATED:20250721T145547Z
LAST-MODIFIED:20250721T145547Z
UID:10023434-1803034800-1803036600@discovercrewe.co.uk
SUMMARY:Rhymetime
DESCRIPTION:Songs\, rhymes and lots of movement! \nEvery Friday from 11am – 11.30am Crewe Library holds a Rhymetime session for pre-school children or under 5’s. \nIt is free of charge and requires no booking so participants only need to drop in to enjoy this event. \nImage (Crewe Library)
URL:https://discovercrewe.co.uk/event/rhymetime/2027-02-19/
LOCATION:Crewe Library\, Lifestyle Centre\, Moss Square\, Crewe\, CW1 2BB
CATEGORIES:Events,Family Attractions,Town Centre
ATTACH;FMTTYPE=image/jpeg:https://discovercrewe.co.uk/wp-content/uploads/2025/06/crewe-library.jpg
END:VEVENT
BEGIN:VEVENT
DTSTART;TZID=UTC:20270226T110000
DTEND;TZID=UTC:20270226T113000
DTSTAMP:20260424T083508
CREATED:20250721T145547Z
LAST-MODIFIED:20250721T145547Z
UID:10023435-1803639600-1803641400@discovercrewe.co.uk
SUMMARY:Rhymetime
DESCRIPTION:Songs\, rhymes and lots of movement! \nEvery Friday from 11am – 11.30am Crewe Library holds a Rhymetime session for pre-school children or under 5’s. \nIt is free of charge and requires no booking so participants only need to drop in to enjoy this event. \nImage (Crewe Library)
URL:https://discovercrewe.co.uk/event/rhymetime/2027-02-26/
LOCATION:Crewe Library\, Lifestyle Centre\, Moss Square\, Crewe\, CW1 2BB
CATEGORIES:Events,Family Attractions,Town Centre
ATTACH;FMTTYPE=image/jpeg:https://discovercrewe.co.uk/wp-content/uploads/2025/06/crewe-library.jpg
END:VEVENT
BEGIN:VEVENT
DTSTART;TZID=UTC:20270305T110000
DTEND;TZID=UTC:20270305T113000
DTSTAMP:20260424T083508
CREATED:20250721T145547Z
LAST-MODIFIED:20250721T145547Z
UID:10023436-1804244400-1804246200@discovercrewe.co.uk
SUMMARY:Rhymetime
DESCRIPTION:Songs\, rhymes and lots of movement! \nEvery Friday from 11am – 11.30am Crewe Library holds a Rhymetime session for pre-school children or under 5’s. \nIt is free of charge and requires no booking so participants only need to drop in to enjoy this event. \nImage (Crewe Library)
URL:https://discovercrewe.co.uk/event/rhymetime/2027-03-05/
LOCATION:Crewe Library\, Lifestyle Centre\, Moss Square\, Crewe\, CW1 2BB
CATEGORIES:Events,Family Attractions,Town Centre
ATTACH;FMTTYPE=image/jpeg:https://discovercrewe.co.uk/wp-content/uploads/2025/06/crewe-library.jpg
END:VEVENT
BEGIN:VEVENT
DTSTART;TZID=UTC:20270312T110000
DTEND;TZID=UTC:20270312T113000
DTSTAMP:20260424T083508
CREATED:20250721T145547Z
LAST-MODIFIED:20250721T145547Z
UID:10023437-1804849200-1804851000@discovercrewe.co.uk
SUMMARY:Rhymetime
DESCRIPTION:Songs\, rhymes and lots of movement! \nEvery Friday from 11am – 11.30am Crewe Library holds a Rhymetime session for pre-school children or under 5’s. \nIt is free of charge and requires no booking so participants only need to drop in to enjoy this event. \nImage (Crewe Library)
URL:https://discovercrewe.co.uk/event/rhymetime/2027-03-12/
LOCATION:Crewe Library\, Lifestyle Centre\, Moss Square\, Crewe\, CW1 2BB
CATEGORIES:Events,Family Attractions,Town Centre
ATTACH;FMTTYPE=image/jpeg:https://discovercrewe.co.uk/wp-content/uploads/2025/06/crewe-library.jpg
END:VEVENT
BEGIN:VEVENT
DTSTART;TZID=UTC:20270319T110000
DTEND;TZID=UTC:20270319T113000
DTSTAMP:20260424T083508
CREATED:20250721T145547Z
LAST-MODIFIED:20250721T145547Z
UID:10023438-1805454000-1805455800@discovercrewe.co.uk
SUMMARY:Rhymetime
DESCRIPTION:Songs\, rhymes and lots of movement! \nEvery Friday from 11am – 11.30am Crewe Library holds a Rhymetime session for pre-school children or under 5’s. \nIt is free of charge and requires no booking so participants only need to drop in to enjoy this event. \nImage (Crewe Library)
URL:https://discovercrewe.co.uk/event/rhymetime/2027-03-19/
LOCATION:Crewe Library\, Lifestyle Centre\, Moss Square\, Crewe\, CW1 2BB
CATEGORIES:Events,Family Attractions,Town Centre
ATTACH;FMTTYPE=image/jpeg:https://discovercrewe.co.uk/wp-content/uploads/2025/06/crewe-library.jpg
END:VEVENT
BEGIN:VEVENT
DTSTART;TZID=UTC:20270326T110000
DTEND;TZID=UTC:20270326T113000
DTSTAMP:20260424T083508
CREATED:20250721T145547Z
LAST-MODIFIED:20250721T145547Z
UID:10023439-1806058800-1806060600@discovercrewe.co.uk
SUMMARY:Rhymetime
DESCRIPTION:Songs\, rhymes and lots of movement! \nEvery Friday from 11am – 11.30am Crewe Library holds a Rhymetime session for pre-school children or under 5’s. \nIt is free of charge and requires no booking so participants only need to drop in to enjoy this event. \nImage (Crewe Library)
URL:https://discovercrewe.co.uk/event/rhymetime/2027-03-26/
LOCATION:Crewe Library\, Lifestyle Centre\, Moss Square\, Crewe\, CW1 2BB
CATEGORIES:Events,Family Attractions,Town Centre
ATTACH;FMTTYPE=image/jpeg:https://discovercrewe.co.uk/wp-content/uploads/2025/06/crewe-library.jpg
END:VEVENT
BEGIN:VEVENT
DTSTART;TZID=UTC:20270402T110000
DTEND;TZID=UTC:20270402T113000
DTSTAMP:20260424T083508
CREATED:20250721T145547Z
LAST-MODIFIED:20250721T145547Z
UID:10023440-1806663600-1806665400@discovercrewe.co.uk
SUMMARY:Rhymetime
DESCRIPTION:Songs\, rhymes and lots of movement! \nEvery Friday from 11am – 11.30am Crewe Library holds a Rhymetime session for pre-school children or under 5’s. \nIt is free of charge and requires no booking so participants only need to drop in to enjoy this event. \nImage (Crewe Library)
URL:https://discovercrewe.co.uk/event/rhymetime/2027-04-02/
LOCATION:Crewe Library\, Lifestyle Centre\, Moss Square\, Crewe\, CW1 2BB
CATEGORIES:Events,Family Attractions,Town Centre
ATTACH;FMTTYPE=image/jpeg:https://discovercrewe.co.uk/wp-content/uploads/2025/06/crewe-library.jpg
END:VEVENT
BEGIN:VEVENT
DTSTART;TZID=UTC:20270409T110000
DTEND;TZID=UTC:20270409T113000
DTSTAMP:20260424T083508
CREATED:20250721T145547Z
LAST-MODIFIED:20250721T145547Z
UID:10023441-1807268400-1807270200@discovercrewe.co.uk
SUMMARY:Rhymetime
DESCRIPTION:Songs\, rhymes and lots of movement! \nEvery Friday from 11am – 11.30am Crewe Library holds a Rhymetime session for pre-school children or under 5’s. \nIt is free of charge and requires no booking so participants only need to drop in to enjoy this event. \nImage (Crewe Library)
URL:https://discovercrewe.co.uk/event/rhymetime/2027-04-09/
LOCATION:Crewe Library\, Lifestyle Centre\, Moss Square\, Crewe\, CW1 2BB
CATEGORIES:Events,Family Attractions,Town Centre
ATTACH;FMTTYPE=image/jpeg:https://discovercrewe.co.uk/wp-content/uploads/2025/06/crewe-library.jpg
END:VEVENT
BEGIN:VEVENT
DTSTART;TZID=UTC:20270416T110000
DTEND;TZID=UTC:20270416T113000
DTSTAMP:20260424T083508
CREATED:20250721T145547Z
LAST-MODIFIED:20250721T145547Z
UID:10023442-1807873200-1807875000@discovercrewe.co.uk
SUMMARY:Rhymetime
DESCRIPTION:Songs\, rhymes and lots of movement! \nEvery Friday from 11am – 11.30am Crewe Library holds a Rhymetime session for pre-school children or under 5’s. \nIt is free of charge and requires no booking so participants only need to drop in to enjoy this event. \nImage (Crewe Library)
URL:https://discovercrewe.co.uk/event/rhymetime/2027-04-16/
LOCATION:Crewe Library\, Lifestyle Centre\, Moss Square\, Crewe\, CW1 2BB
CATEGORIES:Events,Family Attractions,Town Centre
ATTACH;FMTTYPE=image/jpeg:https://discovercrewe.co.uk/wp-content/uploads/2025/06/crewe-library.jpg
END:VEVENT
BEGIN:VEVENT
DTSTART;TZID=UTC:20270423T110000
DTEND;TZID=UTC:20270423T113000
DTSTAMP:20260424T083508
CREATED:20250721T145547Z
LAST-MODIFIED:20250721T145547Z
UID:10023443-1808478000-1808479800@discovercrewe.co.uk
SUMMARY:Rhymetime
DESCRIPTION:Songs\, rhymes and lots of movement! \nEvery Friday from 11am – 11.30am Crewe Library holds a Rhymetime session for pre-school children or under 5’s. \nIt is free of charge and requires no booking so participants only need to drop in to enjoy this event. \nImage (Crewe Library)
URL:https://discovercrewe.co.uk/event/rhymetime/2027-04-23/
LOCATION:Crewe Library\, Lifestyle Centre\, Moss Square\, Crewe\, CW1 2BB
CATEGORIES:Events,Family Attractions,Town Centre
ATTACH;FMTTYPE=image/jpeg:https://discovercrewe.co.uk/wp-content/uploads/2025/06/crewe-library.jpg
END:VEVENT
BEGIN:VEVENT
DTSTART;TZID=UTC:20270430T110000
DTEND;TZID=UTC:20270430T113000
DTSTAMP:20260424T083508
CREATED:20250721T145547Z
LAST-MODIFIED:20250721T145547Z
UID:10023444-1809082800-1809084600@discovercrewe.co.uk
SUMMARY:Rhymetime
DESCRIPTION:Songs\, rhymes and lots of movement! \nEvery Friday from 11am – 11.30am Crewe Library holds a Rhymetime session for pre-school children or under 5’s. \nIt is free of charge and requires no booking so participants only need to drop in to enjoy this event. \nImage (Crewe Library)
URL:https://discovercrewe.co.uk/event/rhymetime/2027-04-30/
LOCATION:Crewe Library\, Lifestyle Centre\, Moss Square\, Crewe\, CW1 2BB
CATEGORIES:Events,Family Attractions,Town Centre
ATTACH;FMTTYPE=image/jpeg:https://discovercrewe.co.uk/wp-content/uploads/2025/06/crewe-library.jpg
END:VEVENT
BEGIN:VEVENT
DTSTART;TZID=UTC:20270507T110000
DTEND;TZID=UTC:20270507T113000
DTSTAMP:20260424T083508
CREATED:20250721T145547Z
LAST-MODIFIED:20250721T145547Z
UID:10023445-1809687600-1809689400@discovercrewe.co.uk
SUMMARY:Rhymetime
DESCRIPTION:Songs\, rhymes and lots of movement! \nEvery Friday from 11am – 11.30am Crewe Library holds a Rhymetime session for pre-school children or under 5’s. \nIt is free of charge and requires no booking so participants only need to drop in to enjoy this event. \nImage (Crewe Library)
URL:https://discovercrewe.co.uk/event/rhymetime/2027-05-07/
LOCATION:Crewe Library\, Lifestyle Centre\, Moss Square\, Crewe\, CW1 2BB
CATEGORIES:Events,Family Attractions,Town Centre
ATTACH;FMTTYPE=image/jpeg:https://discovercrewe.co.uk/wp-content/uploads/2025/06/crewe-library.jpg
END:VEVENT
BEGIN:VEVENT
DTSTART;TZID=UTC:20270514T110000
DTEND;TZID=UTC:20270514T113000
DTSTAMP:20260424T083508
CREATED:20250721T145547Z
LAST-MODIFIED:20250721T145547Z
UID:10023446-1810292400-1810294200@discovercrewe.co.uk
SUMMARY:Rhymetime
DESCRIPTION:Songs\, rhymes and lots of movement! \nEvery Friday from 11am – 11.30am Crewe Library holds a Rhymetime session for pre-school children or under 5’s. \nIt is free of charge and requires no booking so participants only need to drop in to enjoy this event. \nImage (Crewe Library)
URL:https://discovercrewe.co.uk/event/rhymetime/2027-05-14/
LOCATION:Crewe Library\, Lifestyle Centre\, Moss Square\, Crewe\, CW1 2BB
CATEGORIES:Events,Family Attractions,Town Centre
ATTACH;FMTTYPE=image/jpeg:https://discovercrewe.co.uk/wp-content/uploads/2025/06/crewe-library.jpg
END:VEVENT
BEGIN:VEVENT
DTSTART;TZID=UTC:20270521T110000
DTEND;TZID=UTC:20270521T113000
DTSTAMP:20260424T083508
CREATED:20250721T145547Z
LAST-MODIFIED:20250721T145547Z
UID:10023447-1810897200-1810899000@discovercrewe.co.uk
SUMMARY:Rhymetime
DESCRIPTION:Songs\, rhymes and lots of movement! \nEvery Friday from 11am – 11.30am Crewe Library holds a Rhymetime session for pre-school children or under 5’s. \nIt is free of charge and requires no booking so participants only need to drop in to enjoy this event. \nImage (Crewe Library)
URL:https://discovercrewe.co.uk/event/rhymetime/2027-05-21/
LOCATION:Crewe Library\, Lifestyle Centre\, Moss Square\, Crewe\, CW1 2BB
CATEGORIES:Events,Family Attractions,Town Centre
ATTACH;FMTTYPE=image/jpeg:https://discovercrewe.co.uk/wp-content/uploads/2025/06/crewe-library.jpg
END:VEVENT
END:VCALENDAR