BEGIN:VCALENDAR
VERSION:2.0
PRODID:-//Discover Crewe - ECPv6.15.15//NONSGML v1.0//EN
CALSCALE:GREGORIAN
METHOD:PUBLISH
X-WR-CALNAME:Discover Crewe
X-ORIGINAL-URL:https://discovercrewe.co.uk
X-WR-CALDESC:Events for Discover Crewe
REFRESH-INTERVAL;VALUE=DURATION:PT1H
X-Robots-Tag:noindex
X-PUBLISHED-TTL:PT1H
BEGIN:VTIMEZONE
TZID:UTC
BEGIN:STANDARD
TZOFFSETFROM:+0000
TZOFFSETTO:+0000
TZNAME:UTC
DTSTART:20310101T000000
END:STANDARD
END:VTIMEZONE
BEGIN:VEVENT
DTSTART;TZID=UTC:20320708T180000
DTEND;TZID=UTC:20320708T210000
DTSTAMP:20260420T010621
CREATED:20260209T115940Z
LAST-MODIFIED:20260209T120234Z
UID:10040486-1972922400-1972933200@discovercrewe.co.uk
SUMMARY:Kill Team & Magic the Gathering
DESCRIPTION:Join Gumshoe Comics & Collectibles every Thursday at Big Mugs on Edleston Road for a games night. \nLearn how to play Warhammer Kill Team and Magic the Gathering or join the veteran gamers for friendly casual play. \nThe weekly event takes place from 6pm until 9pm. \nFor more information please visit here. \nImage (Gumshoe Comics & Collectibles)
URL:https://discovercrewe.co.uk/event/kill-team-magic-the-gathering/2032-07-08/
LOCATION:Big Mugs\, 251 Edleston Road\, Crewe\, CW2 7EA\, United Kingdom
CATEGORIES:Events,Market Hall,Town Centre
ATTACH;FMTTYPE=image/jpeg:https://discovercrewe.co.uk/wp-content/uploads/2026/02/warhammer-magic-the-gathering.jpg
END:VEVENT
BEGIN:VEVENT
DTSTART;TZID=UTC:20320715T180000
DTEND;TZID=UTC:20320715T210000
DTSTAMP:20260420T010621
CREATED:20260209T115940Z
LAST-MODIFIED:20260209T120234Z
UID:10040487-1973527200-1973538000@discovercrewe.co.uk
SUMMARY:Kill Team & Magic the Gathering
DESCRIPTION:Join Gumshoe Comics & Collectibles every Thursday at Big Mugs on Edleston Road for a games night. \nLearn how to play Warhammer Kill Team and Magic the Gathering or join the veteran gamers for friendly casual play. \nThe weekly event takes place from 6pm until 9pm. \nFor more information please visit here. \nImage (Gumshoe Comics & Collectibles)
URL:https://discovercrewe.co.uk/event/kill-team-magic-the-gathering/2032-07-15/
LOCATION:Big Mugs\, 251 Edleston Road\, Crewe\, CW2 7EA\, United Kingdom
CATEGORIES:Events,Market Hall,Town Centre
ATTACH;FMTTYPE=image/jpeg:https://discovercrewe.co.uk/wp-content/uploads/2026/02/warhammer-magic-the-gathering.jpg
END:VEVENT
BEGIN:VEVENT
DTSTART;TZID=UTC:20320722T180000
DTEND;TZID=UTC:20320722T210000
DTSTAMP:20260420T010621
CREATED:20260209T115940Z
LAST-MODIFIED:20260209T120234Z
UID:10040488-1974132000-1974142800@discovercrewe.co.uk
SUMMARY:Kill Team & Magic the Gathering
DESCRIPTION:Join Gumshoe Comics & Collectibles every Thursday at Big Mugs on Edleston Road for a games night. \nLearn how to play Warhammer Kill Team and Magic the Gathering or join the veteran gamers for friendly casual play. \nThe weekly event takes place from 6pm until 9pm. \nFor more information please visit here. \nImage (Gumshoe Comics & Collectibles)
URL:https://discovercrewe.co.uk/event/kill-team-magic-the-gathering/2032-07-22/
LOCATION:Big Mugs\, 251 Edleston Road\, Crewe\, CW2 7EA\, United Kingdom
CATEGORIES:Events,Market Hall,Town Centre
ATTACH;FMTTYPE=image/jpeg:https://discovercrewe.co.uk/wp-content/uploads/2026/02/warhammer-magic-the-gathering.jpg
END:VEVENT
BEGIN:VEVENT
DTSTART;TZID=UTC:20320729T180000
DTEND;TZID=UTC:20320729T210000
DTSTAMP:20260420T010621
CREATED:20260209T115940Z
LAST-MODIFIED:20260209T120234Z
UID:10040489-1974736800-1974747600@discovercrewe.co.uk
SUMMARY:Kill Team & Magic the Gathering
DESCRIPTION:Join Gumshoe Comics & Collectibles every Thursday at Big Mugs on Edleston Road for a games night. \nLearn how to play Warhammer Kill Team and Magic the Gathering or join the veteran gamers for friendly casual play. \nThe weekly event takes place from 6pm until 9pm. \nFor more information please visit here. \nImage (Gumshoe Comics & Collectibles)
URL:https://discovercrewe.co.uk/event/kill-team-magic-the-gathering/2032-07-29/
LOCATION:Big Mugs\, 251 Edleston Road\, Crewe\, CW2 7EA\, United Kingdom
CATEGORIES:Events,Market Hall,Town Centre
ATTACH;FMTTYPE=image/jpeg:https://discovercrewe.co.uk/wp-content/uploads/2026/02/warhammer-magic-the-gathering.jpg
END:VEVENT
BEGIN:VEVENT
DTSTART;TZID=UTC:20320805T180000
DTEND;TZID=UTC:20320805T210000
DTSTAMP:20260420T010621
CREATED:20260209T115940Z
LAST-MODIFIED:20260209T120234Z
UID:10040490-1975341600-1975352400@discovercrewe.co.uk
SUMMARY:Kill Team & Magic the Gathering
DESCRIPTION:Join Gumshoe Comics & Collectibles every Thursday at Big Mugs on Edleston Road for a games night. \nLearn how to play Warhammer Kill Team and Magic the Gathering or join the veteran gamers for friendly casual play. \nThe weekly event takes place from 6pm until 9pm. \nFor more information please visit here. \nImage (Gumshoe Comics & Collectibles)
URL:https://discovercrewe.co.uk/event/kill-team-magic-the-gathering/2032-08-05/
LOCATION:Big Mugs\, 251 Edleston Road\, Crewe\, CW2 7EA\, United Kingdom
CATEGORIES:Events,Market Hall,Town Centre
ATTACH;FMTTYPE=image/jpeg:https://discovercrewe.co.uk/wp-content/uploads/2026/02/warhammer-magic-the-gathering.jpg
END:VEVENT
BEGIN:VEVENT
DTSTART;TZID=UTC:20320812T180000
DTEND;TZID=UTC:20320812T210000
DTSTAMP:20260420T010621
CREATED:20260209T115940Z
LAST-MODIFIED:20260209T120234Z
UID:10040491-1975946400-1975957200@discovercrewe.co.uk
SUMMARY:Kill Team & Magic the Gathering
DESCRIPTION:Join Gumshoe Comics & Collectibles every Thursday at Big Mugs on Edleston Road for a games night. \nLearn how to play Warhammer Kill Team and Magic the Gathering or join the veteran gamers for friendly casual play. \nThe weekly event takes place from 6pm until 9pm. \nFor more information please visit here. \nImage (Gumshoe Comics & Collectibles)
URL:https://discovercrewe.co.uk/event/kill-team-magic-the-gathering/2032-08-12/
LOCATION:Big Mugs\, 251 Edleston Road\, Crewe\, CW2 7EA\, United Kingdom
CATEGORIES:Events,Market Hall,Town Centre
ATTACH;FMTTYPE=image/jpeg:https://discovercrewe.co.uk/wp-content/uploads/2026/02/warhammer-magic-the-gathering.jpg
END:VEVENT
BEGIN:VEVENT
DTSTART;TZID=UTC:20320819T180000
DTEND;TZID=UTC:20320819T210000
DTSTAMP:20260420T010621
CREATED:20260209T115940Z
LAST-MODIFIED:20260209T120234Z
UID:10040492-1976551200-1976562000@discovercrewe.co.uk
SUMMARY:Kill Team & Magic the Gathering
DESCRIPTION:Join Gumshoe Comics & Collectibles every Thursday at Big Mugs on Edleston Road for a games night. \nLearn how to play Warhammer Kill Team and Magic the Gathering or join the veteran gamers for friendly casual play. \nThe weekly event takes place from 6pm until 9pm. \nFor more information please visit here. \nImage (Gumshoe Comics & Collectibles)
URL:https://discovercrewe.co.uk/event/kill-team-magic-the-gathering/2032-08-19/
LOCATION:Big Mugs\, 251 Edleston Road\, Crewe\, CW2 7EA\, United Kingdom
CATEGORIES:Events,Market Hall,Town Centre
ATTACH;FMTTYPE=image/jpeg:https://discovercrewe.co.uk/wp-content/uploads/2026/02/warhammer-magic-the-gathering.jpg
END:VEVENT
BEGIN:VEVENT
DTSTART;TZID=UTC:20320826T180000
DTEND;TZID=UTC:20320826T210000
DTSTAMP:20260420T010621
CREATED:20260209T115940Z
LAST-MODIFIED:20260209T120234Z
UID:10040493-1977156000-1977166800@discovercrewe.co.uk
SUMMARY:Kill Team & Magic the Gathering
DESCRIPTION:Join Gumshoe Comics & Collectibles every Thursday at Big Mugs on Edleston Road for a games night. \nLearn how to play Warhammer Kill Team and Magic the Gathering or join the veteran gamers for friendly casual play. \nThe weekly event takes place from 6pm until 9pm. \nFor more information please visit here. \nImage (Gumshoe Comics & Collectibles)
URL:https://discovercrewe.co.uk/event/kill-team-magic-the-gathering/2032-08-26/
LOCATION:Big Mugs\, 251 Edleston Road\, Crewe\, CW2 7EA\, United Kingdom
CATEGORIES:Events,Market Hall,Town Centre
ATTACH;FMTTYPE=image/jpeg:https://discovercrewe.co.uk/wp-content/uploads/2026/02/warhammer-magic-the-gathering.jpg
END:VEVENT
BEGIN:VEVENT
DTSTART;TZID=UTC:20320902T180000
DTEND;TZID=UTC:20320902T210000
DTSTAMP:20260420T010621
CREATED:20260209T115940Z
LAST-MODIFIED:20260209T120234Z
UID:10040494-1977760800-1977771600@discovercrewe.co.uk
SUMMARY:Kill Team & Magic the Gathering
DESCRIPTION:Join Gumshoe Comics & Collectibles every Thursday at Big Mugs on Edleston Road for a games night. \nLearn how to play Warhammer Kill Team and Magic the Gathering or join the veteran gamers for friendly casual play. \nThe weekly event takes place from 6pm until 9pm. \nFor more information please visit here. \nImage (Gumshoe Comics & Collectibles)
URL:https://discovercrewe.co.uk/event/kill-team-magic-the-gathering/2032-09-02/
LOCATION:Big Mugs\, 251 Edleston Road\, Crewe\, CW2 7EA\, United Kingdom
CATEGORIES:Events,Market Hall,Town Centre
ATTACH;FMTTYPE=image/jpeg:https://discovercrewe.co.uk/wp-content/uploads/2026/02/warhammer-magic-the-gathering.jpg
END:VEVENT
BEGIN:VEVENT
DTSTART;TZID=UTC:20320909T180000
DTEND;TZID=UTC:20320909T210000
DTSTAMP:20260420T010621
CREATED:20260209T115940Z
LAST-MODIFIED:20260209T120234Z
UID:10040495-1978365600-1978376400@discovercrewe.co.uk
SUMMARY:Kill Team & Magic the Gathering
DESCRIPTION:Join Gumshoe Comics & Collectibles every Thursday at Big Mugs on Edleston Road for a games night. \nLearn how to play Warhammer Kill Team and Magic the Gathering or join the veteran gamers for friendly casual play. \nThe weekly event takes place from 6pm until 9pm. \nFor more information please visit here. \nImage (Gumshoe Comics & Collectibles)
URL:https://discovercrewe.co.uk/event/kill-team-magic-the-gathering/2032-09-09/
LOCATION:Big Mugs\, 251 Edleston Road\, Crewe\, CW2 7EA\, United Kingdom
CATEGORIES:Events,Market Hall,Town Centre
ATTACH;FMTTYPE=image/jpeg:https://discovercrewe.co.uk/wp-content/uploads/2026/02/warhammer-magic-the-gathering.jpg
END:VEVENT
BEGIN:VEVENT
DTSTART;TZID=UTC:20320916T180000
DTEND;TZID=UTC:20320916T210000
DTSTAMP:20260420T010621
CREATED:20260209T115940Z
LAST-MODIFIED:20260209T120234Z
UID:10040496-1978970400-1978981200@discovercrewe.co.uk
SUMMARY:Kill Team & Magic the Gathering
DESCRIPTION:Join Gumshoe Comics & Collectibles every Thursday at Big Mugs on Edleston Road for a games night. \nLearn how to play Warhammer Kill Team and Magic the Gathering or join the veteran gamers for friendly casual play. \nThe weekly event takes place from 6pm until 9pm. \nFor more information please visit here. \nImage (Gumshoe Comics & Collectibles)
URL:https://discovercrewe.co.uk/event/kill-team-magic-the-gathering/2032-09-16/
LOCATION:Big Mugs\, 251 Edleston Road\, Crewe\, CW2 7EA\, United Kingdom
CATEGORIES:Events,Market Hall,Town Centre
ATTACH;FMTTYPE=image/jpeg:https://discovercrewe.co.uk/wp-content/uploads/2026/02/warhammer-magic-the-gathering.jpg
END:VEVENT
BEGIN:VEVENT
DTSTART;TZID=UTC:20320923T180000
DTEND;TZID=UTC:20320923T210000
DTSTAMP:20260420T010621
CREATED:20260209T115940Z
LAST-MODIFIED:20260209T120234Z
UID:10040497-1979575200-1979586000@discovercrewe.co.uk
SUMMARY:Kill Team & Magic the Gathering
DESCRIPTION:Join Gumshoe Comics & Collectibles every Thursday at Big Mugs on Edleston Road for a games night. \nLearn how to play Warhammer Kill Team and Magic the Gathering or join the veteran gamers for friendly casual play. \nThe weekly event takes place from 6pm until 9pm. \nFor more information please visit here. \nImage (Gumshoe Comics & Collectibles)
URL:https://discovercrewe.co.uk/event/kill-team-magic-the-gathering/2032-09-23/
LOCATION:Big Mugs\, 251 Edleston Road\, Crewe\, CW2 7EA\, United Kingdom
CATEGORIES:Events,Market Hall,Town Centre
ATTACH;FMTTYPE=image/jpeg:https://discovercrewe.co.uk/wp-content/uploads/2026/02/warhammer-magic-the-gathering.jpg
END:VEVENT
BEGIN:VEVENT
DTSTART;TZID=UTC:20320930T180000
DTEND;TZID=UTC:20320930T210000
DTSTAMP:20260420T010621
CREATED:20260209T115940Z
LAST-MODIFIED:20260209T120234Z
UID:10040498-1980180000-1980190800@discovercrewe.co.uk
SUMMARY:Kill Team & Magic the Gathering
DESCRIPTION:Join Gumshoe Comics & Collectibles every Thursday at Big Mugs on Edleston Road for a games night. \nLearn how to play Warhammer Kill Team and Magic the Gathering or join the veteran gamers for friendly casual play. \nThe weekly event takes place from 6pm until 9pm. \nFor more information please visit here. \nImage (Gumshoe Comics & Collectibles)
URL:https://discovercrewe.co.uk/event/kill-team-magic-the-gathering/2032-09-30/
LOCATION:Big Mugs\, 251 Edleston Road\, Crewe\, CW2 7EA\, United Kingdom
CATEGORIES:Events,Market Hall,Town Centre
ATTACH;FMTTYPE=image/jpeg:https://discovercrewe.co.uk/wp-content/uploads/2026/02/warhammer-magic-the-gathering.jpg
END:VEVENT
BEGIN:VEVENT
DTSTART;TZID=UTC:20321007T180000
DTEND;TZID=UTC:20321007T210000
DTSTAMP:20260420T010621
CREATED:20260209T115940Z
LAST-MODIFIED:20260209T120234Z
UID:10040499-1980784800-1980795600@discovercrewe.co.uk
SUMMARY:Kill Team & Magic the Gathering
DESCRIPTION:Join Gumshoe Comics & Collectibles every Thursday at Big Mugs on Edleston Road for a games night. \nLearn how to play Warhammer Kill Team and Magic the Gathering or join the veteran gamers for friendly casual play. \nThe weekly event takes place from 6pm until 9pm. \nFor more information please visit here. \nImage (Gumshoe Comics & Collectibles)
URL:https://discovercrewe.co.uk/event/kill-team-magic-the-gathering/2032-10-07/
LOCATION:Big Mugs\, 251 Edleston Road\, Crewe\, CW2 7EA\, United Kingdom
CATEGORIES:Events,Market Hall,Town Centre
ATTACH;FMTTYPE=image/jpeg:https://discovercrewe.co.uk/wp-content/uploads/2026/02/warhammer-magic-the-gathering.jpg
END:VEVENT
BEGIN:VEVENT
DTSTART;TZID=UTC:20321014T180000
DTEND;TZID=UTC:20321014T210000
DTSTAMP:20260420T010621
CREATED:20260209T115940Z
LAST-MODIFIED:20260209T120234Z
UID:10040500-1981389600-1981400400@discovercrewe.co.uk
SUMMARY:Kill Team & Magic the Gathering
DESCRIPTION:Join Gumshoe Comics & Collectibles every Thursday at Big Mugs on Edleston Road for a games night. \nLearn how to play Warhammer Kill Team and Magic the Gathering or join the veteran gamers for friendly casual play. \nThe weekly event takes place from 6pm until 9pm. \nFor more information please visit here. \nImage (Gumshoe Comics & Collectibles)
URL:https://discovercrewe.co.uk/event/kill-team-magic-the-gathering/2032-10-14/
LOCATION:Big Mugs\, 251 Edleston Road\, Crewe\, CW2 7EA\, United Kingdom
CATEGORIES:Events,Market Hall,Town Centre
ATTACH;FMTTYPE=image/jpeg:https://discovercrewe.co.uk/wp-content/uploads/2026/02/warhammer-magic-the-gathering.jpg
END:VEVENT
BEGIN:VEVENT
DTSTART;TZID=UTC:20321021T180000
DTEND;TZID=UTC:20321021T210000
DTSTAMP:20260420T010621
CREATED:20260209T115940Z
LAST-MODIFIED:20260209T120234Z
UID:10040501-1981994400-1982005200@discovercrewe.co.uk
SUMMARY:Kill Team & Magic the Gathering
DESCRIPTION:Join Gumshoe Comics & Collectibles every Thursday at Big Mugs on Edleston Road for a games night. \nLearn how to play Warhammer Kill Team and Magic the Gathering or join the veteran gamers for friendly casual play. \nThe weekly event takes place from 6pm until 9pm. \nFor more information please visit here. \nImage (Gumshoe Comics & Collectibles)
URL:https://discovercrewe.co.uk/event/kill-team-magic-the-gathering/2032-10-21/
LOCATION:Big Mugs\, 251 Edleston Road\, Crewe\, CW2 7EA\, United Kingdom
CATEGORIES:Events,Market Hall,Town Centre
ATTACH;FMTTYPE=image/jpeg:https://discovercrewe.co.uk/wp-content/uploads/2026/02/warhammer-magic-the-gathering.jpg
END:VEVENT
BEGIN:VEVENT
DTSTART;TZID=UTC:20321028T180000
DTEND;TZID=UTC:20321028T210000
DTSTAMP:20260420T010621
CREATED:20260209T115940Z
LAST-MODIFIED:20260209T120234Z
UID:10040502-1982599200-1982610000@discovercrewe.co.uk
SUMMARY:Kill Team & Magic the Gathering
DESCRIPTION:Join Gumshoe Comics & Collectibles every Thursday at Big Mugs on Edleston Road for a games night. \nLearn how to play Warhammer Kill Team and Magic the Gathering or join the veteran gamers for friendly casual play. \nThe weekly event takes place from 6pm until 9pm. \nFor more information please visit here. \nImage (Gumshoe Comics & Collectibles)
URL:https://discovercrewe.co.uk/event/kill-team-magic-the-gathering/2032-10-28/
LOCATION:Big Mugs\, 251 Edleston Road\, Crewe\, CW2 7EA\, United Kingdom
CATEGORIES:Events,Market Hall,Town Centre
ATTACH;FMTTYPE=image/jpeg:https://discovercrewe.co.uk/wp-content/uploads/2026/02/warhammer-magic-the-gathering.jpg
END:VEVENT
BEGIN:VEVENT
DTSTART;TZID=UTC:20321104T180000
DTEND;TZID=UTC:20321104T210000
DTSTAMP:20260420T010621
CREATED:20260209T115940Z
LAST-MODIFIED:20260209T120234Z
UID:10040503-1983204000-1983214800@discovercrewe.co.uk
SUMMARY:Kill Team & Magic the Gathering
DESCRIPTION:Join Gumshoe Comics & Collectibles every Thursday at Big Mugs on Edleston Road for a games night. \nLearn how to play Warhammer Kill Team and Magic the Gathering or join the veteran gamers for friendly casual play. \nThe weekly event takes place from 6pm until 9pm. \nFor more information please visit here. \nImage (Gumshoe Comics & Collectibles)
URL:https://discovercrewe.co.uk/event/kill-team-magic-the-gathering/2032-11-04/
LOCATION:Big Mugs\, 251 Edleston Road\, Crewe\, CW2 7EA\, United Kingdom
CATEGORIES:Events,Market Hall,Town Centre
ATTACH;FMTTYPE=image/jpeg:https://discovercrewe.co.uk/wp-content/uploads/2026/02/warhammer-magic-the-gathering.jpg
END:VEVENT
BEGIN:VEVENT
DTSTART;TZID=UTC:20321111T180000
DTEND;TZID=UTC:20321111T210000
DTSTAMP:20260420T010621
CREATED:20260209T115940Z
LAST-MODIFIED:20260209T120234Z
UID:10040504-1983808800-1983819600@discovercrewe.co.uk
SUMMARY:Kill Team & Magic the Gathering
DESCRIPTION:Join Gumshoe Comics & Collectibles every Thursday at Big Mugs on Edleston Road for a games night. \nLearn how to play Warhammer Kill Team and Magic the Gathering or join the veteran gamers for friendly casual play. \nThe weekly event takes place from 6pm until 9pm. \nFor more information please visit here. \nImage (Gumshoe Comics & Collectibles)
URL:https://discovercrewe.co.uk/event/kill-team-magic-the-gathering/2032-11-11/
LOCATION:Big Mugs\, 251 Edleston Road\, Crewe\, CW2 7EA\, United Kingdom
CATEGORIES:Events,Market Hall,Town Centre
ATTACH;FMTTYPE=image/jpeg:https://discovercrewe.co.uk/wp-content/uploads/2026/02/warhammer-magic-the-gathering.jpg
END:VEVENT
BEGIN:VEVENT
DTSTART;TZID=UTC:20321118T180000
DTEND;TZID=UTC:20321118T210000
DTSTAMP:20260420T010621
CREATED:20260209T115940Z
LAST-MODIFIED:20260209T120234Z
UID:10040505-1984413600-1984424400@discovercrewe.co.uk
SUMMARY:Kill Team & Magic the Gathering
DESCRIPTION:Join Gumshoe Comics & Collectibles every Thursday at Big Mugs on Edleston Road for a games night. \nLearn how to play Warhammer Kill Team and Magic the Gathering or join the veteran gamers for friendly casual play. \nThe weekly event takes place from 6pm until 9pm. \nFor more information please visit here. \nImage (Gumshoe Comics & Collectibles)
URL:https://discovercrewe.co.uk/event/kill-team-magic-the-gathering/2032-11-18/
LOCATION:Big Mugs\, 251 Edleston Road\, Crewe\, CW2 7EA\, United Kingdom
CATEGORIES:Events,Market Hall,Town Centre
ATTACH;FMTTYPE=image/jpeg:https://discovercrewe.co.uk/wp-content/uploads/2026/02/warhammer-magic-the-gathering.jpg
END:VEVENT
BEGIN:VEVENT
DTSTART;TZID=UTC:20321125T180000
DTEND;TZID=UTC:20321125T210000
DTSTAMP:20260420T010621
CREATED:20260209T115940Z
LAST-MODIFIED:20260209T120234Z
UID:10040506-1985018400-1985029200@discovercrewe.co.uk
SUMMARY:Kill Team & Magic the Gathering
DESCRIPTION:Join Gumshoe Comics & Collectibles every Thursday at Big Mugs on Edleston Road for a games night. \nLearn how to play Warhammer Kill Team and Magic the Gathering or join the veteran gamers for friendly casual play. \nThe weekly event takes place from 6pm until 9pm. \nFor more information please visit here. \nImage (Gumshoe Comics & Collectibles)
URL:https://discovercrewe.co.uk/event/kill-team-magic-the-gathering/2032-11-25/
LOCATION:Big Mugs\, 251 Edleston Road\, Crewe\, CW2 7EA\, United Kingdom
CATEGORIES:Events,Market Hall,Town Centre
ATTACH;FMTTYPE=image/jpeg:https://discovercrewe.co.uk/wp-content/uploads/2026/02/warhammer-magic-the-gathering.jpg
END:VEVENT
BEGIN:VEVENT
DTSTART;TZID=UTC:20321202T180000
DTEND;TZID=UTC:20321202T210000
DTSTAMP:20260420T010621
CREATED:20260209T115940Z
LAST-MODIFIED:20260209T120234Z
UID:10040507-1985623200-1985634000@discovercrewe.co.uk
SUMMARY:Kill Team & Magic the Gathering
DESCRIPTION:Join Gumshoe Comics & Collectibles every Thursday at Big Mugs on Edleston Road for a games night. \nLearn how to play Warhammer Kill Team and Magic the Gathering or join the veteran gamers for friendly casual play. \nThe weekly event takes place from 6pm until 9pm. \nFor more information please visit here. \nImage (Gumshoe Comics & Collectibles)
URL:https://discovercrewe.co.uk/event/kill-team-magic-the-gathering/2032-12-02/
LOCATION:Big Mugs\, 251 Edleston Road\, Crewe\, CW2 7EA\, United Kingdom
CATEGORIES:Events,Market Hall,Town Centre
ATTACH;FMTTYPE=image/jpeg:https://discovercrewe.co.uk/wp-content/uploads/2026/02/warhammer-magic-the-gathering.jpg
END:VEVENT
BEGIN:VEVENT
DTSTART;TZID=UTC:20321209T180000
DTEND;TZID=UTC:20321209T210000
DTSTAMP:20260420T010621
CREATED:20260209T115940Z
LAST-MODIFIED:20260209T120234Z
UID:10040508-1986228000-1986238800@discovercrewe.co.uk
SUMMARY:Kill Team & Magic the Gathering
DESCRIPTION:Join Gumshoe Comics & Collectibles every Thursday at Big Mugs on Edleston Road for a games night. \nLearn how to play Warhammer Kill Team and Magic the Gathering or join the veteran gamers for friendly casual play. \nThe weekly event takes place from 6pm until 9pm. \nFor more information please visit here. \nImage (Gumshoe Comics & Collectibles)
URL:https://discovercrewe.co.uk/event/kill-team-magic-the-gathering/2032-12-09/
LOCATION:Big Mugs\, 251 Edleston Road\, Crewe\, CW2 7EA\, United Kingdom
CATEGORIES:Events,Market Hall,Town Centre
ATTACH;FMTTYPE=image/jpeg:https://discovercrewe.co.uk/wp-content/uploads/2026/02/warhammer-magic-the-gathering.jpg
END:VEVENT
BEGIN:VEVENT
DTSTART;TZID=UTC:20321216T180000
DTEND;TZID=UTC:20321216T210000
DTSTAMP:20260420T010621
CREATED:20260209T115940Z
LAST-MODIFIED:20260209T120234Z
UID:10040509-1986832800-1986843600@discovercrewe.co.uk
SUMMARY:Kill Team & Magic the Gathering
DESCRIPTION:Join Gumshoe Comics & Collectibles every Thursday at Big Mugs on Edleston Road for a games night. \nLearn how to play Warhammer Kill Team and Magic the Gathering or join the veteran gamers for friendly casual play. \nThe weekly event takes place from 6pm until 9pm. \nFor more information please visit here. \nImage (Gumshoe Comics & Collectibles)
URL:https://discovercrewe.co.uk/event/kill-team-magic-the-gathering/2032-12-16/
LOCATION:Big Mugs\, 251 Edleston Road\, Crewe\, CW2 7EA\, United Kingdom
CATEGORIES:Events,Market Hall,Town Centre
ATTACH;FMTTYPE=image/jpeg:https://discovercrewe.co.uk/wp-content/uploads/2026/02/warhammer-magic-the-gathering.jpg
END:VEVENT
BEGIN:VEVENT
DTSTART;TZID=UTC:20321223T180000
DTEND;TZID=UTC:20321223T210000
DTSTAMP:20260420T010621
CREATED:20260209T115940Z
LAST-MODIFIED:20260209T120234Z
UID:10040510-1987437600-1987448400@discovercrewe.co.uk
SUMMARY:Kill Team & Magic the Gathering
DESCRIPTION:Join Gumshoe Comics & Collectibles every Thursday at Big Mugs on Edleston Road for a games night. \nLearn how to play Warhammer Kill Team and Magic the Gathering or join the veteran gamers for friendly casual play. \nThe weekly event takes place from 6pm until 9pm. \nFor more information please visit here. \nImage (Gumshoe Comics & Collectibles)
URL:https://discovercrewe.co.uk/event/kill-team-magic-the-gathering/2032-12-23/
LOCATION:Big Mugs\, 251 Edleston Road\, Crewe\, CW2 7EA\, United Kingdom
CATEGORIES:Events,Market Hall,Town Centre
ATTACH;FMTTYPE=image/jpeg:https://discovercrewe.co.uk/wp-content/uploads/2026/02/warhammer-magic-the-gathering.jpg
END:VEVENT
BEGIN:VEVENT
DTSTART;TZID=UTC:20321230T180000
DTEND;TZID=UTC:20321230T210000
DTSTAMP:20260420T010621
CREATED:20260209T115940Z
LAST-MODIFIED:20260209T120234Z
UID:10040511-1988042400-1988053200@discovercrewe.co.uk
SUMMARY:Kill Team & Magic the Gathering
DESCRIPTION:Join Gumshoe Comics & Collectibles every Thursday at Big Mugs on Edleston Road for a games night. \nLearn how to play Warhammer Kill Team and Magic the Gathering or join the veteran gamers for friendly casual play. \nThe weekly event takes place from 6pm until 9pm. \nFor more information please visit here. \nImage (Gumshoe Comics & Collectibles)
URL:https://discovercrewe.co.uk/event/kill-team-magic-the-gathering/2032-12-30/
LOCATION:Big Mugs\, 251 Edleston Road\, Crewe\, CW2 7EA\, United Kingdom
CATEGORIES:Events,Market Hall,Town Centre
ATTACH;FMTTYPE=image/jpeg:https://discovercrewe.co.uk/wp-content/uploads/2026/02/warhammer-magic-the-gathering.jpg
END:VEVENT
BEGIN:VEVENT
DTSTART;TZID=UTC:20330106T180000
DTEND;TZID=UTC:20330106T210000
DTSTAMP:20260420T010621
CREATED:20260209T115940Z
LAST-MODIFIED:20260209T120234Z
UID:10040512-1988647200-1988658000@discovercrewe.co.uk
SUMMARY:Kill Team & Magic the Gathering
DESCRIPTION:Join Gumshoe Comics & Collectibles every Thursday at Big Mugs on Edleston Road for a games night. \nLearn how to play Warhammer Kill Team and Magic the Gathering or join the veteran gamers for friendly casual play. \nThe weekly event takes place from 6pm until 9pm. \nFor more information please visit here. \nImage (Gumshoe Comics & Collectibles)
URL:https://discovercrewe.co.uk/event/kill-team-magic-the-gathering/2033-01-06/
LOCATION:Big Mugs\, 251 Edleston Road\, Crewe\, CW2 7EA\, United Kingdom
CATEGORIES:Events,Market Hall,Town Centre
ATTACH;FMTTYPE=image/jpeg:https://discovercrewe.co.uk/wp-content/uploads/2026/02/warhammer-magic-the-gathering.jpg
END:VEVENT
BEGIN:VEVENT
DTSTART;TZID=UTC:20330113T180000
DTEND;TZID=UTC:20330113T210000
DTSTAMP:20260420T010621
CREATED:20260209T115940Z
LAST-MODIFIED:20260209T120234Z
UID:10040513-1989252000-1989262800@discovercrewe.co.uk
SUMMARY:Kill Team & Magic the Gathering
DESCRIPTION:Join Gumshoe Comics & Collectibles every Thursday at Big Mugs on Edleston Road for a games night. \nLearn how to play Warhammer Kill Team and Magic the Gathering or join the veteran gamers for friendly casual play. \nThe weekly event takes place from 6pm until 9pm. \nFor more information please visit here. \nImage (Gumshoe Comics & Collectibles)
URL:https://discovercrewe.co.uk/event/kill-team-magic-the-gathering/2033-01-13/
LOCATION:Big Mugs\, 251 Edleston Road\, Crewe\, CW2 7EA\, United Kingdom
CATEGORIES:Events,Market Hall,Town Centre
ATTACH;FMTTYPE=image/jpeg:https://discovercrewe.co.uk/wp-content/uploads/2026/02/warhammer-magic-the-gathering.jpg
END:VEVENT
BEGIN:VEVENT
DTSTART;TZID=UTC:20330120T180000
DTEND;TZID=UTC:20330120T210000
DTSTAMP:20260420T010621
CREATED:20260209T115940Z
LAST-MODIFIED:20260209T120234Z
UID:10040514-1989856800-1989867600@discovercrewe.co.uk
SUMMARY:Kill Team & Magic the Gathering
DESCRIPTION:Join Gumshoe Comics & Collectibles every Thursday at Big Mugs on Edleston Road for a games night. \nLearn how to play Warhammer Kill Team and Magic the Gathering or join the veteran gamers for friendly casual play. \nThe weekly event takes place from 6pm until 9pm. \nFor more information please visit here. \nImage (Gumshoe Comics & Collectibles)
URL:https://discovercrewe.co.uk/event/kill-team-magic-the-gathering/2033-01-20/
LOCATION:Big Mugs\, 251 Edleston Road\, Crewe\, CW2 7EA\, United Kingdom
CATEGORIES:Events,Market Hall,Town Centre
ATTACH;FMTTYPE=image/jpeg:https://discovercrewe.co.uk/wp-content/uploads/2026/02/warhammer-magic-the-gathering.jpg
END:VEVENT
BEGIN:VEVENT
DTSTART;TZID=UTC:20330127T180000
DTEND;TZID=UTC:20330127T210000
DTSTAMP:20260420T010621
CREATED:20260209T115940Z
LAST-MODIFIED:20260209T120234Z
UID:10040515-1990461600-1990472400@discovercrewe.co.uk
SUMMARY:Kill Team & Magic the Gathering
DESCRIPTION:Join Gumshoe Comics & Collectibles every Thursday at Big Mugs on Edleston Road for a games night. \nLearn how to play Warhammer Kill Team and Magic the Gathering or join the veteran gamers for friendly casual play. \nThe weekly event takes place from 6pm until 9pm. \nFor more information please visit here. \nImage (Gumshoe Comics & Collectibles)
URL:https://discovercrewe.co.uk/event/kill-team-magic-the-gathering/2033-01-27/
LOCATION:Big Mugs\, 251 Edleston Road\, Crewe\, CW2 7EA\, United Kingdom
CATEGORIES:Events,Market Hall,Town Centre
ATTACH;FMTTYPE=image/jpeg:https://discovercrewe.co.uk/wp-content/uploads/2026/02/warhammer-magic-the-gathering.jpg
END:VEVENT
END:VCALENDAR