BEGIN:VCALENDAR
VERSION:2.0
PRODID:-//Discover Crewe - ECPv6.15.15//NONSGML v1.0//EN
CALSCALE:GREGORIAN
METHOD:PUBLISH
X-WR-CALNAME:Discover Crewe
X-ORIGINAL-URL:https://discovercrewe.co.uk
X-WR-CALDESC:Events for Discover Crewe
REFRESH-INTERVAL;VALUE=DURATION:PT1H
X-Robots-Tag:noindex
X-PUBLISHED-TTL:PT1H
BEGIN:VTIMEZONE
TZID:UTC
BEGIN:STANDARD
TZOFFSETFROM:+0000
TZOFFSETTO:+0000
TZNAME:UTC
DTSTART:20300101T000000
END:STANDARD
END:VTIMEZONE
BEGIN:VEVENT
DTSTART;TZID=UTC:20311102T140000
DTEND;TZID=UTC:20311102T160000
DTSTAMP:20260421T020841
CREATED:20260209T111455Z
LAST-MODIFIED:20260209T111455Z
UID:10038884-1951394400-1951401600@discovercrewe.co.uk
SUMMARY:Geeky Quiz
DESCRIPTION:Every Sunday afternoon at The Lizards Lair Gaming Co\, they have a geeky quiz from 2pm until 4pm. \nCovering all topics from sci-fi\, games\, comics and fantasy its a trivia quiz fun for all nerds. \nThere will be prizes on offer and it’s completely free to take part. \nFor more information please visit here. \nImage (The Lizards Lair Gaming Co)
URL:https://discovercrewe.co.uk/event/geeky-quiz/2031-11-02/
LOCATION:Lizards Lair\, 22 Victoria Centre\, Crewe\, CW1 2PU\, United Kingdom
CATEGORIES:Lizards Lair,Town Centre
ATTACH;FMTTYPE=image/jpeg:https://discovercrewe.co.uk/wp-content/uploads/2026/02/geeky-quiz.jpg
END:VEVENT
BEGIN:VEVENT
DTSTART;TZID=UTC:20311109T140000
DTEND;TZID=UTC:20311109T160000
DTSTAMP:20260421T020841
CREATED:20260209T111455Z
LAST-MODIFIED:20260209T111455Z
UID:10038885-1951999200-1952006400@discovercrewe.co.uk
SUMMARY:Geeky Quiz
DESCRIPTION:Every Sunday afternoon at The Lizards Lair Gaming Co\, they have a geeky quiz from 2pm until 4pm. \nCovering all topics from sci-fi\, games\, comics and fantasy its a trivia quiz fun for all nerds. \nThere will be prizes on offer and it’s completely free to take part. \nFor more information please visit here. \nImage (The Lizards Lair Gaming Co)
URL:https://discovercrewe.co.uk/event/geeky-quiz/2031-11-09/
LOCATION:Lizards Lair\, 22 Victoria Centre\, Crewe\, CW1 2PU\, United Kingdom
CATEGORIES:Lizards Lair,Town Centre
ATTACH;FMTTYPE=image/jpeg:https://discovercrewe.co.uk/wp-content/uploads/2026/02/geeky-quiz.jpg
END:VEVENT
BEGIN:VEVENT
DTSTART;TZID=UTC:20311116T140000
DTEND;TZID=UTC:20311116T160000
DTSTAMP:20260421T020841
CREATED:20260209T111455Z
LAST-MODIFIED:20260209T111455Z
UID:10038886-1952604000-1952611200@discovercrewe.co.uk
SUMMARY:Geeky Quiz
DESCRIPTION:Every Sunday afternoon at The Lizards Lair Gaming Co\, they have a geeky quiz from 2pm until 4pm. \nCovering all topics from sci-fi\, games\, comics and fantasy its a trivia quiz fun for all nerds. \nThere will be prizes on offer and it’s completely free to take part. \nFor more information please visit here. \nImage (The Lizards Lair Gaming Co)
URL:https://discovercrewe.co.uk/event/geeky-quiz/2031-11-16/
LOCATION:Lizards Lair\, 22 Victoria Centre\, Crewe\, CW1 2PU\, United Kingdom
CATEGORIES:Lizards Lair,Town Centre
ATTACH;FMTTYPE=image/jpeg:https://discovercrewe.co.uk/wp-content/uploads/2026/02/geeky-quiz.jpg
END:VEVENT
BEGIN:VEVENT
DTSTART;TZID=UTC:20311123T140000
DTEND;TZID=UTC:20311123T160000
DTSTAMP:20260421T020841
CREATED:20260209T111455Z
LAST-MODIFIED:20260209T111455Z
UID:10038887-1953208800-1953216000@discovercrewe.co.uk
SUMMARY:Geeky Quiz
DESCRIPTION:Every Sunday afternoon at The Lizards Lair Gaming Co\, they have a geeky quiz from 2pm until 4pm. \nCovering all topics from sci-fi\, games\, comics and fantasy its a trivia quiz fun for all nerds. \nThere will be prizes on offer and it’s completely free to take part. \nFor more information please visit here. \nImage (The Lizards Lair Gaming Co)
URL:https://discovercrewe.co.uk/event/geeky-quiz/2031-11-23/
LOCATION:Lizards Lair\, 22 Victoria Centre\, Crewe\, CW1 2PU\, United Kingdom
CATEGORIES:Lizards Lair,Town Centre
ATTACH;FMTTYPE=image/jpeg:https://discovercrewe.co.uk/wp-content/uploads/2026/02/geeky-quiz.jpg
END:VEVENT
BEGIN:VEVENT
DTSTART;TZID=UTC:20311130T140000
DTEND;TZID=UTC:20311130T160000
DTSTAMP:20260421T020841
CREATED:20260209T111455Z
LAST-MODIFIED:20260209T111455Z
UID:10038888-1953813600-1953820800@discovercrewe.co.uk
SUMMARY:Geeky Quiz
DESCRIPTION:Every Sunday afternoon at The Lizards Lair Gaming Co\, they have a geeky quiz from 2pm until 4pm. \nCovering all topics from sci-fi\, games\, comics and fantasy its a trivia quiz fun for all nerds. \nThere will be prizes on offer and it’s completely free to take part. \nFor more information please visit here. \nImage (The Lizards Lair Gaming Co)
URL:https://discovercrewe.co.uk/event/geeky-quiz/2031-11-30/
LOCATION:Lizards Lair\, 22 Victoria Centre\, Crewe\, CW1 2PU\, United Kingdom
CATEGORIES:Lizards Lair,Town Centre
ATTACH;FMTTYPE=image/jpeg:https://discovercrewe.co.uk/wp-content/uploads/2026/02/geeky-quiz.jpg
END:VEVENT
BEGIN:VEVENT
DTSTART;TZID=UTC:20311207T140000
DTEND;TZID=UTC:20311207T160000
DTSTAMP:20260421T020841
CREATED:20260209T111455Z
LAST-MODIFIED:20260209T111455Z
UID:10038889-1954418400-1954425600@discovercrewe.co.uk
SUMMARY:Geeky Quiz
DESCRIPTION:Every Sunday afternoon at The Lizards Lair Gaming Co\, they have a geeky quiz from 2pm until 4pm. \nCovering all topics from sci-fi\, games\, comics and fantasy its a trivia quiz fun for all nerds. \nThere will be prizes on offer and it’s completely free to take part. \nFor more information please visit here. \nImage (The Lizards Lair Gaming Co)
URL:https://discovercrewe.co.uk/event/geeky-quiz/2031-12-07/
LOCATION:Lizards Lair\, 22 Victoria Centre\, Crewe\, CW1 2PU\, United Kingdom
CATEGORIES:Lizards Lair,Town Centre
ATTACH;FMTTYPE=image/jpeg:https://discovercrewe.co.uk/wp-content/uploads/2026/02/geeky-quiz.jpg
END:VEVENT
BEGIN:VEVENT
DTSTART;TZID=UTC:20311214T140000
DTEND;TZID=UTC:20311214T160000
DTSTAMP:20260421T020841
CREATED:20260209T111455Z
LAST-MODIFIED:20260209T111455Z
UID:10038890-1955023200-1955030400@discovercrewe.co.uk
SUMMARY:Geeky Quiz
DESCRIPTION:Every Sunday afternoon at The Lizards Lair Gaming Co\, they have a geeky quiz from 2pm until 4pm. \nCovering all topics from sci-fi\, games\, comics and fantasy its a trivia quiz fun for all nerds. \nThere will be prizes on offer and it’s completely free to take part. \nFor more information please visit here. \nImage (The Lizards Lair Gaming Co)
URL:https://discovercrewe.co.uk/event/geeky-quiz/2031-12-14/
LOCATION:Lizards Lair\, 22 Victoria Centre\, Crewe\, CW1 2PU\, United Kingdom
CATEGORIES:Lizards Lair,Town Centre
ATTACH;FMTTYPE=image/jpeg:https://discovercrewe.co.uk/wp-content/uploads/2026/02/geeky-quiz.jpg
END:VEVENT
BEGIN:VEVENT
DTSTART;TZID=UTC:20311221T140000
DTEND;TZID=UTC:20311221T160000
DTSTAMP:20260421T020841
CREATED:20260209T111455Z
LAST-MODIFIED:20260209T111455Z
UID:10038891-1955628000-1955635200@discovercrewe.co.uk
SUMMARY:Geeky Quiz
DESCRIPTION:Every Sunday afternoon at The Lizards Lair Gaming Co\, they have a geeky quiz from 2pm until 4pm. \nCovering all topics from sci-fi\, games\, comics and fantasy its a trivia quiz fun for all nerds. \nThere will be prizes on offer and it’s completely free to take part. \nFor more information please visit here. \nImage (The Lizards Lair Gaming Co)
URL:https://discovercrewe.co.uk/event/geeky-quiz/2031-12-21/
LOCATION:Lizards Lair\, 22 Victoria Centre\, Crewe\, CW1 2PU\, United Kingdom
CATEGORIES:Lizards Lair,Town Centre
ATTACH;FMTTYPE=image/jpeg:https://discovercrewe.co.uk/wp-content/uploads/2026/02/geeky-quiz.jpg
END:VEVENT
BEGIN:VEVENT
DTSTART;TZID=UTC:20311228T140000
DTEND;TZID=UTC:20311228T160000
DTSTAMP:20260421T020841
CREATED:20260209T111455Z
LAST-MODIFIED:20260209T111455Z
UID:10038892-1956232800-1956240000@discovercrewe.co.uk
SUMMARY:Geeky Quiz
DESCRIPTION:Every Sunday afternoon at The Lizards Lair Gaming Co\, they have a geeky quiz from 2pm until 4pm. \nCovering all topics from sci-fi\, games\, comics and fantasy its a trivia quiz fun for all nerds. \nThere will be prizes on offer and it’s completely free to take part. \nFor more information please visit here. \nImage (The Lizards Lair Gaming Co)
URL:https://discovercrewe.co.uk/event/geeky-quiz/2031-12-28/
LOCATION:Lizards Lair\, 22 Victoria Centre\, Crewe\, CW1 2PU\, United Kingdom
CATEGORIES:Lizards Lair,Town Centre
ATTACH;FMTTYPE=image/jpeg:https://discovercrewe.co.uk/wp-content/uploads/2026/02/geeky-quiz.jpg
END:VEVENT
BEGIN:VEVENT
DTSTART;TZID=UTC:20320104T140000
DTEND;TZID=UTC:20320104T160000
DTSTAMP:20260421T020841
CREATED:20260209T111455Z
LAST-MODIFIED:20260209T111455Z
UID:10038893-1956837600-1956844800@discovercrewe.co.uk
SUMMARY:Geeky Quiz
DESCRIPTION:Every Sunday afternoon at The Lizards Lair Gaming Co\, they have a geeky quiz from 2pm until 4pm. \nCovering all topics from sci-fi\, games\, comics and fantasy its a trivia quiz fun for all nerds. \nThere will be prizes on offer and it’s completely free to take part. \nFor more information please visit here. \nImage (The Lizards Lair Gaming Co)
URL:https://discovercrewe.co.uk/event/geeky-quiz/2032-01-04/
LOCATION:Lizards Lair\, 22 Victoria Centre\, Crewe\, CW1 2PU\, United Kingdom
CATEGORIES:Lizards Lair,Town Centre
ATTACH;FMTTYPE=image/jpeg:https://discovercrewe.co.uk/wp-content/uploads/2026/02/geeky-quiz.jpg
END:VEVENT
BEGIN:VEVENT
DTSTART;TZID=UTC:20320111T140000
DTEND;TZID=UTC:20320111T160000
DTSTAMP:20260421T020841
CREATED:20260209T111455Z
LAST-MODIFIED:20260209T111455Z
UID:10038894-1957442400-1957449600@discovercrewe.co.uk
SUMMARY:Geeky Quiz
DESCRIPTION:Every Sunday afternoon at The Lizards Lair Gaming Co\, they have a geeky quiz from 2pm until 4pm. \nCovering all topics from sci-fi\, games\, comics and fantasy its a trivia quiz fun for all nerds. \nThere will be prizes on offer and it’s completely free to take part. \nFor more information please visit here. \nImage (The Lizards Lair Gaming Co)
URL:https://discovercrewe.co.uk/event/geeky-quiz/2032-01-11/
LOCATION:Lizards Lair\, 22 Victoria Centre\, Crewe\, CW1 2PU\, United Kingdom
CATEGORIES:Lizards Lair,Town Centre
ATTACH;FMTTYPE=image/jpeg:https://discovercrewe.co.uk/wp-content/uploads/2026/02/geeky-quiz.jpg
END:VEVENT
BEGIN:VEVENT
DTSTART;TZID=UTC:20320118T140000
DTEND;TZID=UTC:20320118T160000
DTSTAMP:20260421T020841
CREATED:20260209T111455Z
LAST-MODIFIED:20260209T111455Z
UID:10038895-1958047200-1958054400@discovercrewe.co.uk
SUMMARY:Geeky Quiz
DESCRIPTION:Every Sunday afternoon at The Lizards Lair Gaming Co\, they have a geeky quiz from 2pm until 4pm. \nCovering all topics from sci-fi\, games\, comics and fantasy its a trivia quiz fun for all nerds. \nThere will be prizes on offer and it’s completely free to take part. \nFor more information please visit here. \nImage (The Lizards Lair Gaming Co)
URL:https://discovercrewe.co.uk/event/geeky-quiz/2032-01-18/
LOCATION:Lizards Lair\, 22 Victoria Centre\, Crewe\, CW1 2PU\, United Kingdom
CATEGORIES:Lizards Lair,Town Centre
ATTACH;FMTTYPE=image/jpeg:https://discovercrewe.co.uk/wp-content/uploads/2026/02/geeky-quiz.jpg
END:VEVENT
BEGIN:VEVENT
DTSTART;TZID=UTC:20320125T140000
DTEND;TZID=UTC:20320125T160000
DTSTAMP:20260421T020841
CREATED:20260209T111455Z
LAST-MODIFIED:20260209T111455Z
UID:10038896-1958652000-1958659200@discovercrewe.co.uk
SUMMARY:Geeky Quiz
DESCRIPTION:Every Sunday afternoon at The Lizards Lair Gaming Co\, they have a geeky quiz from 2pm until 4pm. \nCovering all topics from sci-fi\, games\, comics and fantasy its a trivia quiz fun for all nerds. \nThere will be prizes on offer and it’s completely free to take part. \nFor more information please visit here. \nImage (The Lizards Lair Gaming Co)
URL:https://discovercrewe.co.uk/event/geeky-quiz/2032-01-25/
LOCATION:Lizards Lair\, 22 Victoria Centre\, Crewe\, CW1 2PU\, United Kingdom
CATEGORIES:Lizards Lair,Town Centre
ATTACH;FMTTYPE=image/jpeg:https://discovercrewe.co.uk/wp-content/uploads/2026/02/geeky-quiz.jpg
END:VEVENT
BEGIN:VEVENT
DTSTART;TZID=UTC:20320201T140000
DTEND;TZID=UTC:20320201T160000
DTSTAMP:20260421T020841
CREATED:20260209T111455Z
LAST-MODIFIED:20260209T111455Z
UID:10038897-1959256800-1959264000@discovercrewe.co.uk
SUMMARY:Geeky Quiz
DESCRIPTION:Every Sunday afternoon at The Lizards Lair Gaming Co\, they have a geeky quiz from 2pm until 4pm. \nCovering all topics from sci-fi\, games\, comics and fantasy its a trivia quiz fun for all nerds. \nThere will be prizes on offer and it’s completely free to take part. \nFor more information please visit here. \nImage (The Lizards Lair Gaming Co)
URL:https://discovercrewe.co.uk/event/geeky-quiz/2032-02-01/
LOCATION:Lizards Lair\, 22 Victoria Centre\, Crewe\, CW1 2PU\, United Kingdom
CATEGORIES:Lizards Lair,Town Centre
ATTACH;FMTTYPE=image/jpeg:https://discovercrewe.co.uk/wp-content/uploads/2026/02/geeky-quiz.jpg
END:VEVENT
BEGIN:VEVENT
DTSTART;TZID=UTC:20320208T140000
DTEND;TZID=UTC:20320208T160000
DTSTAMP:20260421T020841
CREATED:20260209T111455Z
LAST-MODIFIED:20260209T111455Z
UID:10038898-1959861600-1959868800@discovercrewe.co.uk
SUMMARY:Geeky Quiz
DESCRIPTION:Every Sunday afternoon at The Lizards Lair Gaming Co\, they have a geeky quiz from 2pm until 4pm. \nCovering all topics from sci-fi\, games\, comics and fantasy its a trivia quiz fun for all nerds. \nThere will be prizes on offer and it’s completely free to take part. \nFor more information please visit here. \nImage (The Lizards Lair Gaming Co)
URL:https://discovercrewe.co.uk/event/geeky-quiz/2032-02-08/
LOCATION:Lizards Lair\, 22 Victoria Centre\, Crewe\, CW1 2PU\, United Kingdom
CATEGORIES:Lizards Lair,Town Centre
ATTACH;FMTTYPE=image/jpeg:https://discovercrewe.co.uk/wp-content/uploads/2026/02/geeky-quiz.jpg
END:VEVENT
BEGIN:VEVENT
DTSTART;TZID=UTC:20320215T140000
DTEND;TZID=UTC:20320215T160000
DTSTAMP:20260421T020841
CREATED:20260209T111455Z
LAST-MODIFIED:20260209T111455Z
UID:10038899-1960466400-1960473600@discovercrewe.co.uk
SUMMARY:Geeky Quiz
DESCRIPTION:Every Sunday afternoon at The Lizards Lair Gaming Co\, they have a geeky quiz from 2pm until 4pm. \nCovering all topics from sci-fi\, games\, comics and fantasy its a trivia quiz fun for all nerds. \nThere will be prizes on offer and it’s completely free to take part. \nFor more information please visit here. \nImage (The Lizards Lair Gaming Co)
URL:https://discovercrewe.co.uk/event/geeky-quiz/2032-02-15/
LOCATION:Lizards Lair\, 22 Victoria Centre\, Crewe\, CW1 2PU\, United Kingdom
CATEGORIES:Lizards Lair,Town Centre
ATTACH;FMTTYPE=image/jpeg:https://discovercrewe.co.uk/wp-content/uploads/2026/02/geeky-quiz.jpg
END:VEVENT
BEGIN:VEVENT
DTSTART;TZID=UTC:20320222T140000
DTEND;TZID=UTC:20320222T160000
DTSTAMP:20260421T020841
CREATED:20260209T111455Z
LAST-MODIFIED:20260209T111455Z
UID:10038900-1961071200-1961078400@discovercrewe.co.uk
SUMMARY:Geeky Quiz
DESCRIPTION:Every Sunday afternoon at The Lizards Lair Gaming Co\, they have a geeky quiz from 2pm until 4pm. \nCovering all topics from sci-fi\, games\, comics and fantasy its a trivia quiz fun for all nerds. \nThere will be prizes on offer and it’s completely free to take part. \nFor more information please visit here. \nImage (The Lizards Lair Gaming Co)
URL:https://discovercrewe.co.uk/event/geeky-quiz/2032-02-22/
LOCATION:Lizards Lair\, 22 Victoria Centre\, Crewe\, CW1 2PU\, United Kingdom
CATEGORIES:Lizards Lair,Town Centre
ATTACH;FMTTYPE=image/jpeg:https://discovercrewe.co.uk/wp-content/uploads/2026/02/geeky-quiz.jpg
END:VEVENT
BEGIN:VEVENT
DTSTART;TZID=UTC:20320229T140000
DTEND;TZID=UTC:20320229T160000
DTSTAMP:20260421T020841
CREATED:20260209T111455Z
LAST-MODIFIED:20260209T111455Z
UID:10038901-1961676000-1961683200@discovercrewe.co.uk
SUMMARY:Geeky Quiz
DESCRIPTION:Every Sunday afternoon at The Lizards Lair Gaming Co\, they have a geeky quiz from 2pm until 4pm. \nCovering all topics from sci-fi\, games\, comics and fantasy its a trivia quiz fun for all nerds. \nThere will be prizes on offer and it’s completely free to take part. \nFor more information please visit here. \nImage (The Lizards Lair Gaming Co)
URL:https://discovercrewe.co.uk/event/geeky-quiz/2032-02-29/
LOCATION:Lizards Lair\, 22 Victoria Centre\, Crewe\, CW1 2PU\, United Kingdom
CATEGORIES:Lizards Lair,Town Centre
ATTACH;FMTTYPE=image/jpeg:https://discovercrewe.co.uk/wp-content/uploads/2026/02/geeky-quiz.jpg
END:VEVENT
BEGIN:VEVENT
DTSTART;TZID=UTC:20320307T140000
DTEND;TZID=UTC:20320307T160000
DTSTAMP:20260421T020841
CREATED:20260209T111455Z
LAST-MODIFIED:20260209T111455Z
UID:10038902-1962280800-1962288000@discovercrewe.co.uk
SUMMARY:Geeky Quiz
DESCRIPTION:Every Sunday afternoon at The Lizards Lair Gaming Co\, they have a geeky quiz from 2pm until 4pm. \nCovering all topics from sci-fi\, games\, comics and fantasy its a trivia quiz fun for all nerds. \nThere will be prizes on offer and it’s completely free to take part. \nFor more information please visit here. \nImage (The Lizards Lair Gaming Co)
URL:https://discovercrewe.co.uk/event/geeky-quiz/2032-03-07/
LOCATION:Lizards Lair\, 22 Victoria Centre\, Crewe\, CW1 2PU\, United Kingdom
CATEGORIES:Lizards Lair,Town Centre
ATTACH;FMTTYPE=image/jpeg:https://discovercrewe.co.uk/wp-content/uploads/2026/02/geeky-quiz.jpg
END:VEVENT
BEGIN:VEVENT
DTSTART;TZID=UTC:20320314T140000
DTEND;TZID=UTC:20320314T160000
DTSTAMP:20260421T020841
CREATED:20260209T111455Z
LAST-MODIFIED:20260209T111455Z
UID:10038903-1962885600-1962892800@discovercrewe.co.uk
SUMMARY:Geeky Quiz
DESCRIPTION:Every Sunday afternoon at The Lizards Lair Gaming Co\, they have a geeky quiz from 2pm until 4pm. \nCovering all topics from sci-fi\, games\, comics and fantasy its a trivia quiz fun for all nerds. \nThere will be prizes on offer and it’s completely free to take part. \nFor more information please visit here. \nImage (The Lizards Lair Gaming Co)
URL:https://discovercrewe.co.uk/event/geeky-quiz/2032-03-14/
LOCATION:Lizards Lair\, 22 Victoria Centre\, Crewe\, CW1 2PU\, United Kingdom
CATEGORIES:Lizards Lair,Town Centre
ATTACH;FMTTYPE=image/jpeg:https://discovercrewe.co.uk/wp-content/uploads/2026/02/geeky-quiz.jpg
END:VEVENT
BEGIN:VEVENT
DTSTART;TZID=UTC:20320321T140000
DTEND;TZID=UTC:20320321T160000
DTSTAMP:20260421T020841
CREATED:20260209T111455Z
LAST-MODIFIED:20260209T111455Z
UID:10038904-1963490400-1963497600@discovercrewe.co.uk
SUMMARY:Geeky Quiz
DESCRIPTION:Every Sunday afternoon at The Lizards Lair Gaming Co\, they have a geeky quiz from 2pm until 4pm. \nCovering all topics from sci-fi\, games\, comics and fantasy its a trivia quiz fun for all nerds. \nThere will be prizes on offer and it’s completely free to take part. \nFor more information please visit here. \nImage (The Lizards Lair Gaming Co)
URL:https://discovercrewe.co.uk/event/geeky-quiz/2032-03-21/
LOCATION:Lizards Lair\, 22 Victoria Centre\, Crewe\, CW1 2PU\, United Kingdom
CATEGORIES:Lizards Lair,Town Centre
ATTACH;FMTTYPE=image/jpeg:https://discovercrewe.co.uk/wp-content/uploads/2026/02/geeky-quiz.jpg
END:VEVENT
BEGIN:VEVENT
DTSTART;TZID=UTC:20320328T140000
DTEND;TZID=UTC:20320328T160000
DTSTAMP:20260421T020841
CREATED:20260209T111455Z
LAST-MODIFIED:20260209T111455Z
UID:10038905-1964095200-1964102400@discovercrewe.co.uk
SUMMARY:Geeky Quiz
DESCRIPTION:Every Sunday afternoon at The Lizards Lair Gaming Co\, they have a geeky quiz from 2pm until 4pm. \nCovering all topics from sci-fi\, games\, comics and fantasy its a trivia quiz fun for all nerds. \nThere will be prizes on offer and it’s completely free to take part. \nFor more information please visit here. \nImage (The Lizards Lair Gaming Co)
URL:https://discovercrewe.co.uk/event/geeky-quiz/2032-03-28/
LOCATION:Lizards Lair\, 22 Victoria Centre\, Crewe\, CW1 2PU\, United Kingdom
CATEGORIES:Lizards Lair,Town Centre
ATTACH;FMTTYPE=image/jpeg:https://discovercrewe.co.uk/wp-content/uploads/2026/02/geeky-quiz.jpg
END:VEVENT
BEGIN:VEVENT
DTSTART;TZID=UTC:20320404T140000
DTEND;TZID=UTC:20320404T160000
DTSTAMP:20260421T020841
CREATED:20260209T111455Z
LAST-MODIFIED:20260209T111455Z
UID:10038906-1964700000-1964707200@discovercrewe.co.uk
SUMMARY:Geeky Quiz
DESCRIPTION:Every Sunday afternoon at The Lizards Lair Gaming Co\, they have a geeky quiz from 2pm until 4pm. \nCovering all topics from sci-fi\, games\, comics and fantasy its a trivia quiz fun for all nerds. \nThere will be prizes on offer and it’s completely free to take part. \nFor more information please visit here. \nImage (The Lizards Lair Gaming Co)
URL:https://discovercrewe.co.uk/event/geeky-quiz/2032-04-04/
LOCATION:Lizards Lair\, 22 Victoria Centre\, Crewe\, CW1 2PU\, United Kingdom
CATEGORIES:Lizards Lair,Town Centre
ATTACH;FMTTYPE=image/jpeg:https://discovercrewe.co.uk/wp-content/uploads/2026/02/geeky-quiz.jpg
END:VEVENT
BEGIN:VEVENT
DTSTART;TZID=UTC:20320411T140000
DTEND;TZID=UTC:20320411T160000
DTSTAMP:20260421T020841
CREATED:20260209T111455Z
LAST-MODIFIED:20260209T111455Z
UID:10038907-1965304800-1965312000@discovercrewe.co.uk
SUMMARY:Geeky Quiz
DESCRIPTION:Every Sunday afternoon at The Lizards Lair Gaming Co\, they have a geeky quiz from 2pm until 4pm. \nCovering all topics from sci-fi\, games\, comics and fantasy its a trivia quiz fun for all nerds. \nThere will be prizes on offer and it’s completely free to take part. \nFor more information please visit here. \nImage (The Lizards Lair Gaming Co)
URL:https://discovercrewe.co.uk/event/geeky-quiz/2032-04-11/
LOCATION:Lizards Lair\, 22 Victoria Centre\, Crewe\, CW1 2PU\, United Kingdom
CATEGORIES:Lizards Lair,Town Centre
ATTACH;FMTTYPE=image/jpeg:https://discovercrewe.co.uk/wp-content/uploads/2026/02/geeky-quiz.jpg
END:VEVENT
BEGIN:VEVENT
DTSTART;TZID=UTC:20320418T140000
DTEND;TZID=UTC:20320418T160000
DTSTAMP:20260421T020841
CREATED:20260209T111455Z
LAST-MODIFIED:20260209T111455Z
UID:10038908-1965909600-1965916800@discovercrewe.co.uk
SUMMARY:Geeky Quiz
DESCRIPTION:Every Sunday afternoon at The Lizards Lair Gaming Co\, they have a geeky quiz from 2pm until 4pm. \nCovering all topics from sci-fi\, games\, comics and fantasy its a trivia quiz fun for all nerds. \nThere will be prizes on offer and it’s completely free to take part. \nFor more information please visit here. \nImage (The Lizards Lair Gaming Co)
URL:https://discovercrewe.co.uk/event/geeky-quiz/2032-04-18/
LOCATION:Lizards Lair\, 22 Victoria Centre\, Crewe\, CW1 2PU\, United Kingdom
CATEGORIES:Lizards Lair,Town Centre
ATTACH;FMTTYPE=image/jpeg:https://discovercrewe.co.uk/wp-content/uploads/2026/02/geeky-quiz.jpg
END:VEVENT
BEGIN:VEVENT
DTSTART;TZID=UTC:20320425T140000
DTEND;TZID=UTC:20320425T160000
DTSTAMP:20260421T020841
CREATED:20260209T111455Z
LAST-MODIFIED:20260209T111455Z
UID:10038909-1966514400-1966521600@discovercrewe.co.uk
SUMMARY:Geeky Quiz
DESCRIPTION:Every Sunday afternoon at The Lizards Lair Gaming Co\, they have a geeky quiz from 2pm until 4pm. \nCovering all topics from sci-fi\, games\, comics and fantasy its a trivia quiz fun for all nerds. \nThere will be prizes on offer and it’s completely free to take part. \nFor more information please visit here. \nImage (The Lizards Lair Gaming Co)
URL:https://discovercrewe.co.uk/event/geeky-quiz/2032-04-25/
LOCATION:Lizards Lair\, 22 Victoria Centre\, Crewe\, CW1 2PU\, United Kingdom
CATEGORIES:Lizards Lair,Town Centre
ATTACH;FMTTYPE=image/jpeg:https://discovercrewe.co.uk/wp-content/uploads/2026/02/geeky-quiz.jpg
END:VEVENT
BEGIN:VEVENT
DTSTART;TZID=UTC:20320502T140000
DTEND;TZID=UTC:20320502T160000
DTSTAMP:20260421T020841
CREATED:20260209T111455Z
LAST-MODIFIED:20260209T111455Z
UID:10038910-1967119200-1967126400@discovercrewe.co.uk
SUMMARY:Geeky Quiz
DESCRIPTION:Every Sunday afternoon at The Lizards Lair Gaming Co\, they have a geeky quiz from 2pm until 4pm. \nCovering all topics from sci-fi\, games\, comics and fantasy its a trivia quiz fun for all nerds. \nThere will be prizes on offer and it’s completely free to take part. \nFor more information please visit here. \nImage (The Lizards Lair Gaming Co)
URL:https://discovercrewe.co.uk/event/geeky-quiz/2032-05-02/
LOCATION:Lizards Lair\, 22 Victoria Centre\, Crewe\, CW1 2PU\, United Kingdom
CATEGORIES:Lizards Lair,Town Centre
ATTACH;FMTTYPE=image/jpeg:https://discovercrewe.co.uk/wp-content/uploads/2026/02/geeky-quiz.jpg
END:VEVENT
BEGIN:VEVENT
DTSTART;TZID=UTC:20320509T140000
DTEND;TZID=UTC:20320509T160000
DTSTAMP:20260421T020841
CREATED:20260209T111455Z
LAST-MODIFIED:20260209T111455Z
UID:10038911-1967724000-1967731200@discovercrewe.co.uk
SUMMARY:Geeky Quiz
DESCRIPTION:Every Sunday afternoon at The Lizards Lair Gaming Co\, they have a geeky quiz from 2pm until 4pm. \nCovering all topics from sci-fi\, games\, comics and fantasy its a trivia quiz fun for all nerds. \nThere will be prizes on offer and it’s completely free to take part. \nFor more information please visit here. \nImage (The Lizards Lair Gaming Co)
URL:https://discovercrewe.co.uk/event/geeky-quiz/2032-05-09/
LOCATION:Lizards Lair\, 22 Victoria Centre\, Crewe\, CW1 2PU\, United Kingdom
CATEGORIES:Lizards Lair,Town Centre
ATTACH;FMTTYPE=image/jpeg:https://discovercrewe.co.uk/wp-content/uploads/2026/02/geeky-quiz.jpg
END:VEVENT
BEGIN:VEVENT
DTSTART;TZID=UTC:20320516T140000
DTEND;TZID=UTC:20320516T160000
DTSTAMP:20260421T020841
CREATED:20260209T111455Z
LAST-MODIFIED:20260209T111455Z
UID:10038912-1968328800-1968336000@discovercrewe.co.uk
SUMMARY:Geeky Quiz
DESCRIPTION:Every Sunday afternoon at The Lizards Lair Gaming Co\, they have a geeky quiz from 2pm until 4pm. \nCovering all topics from sci-fi\, games\, comics and fantasy its a trivia quiz fun for all nerds. \nThere will be prizes on offer and it’s completely free to take part. \nFor more information please visit here. \nImage (The Lizards Lair Gaming Co)
URL:https://discovercrewe.co.uk/event/geeky-quiz/2032-05-16/
LOCATION:Lizards Lair\, 22 Victoria Centre\, Crewe\, CW1 2PU\, United Kingdom
CATEGORIES:Lizards Lair,Town Centre
ATTACH;FMTTYPE=image/jpeg:https://discovercrewe.co.uk/wp-content/uploads/2026/02/geeky-quiz.jpg
END:VEVENT
BEGIN:VEVENT
DTSTART;TZID=UTC:20320523T140000
DTEND;TZID=UTC:20320523T160000
DTSTAMP:20260421T020841
CREATED:20260209T111455Z
LAST-MODIFIED:20260209T111455Z
UID:10038913-1968933600-1968940800@discovercrewe.co.uk
SUMMARY:Geeky Quiz
DESCRIPTION:Every Sunday afternoon at The Lizards Lair Gaming Co\, they have a geeky quiz from 2pm until 4pm. \nCovering all topics from sci-fi\, games\, comics and fantasy its a trivia quiz fun for all nerds. \nThere will be prizes on offer and it’s completely free to take part. \nFor more information please visit here. \nImage (The Lizards Lair Gaming Co)
URL:https://discovercrewe.co.uk/event/geeky-quiz/2032-05-23/
LOCATION:Lizards Lair\, 22 Victoria Centre\, Crewe\, CW1 2PU\, United Kingdom
CATEGORIES:Lizards Lair,Town Centre
ATTACH;FMTTYPE=image/jpeg:https://discovercrewe.co.uk/wp-content/uploads/2026/02/geeky-quiz.jpg
END:VEVENT
END:VCALENDAR