BEGIN:VCALENDAR
VERSION:2.0
PRODID:-//Discover Crewe - ECPv6.15.15//NONSGML v1.0//EN
CALSCALE:GREGORIAN
METHOD:PUBLISH
X-WR-CALNAME:Discover Crewe
X-ORIGINAL-URL:https://discovercrewe.co.uk
X-WR-CALDESC:Events for Discover Crewe
REFRESH-INTERVAL;VALUE=DURATION:PT1H
X-Robots-Tag:noindex
X-PUBLISHED-TTL:PT1H
BEGIN:VTIMEZONE
TZID:UTC
BEGIN:STANDARD
TZOFFSETFROM:+0000
TZOFFSETTO:+0000
TZNAME:UTC
DTSTART:20300101T000000
END:STANDARD
END:VTIMEZONE
BEGIN:VEVENT
DTSTART;TZID=UTC:20310828T110000
DTEND;TZID=UTC:20310828T120000
DTSTAMP:20260422T231846
CREATED:20260209T113657Z
LAST-MODIFIED:20260209T113657Z
UID:10039918-1945681200-1945684800@discovercrewe.co.uk
SUMMARY:Learn to Knit
DESCRIPTION:Join The Lizards Lair Gaming Co on Thursday mornings from 11am until 12pm for free knitting workshops. \nAll beginners are welcome to get creative and enjoy a relaxed and friendly environment. \nFor more information please visit here. \nImage (The Lizards Lair Gaming Co)
URL:https://discovercrewe.co.uk/event/learn-to-knit/2031-08-28/
LOCATION:Lizards Lair\, 22 Victoria Centre\, Crewe\, CW1 2PU\, United Kingdom
CATEGORIES:Lizards Lair,Town Centre
ATTACH;FMTTYPE=image/jpeg:https://discovercrewe.co.uk/wp-content/uploads/2026/02/Learn-to-Knit.jpg
END:VEVENT
BEGIN:VEVENT
DTSTART;TZID=UTC:20310904T110000
DTEND;TZID=UTC:20310904T120000
DTSTAMP:20260422T231846
CREATED:20260209T113657Z
LAST-MODIFIED:20260209T113657Z
UID:10039919-1946286000-1946289600@discovercrewe.co.uk
SUMMARY:Learn to Knit
DESCRIPTION:Join The Lizards Lair Gaming Co on Thursday mornings from 11am until 12pm for free knitting workshops. \nAll beginners are welcome to get creative and enjoy a relaxed and friendly environment. \nFor more information please visit here. \nImage (The Lizards Lair Gaming Co)
URL:https://discovercrewe.co.uk/event/learn-to-knit/2031-09-04/
LOCATION:Lizards Lair\, 22 Victoria Centre\, Crewe\, CW1 2PU\, United Kingdom
CATEGORIES:Lizards Lair,Town Centre
ATTACH;FMTTYPE=image/jpeg:https://discovercrewe.co.uk/wp-content/uploads/2026/02/Learn-to-Knit.jpg
END:VEVENT
BEGIN:VEVENT
DTSTART;TZID=UTC:20310911T110000
DTEND;TZID=UTC:20310911T120000
DTSTAMP:20260422T231846
CREATED:20260209T113657Z
LAST-MODIFIED:20260209T113657Z
UID:10039920-1946890800-1946894400@discovercrewe.co.uk
SUMMARY:Learn to Knit
DESCRIPTION:Join The Lizards Lair Gaming Co on Thursday mornings from 11am until 12pm for free knitting workshops. \nAll beginners are welcome to get creative and enjoy a relaxed and friendly environment. \nFor more information please visit here. \nImage (The Lizards Lair Gaming Co)
URL:https://discovercrewe.co.uk/event/learn-to-knit/2031-09-11/
LOCATION:Lizards Lair\, 22 Victoria Centre\, Crewe\, CW1 2PU\, United Kingdom
CATEGORIES:Lizards Lair,Town Centre
ATTACH;FMTTYPE=image/jpeg:https://discovercrewe.co.uk/wp-content/uploads/2026/02/Learn-to-Knit.jpg
END:VEVENT
BEGIN:VEVENT
DTSTART;TZID=UTC:20310918T110000
DTEND;TZID=UTC:20310918T120000
DTSTAMP:20260422T231846
CREATED:20260209T113657Z
LAST-MODIFIED:20260209T113657Z
UID:10039921-1947495600-1947499200@discovercrewe.co.uk
SUMMARY:Learn to Knit
DESCRIPTION:Join The Lizards Lair Gaming Co on Thursday mornings from 11am until 12pm for free knitting workshops. \nAll beginners are welcome to get creative and enjoy a relaxed and friendly environment. \nFor more information please visit here. \nImage (The Lizards Lair Gaming Co)
URL:https://discovercrewe.co.uk/event/learn-to-knit/2031-09-18/
LOCATION:Lizards Lair\, 22 Victoria Centre\, Crewe\, CW1 2PU\, United Kingdom
CATEGORIES:Lizards Lair,Town Centre
ATTACH;FMTTYPE=image/jpeg:https://discovercrewe.co.uk/wp-content/uploads/2026/02/Learn-to-Knit.jpg
END:VEVENT
BEGIN:VEVENT
DTSTART;TZID=UTC:20310925T110000
DTEND;TZID=UTC:20310925T120000
DTSTAMP:20260422T231846
CREATED:20260209T113657Z
LAST-MODIFIED:20260209T113657Z
UID:10039922-1948100400-1948104000@discovercrewe.co.uk
SUMMARY:Learn to Knit
DESCRIPTION:Join The Lizards Lair Gaming Co on Thursday mornings from 11am until 12pm for free knitting workshops. \nAll beginners are welcome to get creative and enjoy a relaxed and friendly environment. \nFor more information please visit here. \nImage (The Lizards Lair Gaming Co)
URL:https://discovercrewe.co.uk/event/learn-to-knit/2031-09-25/
LOCATION:Lizards Lair\, 22 Victoria Centre\, Crewe\, CW1 2PU\, United Kingdom
CATEGORIES:Lizards Lair,Town Centre
ATTACH;FMTTYPE=image/jpeg:https://discovercrewe.co.uk/wp-content/uploads/2026/02/Learn-to-Knit.jpg
END:VEVENT
BEGIN:VEVENT
DTSTART;TZID=UTC:20311002T110000
DTEND;TZID=UTC:20311002T120000
DTSTAMP:20260422T231846
CREATED:20260209T113657Z
LAST-MODIFIED:20260209T113657Z
UID:10039923-1948705200-1948708800@discovercrewe.co.uk
SUMMARY:Learn to Knit
DESCRIPTION:Join The Lizards Lair Gaming Co on Thursday mornings from 11am until 12pm for free knitting workshops. \nAll beginners are welcome to get creative and enjoy a relaxed and friendly environment. \nFor more information please visit here. \nImage (The Lizards Lair Gaming Co)
URL:https://discovercrewe.co.uk/event/learn-to-knit/2031-10-02/
LOCATION:Lizards Lair\, 22 Victoria Centre\, Crewe\, CW1 2PU\, United Kingdom
CATEGORIES:Lizards Lair,Town Centre
ATTACH;FMTTYPE=image/jpeg:https://discovercrewe.co.uk/wp-content/uploads/2026/02/Learn-to-Knit.jpg
END:VEVENT
BEGIN:VEVENT
DTSTART;TZID=UTC:20311009T110000
DTEND;TZID=UTC:20311009T120000
DTSTAMP:20260422T231847
CREATED:20260209T113657Z
LAST-MODIFIED:20260209T113657Z
UID:10039924-1949310000-1949313600@discovercrewe.co.uk
SUMMARY:Learn to Knit
DESCRIPTION:Join The Lizards Lair Gaming Co on Thursday mornings from 11am until 12pm for free knitting workshops. \nAll beginners are welcome to get creative and enjoy a relaxed and friendly environment. \nFor more information please visit here. \nImage (The Lizards Lair Gaming Co)
URL:https://discovercrewe.co.uk/event/learn-to-knit/2031-10-09/
LOCATION:Lizards Lair\, 22 Victoria Centre\, Crewe\, CW1 2PU\, United Kingdom
CATEGORIES:Lizards Lair,Town Centre
ATTACH;FMTTYPE=image/jpeg:https://discovercrewe.co.uk/wp-content/uploads/2026/02/Learn-to-Knit.jpg
END:VEVENT
BEGIN:VEVENT
DTSTART;TZID=UTC:20311016T110000
DTEND;TZID=UTC:20311016T120000
DTSTAMP:20260422T231847
CREATED:20260209T113657Z
LAST-MODIFIED:20260209T113657Z
UID:10039925-1949914800-1949918400@discovercrewe.co.uk
SUMMARY:Learn to Knit
DESCRIPTION:Join The Lizards Lair Gaming Co on Thursday mornings from 11am until 12pm for free knitting workshops. \nAll beginners are welcome to get creative and enjoy a relaxed and friendly environment. \nFor more information please visit here. \nImage (The Lizards Lair Gaming Co)
URL:https://discovercrewe.co.uk/event/learn-to-knit/2031-10-16/
LOCATION:Lizards Lair\, 22 Victoria Centre\, Crewe\, CW1 2PU\, United Kingdom
CATEGORIES:Lizards Lair,Town Centre
ATTACH;FMTTYPE=image/jpeg:https://discovercrewe.co.uk/wp-content/uploads/2026/02/Learn-to-Knit.jpg
END:VEVENT
BEGIN:VEVENT
DTSTART;TZID=UTC:20311023T110000
DTEND;TZID=UTC:20311023T120000
DTSTAMP:20260422T231847
CREATED:20260209T113657Z
LAST-MODIFIED:20260209T113657Z
UID:10039926-1950519600-1950523200@discovercrewe.co.uk
SUMMARY:Learn to Knit
DESCRIPTION:Join The Lizards Lair Gaming Co on Thursday mornings from 11am until 12pm for free knitting workshops. \nAll beginners are welcome to get creative and enjoy a relaxed and friendly environment. \nFor more information please visit here. \nImage (The Lizards Lair Gaming Co)
URL:https://discovercrewe.co.uk/event/learn-to-knit/2031-10-23/
LOCATION:Lizards Lair\, 22 Victoria Centre\, Crewe\, CW1 2PU\, United Kingdom
CATEGORIES:Lizards Lair,Town Centre
ATTACH;FMTTYPE=image/jpeg:https://discovercrewe.co.uk/wp-content/uploads/2026/02/Learn-to-Knit.jpg
END:VEVENT
BEGIN:VEVENT
DTSTART;TZID=UTC:20311030T110000
DTEND;TZID=UTC:20311030T120000
DTSTAMP:20260422T231847
CREATED:20260209T113657Z
LAST-MODIFIED:20260209T113657Z
UID:10039927-1951124400-1951128000@discovercrewe.co.uk
SUMMARY:Learn to Knit
DESCRIPTION:Join The Lizards Lair Gaming Co on Thursday mornings from 11am until 12pm for free knitting workshops. \nAll beginners are welcome to get creative and enjoy a relaxed and friendly environment. \nFor more information please visit here. \nImage (The Lizards Lair Gaming Co)
URL:https://discovercrewe.co.uk/event/learn-to-knit/2031-10-30/
LOCATION:Lizards Lair\, 22 Victoria Centre\, Crewe\, CW1 2PU\, United Kingdom
CATEGORIES:Lizards Lair,Town Centre
ATTACH;FMTTYPE=image/jpeg:https://discovercrewe.co.uk/wp-content/uploads/2026/02/Learn-to-Knit.jpg
END:VEVENT
BEGIN:VEVENT
DTSTART;TZID=UTC:20311106T110000
DTEND;TZID=UTC:20311106T120000
DTSTAMP:20260422T231847
CREATED:20260209T113657Z
LAST-MODIFIED:20260209T113657Z
UID:10039928-1951729200-1951732800@discovercrewe.co.uk
SUMMARY:Learn to Knit
DESCRIPTION:Join The Lizards Lair Gaming Co on Thursday mornings from 11am until 12pm for free knitting workshops. \nAll beginners are welcome to get creative and enjoy a relaxed and friendly environment. \nFor more information please visit here. \nImage (The Lizards Lair Gaming Co)
URL:https://discovercrewe.co.uk/event/learn-to-knit/2031-11-06/
LOCATION:Lizards Lair\, 22 Victoria Centre\, Crewe\, CW1 2PU\, United Kingdom
CATEGORIES:Lizards Lair,Town Centre
ATTACH;FMTTYPE=image/jpeg:https://discovercrewe.co.uk/wp-content/uploads/2026/02/Learn-to-Knit.jpg
END:VEVENT
BEGIN:VEVENT
DTSTART;TZID=UTC:20311113T110000
DTEND;TZID=UTC:20311113T120000
DTSTAMP:20260422T231847
CREATED:20260209T113657Z
LAST-MODIFIED:20260209T113657Z
UID:10039929-1952334000-1952337600@discovercrewe.co.uk
SUMMARY:Learn to Knit
DESCRIPTION:Join The Lizards Lair Gaming Co on Thursday mornings from 11am until 12pm for free knitting workshops. \nAll beginners are welcome to get creative and enjoy a relaxed and friendly environment. \nFor more information please visit here. \nImage (The Lizards Lair Gaming Co)
URL:https://discovercrewe.co.uk/event/learn-to-knit/2031-11-13/
LOCATION:Lizards Lair\, 22 Victoria Centre\, Crewe\, CW1 2PU\, United Kingdom
CATEGORIES:Lizards Lair,Town Centre
ATTACH;FMTTYPE=image/jpeg:https://discovercrewe.co.uk/wp-content/uploads/2026/02/Learn-to-Knit.jpg
END:VEVENT
BEGIN:VEVENT
DTSTART;TZID=UTC:20311120T110000
DTEND;TZID=UTC:20311120T120000
DTSTAMP:20260422T231847
CREATED:20260209T113657Z
LAST-MODIFIED:20260209T113657Z
UID:10039930-1952938800-1952942400@discovercrewe.co.uk
SUMMARY:Learn to Knit
DESCRIPTION:Join The Lizards Lair Gaming Co on Thursday mornings from 11am until 12pm for free knitting workshops. \nAll beginners are welcome to get creative and enjoy a relaxed and friendly environment. \nFor more information please visit here. \nImage (The Lizards Lair Gaming Co)
URL:https://discovercrewe.co.uk/event/learn-to-knit/2031-11-20/
LOCATION:Lizards Lair\, 22 Victoria Centre\, Crewe\, CW1 2PU\, United Kingdom
CATEGORIES:Lizards Lair,Town Centre
ATTACH;FMTTYPE=image/jpeg:https://discovercrewe.co.uk/wp-content/uploads/2026/02/Learn-to-Knit.jpg
END:VEVENT
BEGIN:VEVENT
DTSTART;TZID=UTC:20311127T110000
DTEND;TZID=UTC:20311127T120000
DTSTAMP:20260422T231847
CREATED:20260209T113657Z
LAST-MODIFIED:20260209T113657Z
UID:10039931-1953543600-1953547200@discovercrewe.co.uk
SUMMARY:Learn to Knit
DESCRIPTION:Join The Lizards Lair Gaming Co on Thursday mornings from 11am until 12pm for free knitting workshops. \nAll beginners are welcome to get creative and enjoy a relaxed and friendly environment. \nFor more information please visit here. \nImage (The Lizards Lair Gaming Co)
URL:https://discovercrewe.co.uk/event/learn-to-knit/2031-11-27/
LOCATION:Lizards Lair\, 22 Victoria Centre\, Crewe\, CW1 2PU\, United Kingdom
CATEGORIES:Lizards Lair,Town Centre
ATTACH;FMTTYPE=image/jpeg:https://discovercrewe.co.uk/wp-content/uploads/2026/02/Learn-to-Knit.jpg
END:VEVENT
BEGIN:VEVENT
DTSTART;TZID=UTC:20311204T110000
DTEND;TZID=UTC:20311204T120000
DTSTAMP:20260422T231847
CREATED:20260209T113657Z
LAST-MODIFIED:20260209T113657Z
UID:10039932-1954148400-1954152000@discovercrewe.co.uk
SUMMARY:Learn to Knit
DESCRIPTION:Join The Lizards Lair Gaming Co on Thursday mornings from 11am until 12pm for free knitting workshops. \nAll beginners are welcome to get creative and enjoy a relaxed and friendly environment. \nFor more information please visit here. \nImage (The Lizards Lair Gaming Co)
URL:https://discovercrewe.co.uk/event/learn-to-knit/2031-12-04/
LOCATION:Lizards Lair\, 22 Victoria Centre\, Crewe\, CW1 2PU\, United Kingdom
CATEGORIES:Lizards Lair,Town Centre
ATTACH;FMTTYPE=image/jpeg:https://discovercrewe.co.uk/wp-content/uploads/2026/02/Learn-to-Knit.jpg
END:VEVENT
BEGIN:VEVENT
DTSTART;TZID=UTC:20311211T110000
DTEND;TZID=UTC:20311211T120000
DTSTAMP:20260422T231847
CREATED:20260209T113657Z
LAST-MODIFIED:20260209T113657Z
UID:10039933-1954753200-1954756800@discovercrewe.co.uk
SUMMARY:Learn to Knit
DESCRIPTION:Join The Lizards Lair Gaming Co on Thursday mornings from 11am until 12pm for free knitting workshops. \nAll beginners are welcome to get creative and enjoy a relaxed and friendly environment. \nFor more information please visit here. \nImage (The Lizards Lair Gaming Co)
URL:https://discovercrewe.co.uk/event/learn-to-knit/2031-12-11/
LOCATION:Lizards Lair\, 22 Victoria Centre\, Crewe\, CW1 2PU\, United Kingdom
CATEGORIES:Lizards Lair,Town Centre
ATTACH;FMTTYPE=image/jpeg:https://discovercrewe.co.uk/wp-content/uploads/2026/02/Learn-to-Knit.jpg
END:VEVENT
BEGIN:VEVENT
DTSTART;TZID=UTC:20311218T110000
DTEND;TZID=UTC:20311218T120000
DTSTAMP:20260422T231847
CREATED:20260209T113657Z
LAST-MODIFIED:20260209T113657Z
UID:10039934-1955358000-1955361600@discovercrewe.co.uk
SUMMARY:Learn to Knit
DESCRIPTION:Join The Lizards Lair Gaming Co on Thursday mornings from 11am until 12pm for free knitting workshops. \nAll beginners are welcome to get creative and enjoy a relaxed and friendly environment. \nFor more information please visit here. \nImage (The Lizards Lair Gaming Co)
URL:https://discovercrewe.co.uk/event/learn-to-knit/2031-12-18/
LOCATION:Lizards Lair\, 22 Victoria Centre\, Crewe\, CW1 2PU\, United Kingdom
CATEGORIES:Lizards Lair,Town Centre
ATTACH;FMTTYPE=image/jpeg:https://discovercrewe.co.uk/wp-content/uploads/2026/02/Learn-to-Knit.jpg
END:VEVENT
BEGIN:VEVENT
DTSTART;TZID=UTC:20311225T110000
DTEND;TZID=UTC:20311225T120000
DTSTAMP:20260422T231847
CREATED:20260209T113657Z
LAST-MODIFIED:20260209T113657Z
UID:10039935-1955962800-1955966400@discovercrewe.co.uk
SUMMARY:Learn to Knit
DESCRIPTION:Join The Lizards Lair Gaming Co on Thursday mornings from 11am until 12pm for free knitting workshops. \nAll beginners are welcome to get creative and enjoy a relaxed and friendly environment. \nFor more information please visit here. \nImage (The Lizards Lair Gaming Co)
URL:https://discovercrewe.co.uk/event/learn-to-knit/2031-12-25/
LOCATION:Lizards Lair\, 22 Victoria Centre\, Crewe\, CW1 2PU\, United Kingdom
CATEGORIES:Lizards Lair,Town Centre
ATTACH;FMTTYPE=image/jpeg:https://discovercrewe.co.uk/wp-content/uploads/2026/02/Learn-to-Knit.jpg
END:VEVENT
BEGIN:VEVENT
DTSTART;TZID=UTC:20320101T110000
DTEND;TZID=UTC:20320101T120000
DTSTAMP:20260422T231847
CREATED:20260209T113657Z
LAST-MODIFIED:20260209T113657Z
UID:10039936-1956567600-1956571200@discovercrewe.co.uk
SUMMARY:Learn to Knit
DESCRIPTION:Join The Lizards Lair Gaming Co on Thursday mornings from 11am until 12pm for free knitting workshops. \nAll beginners are welcome to get creative and enjoy a relaxed and friendly environment. \nFor more information please visit here. \nImage (The Lizards Lair Gaming Co)
URL:https://discovercrewe.co.uk/event/learn-to-knit/2032-01-01/
LOCATION:Lizards Lair\, 22 Victoria Centre\, Crewe\, CW1 2PU\, United Kingdom
CATEGORIES:Lizards Lair,Town Centre
ATTACH;FMTTYPE=image/jpeg:https://discovercrewe.co.uk/wp-content/uploads/2026/02/Learn-to-Knit.jpg
END:VEVENT
BEGIN:VEVENT
DTSTART;TZID=UTC:20320108T110000
DTEND;TZID=UTC:20320108T120000
DTSTAMP:20260422T231847
CREATED:20260209T113657Z
LAST-MODIFIED:20260209T113657Z
UID:10039937-1957172400-1957176000@discovercrewe.co.uk
SUMMARY:Learn to Knit
DESCRIPTION:Join The Lizards Lair Gaming Co on Thursday mornings from 11am until 12pm for free knitting workshops. \nAll beginners are welcome to get creative and enjoy a relaxed and friendly environment. \nFor more information please visit here. \nImage (The Lizards Lair Gaming Co)
URL:https://discovercrewe.co.uk/event/learn-to-knit/2032-01-08/
LOCATION:Lizards Lair\, 22 Victoria Centre\, Crewe\, CW1 2PU\, United Kingdom
CATEGORIES:Lizards Lair,Town Centre
ATTACH;FMTTYPE=image/jpeg:https://discovercrewe.co.uk/wp-content/uploads/2026/02/Learn-to-Knit.jpg
END:VEVENT
BEGIN:VEVENT
DTSTART;TZID=UTC:20320115T110000
DTEND;TZID=UTC:20320115T120000
DTSTAMP:20260422T231847
CREATED:20260209T113657Z
LAST-MODIFIED:20260209T113657Z
UID:10039938-1957777200-1957780800@discovercrewe.co.uk
SUMMARY:Learn to Knit
DESCRIPTION:Join The Lizards Lair Gaming Co on Thursday mornings from 11am until 12pm for free knitting workshops. \nAll beginners are welcome to get creative and enjoy a relaxed and friendly environment. \nFor more information please visit here. \nImage (The Lizards Lair Gaming Co)
URL:https://discovercrewe.co.uk/event/learn-to-knit/2032-01-15/
LOCATION:Lizards Lair\, 22 Victoria Centre\, Crewe\, CW1 2PU\, United Kingdom
CATEGORIES:Lizards Lair,Town Centre
ATTACH;FMTTYPE=image/jpeg:https://discovercrewe.co.uk/wp-content/uploads/2026/02/Learn-to-Knit.jpg
END:VEVENT
BEGIN:VEVENT
DTSTART;TZID=UTC:20320122T110000
DTEND;TZID=UTC:20320122T120000
DTSTAMP:20260422T231847
CREATED:20260209T113657Z
LAST-MODIFIED:20260209T113657Z
UID:10039939-1958382000-1958385600@discovercrewe.co.uk
SUMMARY:Learn to Knit
DESCRIPTION:Join The Lizards Lair Gaming Co on Thursday mornings from 11am until 12pm for free knitting workshops. \nAll beginners are welcome to get creative and enjoy a relaxed and friendly environment. \nFor more information please visit here. \nImage (The Lizards Lair Gaming Co)
URL:https://discovercrewe.co.uk/event/learn-to-knit/2032-01-22/
LOCATION:Lizards Lair\, 22 Victoria Centre\, Crewe\, CW1 2PU\, United Kingdom
CATEGORIES:Lizards Lair,Town Centre
ATTACH;FMTTYPE=image/jpeg:https://discovercrewe.co.uk/wp-content/uploads/2026/02/Learn-to-Knit.jpg
END:VEVENT
BEGIN:VEVENT
DTSTART;TZID=UTC:20320129T110000
DTEND;TZID=UTC:20320129T120000
DTSTAMP:20260422T231847
CREATED:20260209T113657Z
LAST-MODIFIED:20260209T113657Z
UID:10039940-1958986800-1958990400@discovercrewe.co.uk
SUMMARY:Learn to Knit
DESCRIPTION:Join The Lizards Lair Gaming Co on Thursday mornings from 11am until 12pm for free knitting workshops. \nAll beginners are welcome to get creative and enjoy a relaxed and friendly environment. \nFor more information please visit here. \nImage (The Lizards Lair Gaming Co)
URL:https://discovercrewe.co.uk/event/learn-to-knit/2032-01-29/
LOCATION:Lizards Lair\, 22 Victoria Centre\, Crewe\, CW1 2PU\, United Kingdom
CATEGORIES:Lizards Lair,Town Centre
ATTACH;FMTTYPE=image/jpeg:https://discovercrewe.co.uk/wp-content/uploads/2026/02/Learn-to-Knit.jpg
END:VEVENT
BEGIN:VEVENT
DTSTART;TZID=UTC:20320205T110000
DTEND;TZID=UTC:20320205T120000
DTSTAMP:20260422T231847
CREATED:20260209T113657Z
LAST-MODIFIED:20260209T113657Z
UID:10039941-1959591600-1959595200@discovercrewe.co.uk
SUMMARY:Learn to Knit
DESCRIPTION:Join The Lizards Lair Gaming Co on Thursday mornings from 11am until 12pm for free knitting workshops. \nAll beginners are welcome to get creative and enjoy a relaxed and friendly environment. \nFor more information please visit here. \nImage (The Lizards Lair Gaming Co)
URL:https://discovercrewe.co.uk/event/learn-to-knit/2032-02-05/
LOCATION:Lizards Lair\, 22 Victoria Centre\, Crewe\, CW1 2PU\, United Kingdom
CATEGORIES:Lizards Lair,Town Centre
ATTACH;FMTTYPE=image/jpeg:https://discovercrewe.co.uk/wp-content/uploads/2026/02/Learn-to-Knit.jpg
END:VEVENT
BEGIN:VEVENT
DTSTART;TZID=UTC:20320212T110000
DTEND;TZID=UTC:20320212T120000
DTSTAMP:20260422T231847
CREATED:20260209T113657Z
LAST-MODIFIED:20260209T113657Z
UID:10039942-1960196400-1960200000@discovercrewe.co.uk
SUMMARY:Learn to Knit
DESCRIPTION:Join The Lizards Lair Gaming Co on Thursday mornings from 11am until 12pm for free knitting workshops. \nAll beginners are welcome to get creative and enjoy a relaxed and friendly environment. \nFor more information please visit here. \nImage (The Lizards Lair Gaming Co)
URL:https://discovercrewe.co.uk/event/learn-to-knit/2032-02-12/
LOCATION:Lizards Lair\, 22 Victoria Centre\, Crewe\, CW1 2PU\, United Kingdom
CATEGORIES:Lizards Lair,Town Centre
ATTACH;FMTTYPE=image/jpeg:https://discovercrewe.co.uk/wp-content/uploads/2026/02/Learn-to-Knit.jpg
END:VEVENT
BEGIN:VEVENT
DTSTART;TZID=UTC:20320219T110000
DTEND;TZID=UTC:20320219T120000
DTSTAMP:20260422T231847
CREATED:20260209T113657Z
LAST-MODIFIED:20260209T113657Z
UID:10039943-1960801200-1960804800@discovercrewe.co.uk
SUMMARY:Learn to Knit
DESCRIPTION:Join The Lizards Lair Gaming Co on Thursday mornings from 11am until 12pm for free knitting workshops. \nAll beginners are welcome to get creative and enjoy a relaxed and friendly environment. \nFor more information please visit here. \nImage (The Lizards Lair Gaming Co)
URL:https://discovercrewe.co.uk/event/learn-to-knit/2032-02-19/
LOCATION:Lizards Lair\, 22 Victoria Centre\, Crewe\, CW1 2PU\, United Kingdom
CATEGORIES:Lizards Lair,Town Centre
ATTACH;FMTTYPE=image/jpeg:https://discovercrewe.co.uk/wp-content/uploads/2026/02/Learn-to-Knit.jpg
END:VEVENT
BEGIN:VEVENT
DTSTART;TZID=UTC:20320226T110000
DTEND;TZID=UTC:20320226T120000
DTSTAMP:20260422T231847
CREATED:20260209T113657Z
LAST-MODIFIED:20260209T113657Z
UID:10039944-1961406000-1961409600@discovercrewe.co.uk
SUMMARY:Learn to Knit
DESCRIPTION:Join The Lizards Lair Gaming Co on Thursday mornings from 11am until 12pm for free knitting workshops. \nAll beginners are welcome to get creative and enjoy a relaxed and friendly environment. \nFor more information please visit here. \nImage (The Lizards Lair Gaming Co)
URL:https://discovercrewe.co.uk/event/learn-to-knit/2032-02-26/
LOCATION:Lizards Lair\, 22 Victoria Centre\, Crewe\, CW1 2PU\, United Kingdom
CATEGORIES:Lizards Lair,Town Centre
ATTACH;FMTTYPE=image/jpeg:https://discovercrewe.co.uk/wp-content/uploads/2026/02/Learn-to-Knit.jpg
END:VEVENT
BEGIN:VEVENT
DTSTART;TZID=UTC:20320304T110000
DTEND;TZID=UTC:20320304T120000
DTSTAMP:20260422T231847
CREATED:20260209T113657Z
LAST-MODIFIED:20260209T113657Z
UID:10039945-1962010800-1962014400@discovercrewe.co.uk
SUMMARY:Learn to Knit
DESCRIPTION:Join The Lizards Lair Gaming Co on Thursday mornings from 11am until 12pm for free knitting workshops. \nAll beginners are welcome to get creative and enjoy a relaxed and friendly environment. \nFor more information please visit here. \nImage (The Lizards Lair Gaming Co)
URL:https://discovercrewe.co.uk/event/learn-to-knit/2032-03-04/
LOCATION:Lizards Lair\, 22 Victoria Centre\, Crewe\, CW1 2PU\, United Kingdom
CATEGORIES:Lizards Lair,Town Centre
ATTACH;FMTTYPE=image/jpeg:https://discovercrewe.co.uk/wp-content/uploads/2026/02/Learn-to-Knit.jpg
END:VEVENT
BEGIN:VEVENT
DTSTART;TZID=UTC:20320311T110000
DTEND;TZID=UTC:20320311T120000
DTSTAMP:20260422T231847
CREATED:20260209T113657Z
LAST-MODIFIED:20260209T113657Z
UID:10039946-1962615600-1962619200@discovercrewe.co.uk
SUMMARY:Learn to Knit
DESCRIPTION:Join The Lizards Lair Gaming Co on Thursday mornings from 11am until 12pm for free knitting workshops. \nAll beginners are welcome to get creative and enjoy a relaxed and friendly environment. \nFor more information please visit here. \nImage (The Lizards Lair Gaming Co)
URL:https://discovercrewe.co.uk/event/learn-to-knit/2032-03-11/
LOCATION:Lizards Lair\, 22 Victoria Centre\, Crewe\, CW1 2PU\, United Kingdom
CATEGORIES:Lizards Lair,Town Centre
ATTACH;FMTTYPE=image/jpeg:https://discovercrewe.co.uk/wp-content/uploads/2026/02/Learn-to-Knit.jpg
END:VEVENT
BEGIN:VEVENT
DTSTART;TZID=UTC:20320318T110000
DTEND;TZID=UTC:20320318T120000
DTSTAMP:20260422T231847
CREATED:20260209T113657Z
LAST-MODIFIED:20260209T113657Z
UID:10039947-1963220400-1963224000@discovercrewe.co.uk
SUMMARY:Learn to Knit
DESCRIPTION:Join The Lizards Lair Gaming Co on Thursday mornings from 11am until 12pm for free knitting workshops. \nAll beginners are welcome to get creative and enjoy a relaxed and friendly environment. \nFor more information please visit here. \nImage (The Lizards Lair Gaming Co)
URL:https://discovercrewe.co.uk/event/learn-to-knit/2032-03-18/
LOCATION:Lizards Lair\, 22 Victoria Centre\, Crewe\, CW1 2PU\, United Kingdom
CATEGORIES:Lizards Lair,Town Centre
ATTACH;FMTTYPE=image/jpeg:https://discovercrewe.co.uk/wp-content/uploads/2026/02/Learn-to-Knit.jpg
END:VEVENT
END:VCALENDAR