BEGIN:VCALENDAR
VERSION:2.0
PRODID:-//Discover Crewe - ECPv6.15.15//NONSGML v1.0//EN
CALSCALE:GREGORIAN
METHOD:PUBLISH
X-WR-CALNAME:Discover Crewe
X-ORIGINAL-URL:https://discovercrewe.co.uk
X-WR-CALDESC:Events for Discover Crewe
REFRESH-INTERVAL;VALUE=DURATION:PT1H
X-Robots-Tag:noindex
X-PUBLISHED-TTL:PT1H
BEGIN:VTIMEZONE
TZID:UTC
BEGIN:STANDARD
TZOFFSETFROM:+0000
TZOFFSETTO:+0000
TZNAME:UTC
DTSTART:20250101T000000
END:STANDARD
END:VTIMEZONE
BEGIN:VEVENT
DTSTART;TZID=UTC:20260605T110000
DTEND;TZID=UTC:20260605T113000
DTSTAMP:20260424T090312
CREATED:20250721T145547Z
LAST-MODIFIED:20250721T145547Z
UID:10023397-1780657200-1780659000@discovercrewe.co.uk
SUMMARY:Rhymetime
DESCRIPTION:Songs\, rhymes and lots of movement! \nEvery Friday from 11am – 11.30am Crewe Library holds a Rhymetime session for pre-school children or under 5’s. \nIt is free of charge and requires no booking so participants only need to drop in to enjoy this event. \nImage (Crewe Library)
URL:https://discovercrewe.co.uk/event/rhymetime/2026-06-05/
LOCATION:Crewe Library\, Lifestyle Centre\, Moss Square\, Crewe\, CW1 2BB
CATEGORIES:Events,Family Attractions,Town Centre
ATTACH;FMTTYPE=image/jpeg:https://discovercrewe.co.uk/wp-content/uploads/2025/06/crewe-library.jpg
END:VEVENT
BEGIN:VEVENT
DTSTART;TZID=UTC:20260605T120000
DTEND;TZID=UTC:20260605T140000
DTSTAMP:20260424T090312
CREATED:20260115T151251Z
LAST-MODIFIED:20260115T151445Z
UID:10038045-1780660800-1780668000@discovercrewe.co.uk
SUMMARY:Dementia Community Group
DESCRIPTION:Crewe Creates are hosting a friendly\, welcoming and creative space for people living with dementia and for those who care for them. \nIt is an opportunity to meet others in a similar situation\, enjoy gentle creative wellbeing activities and have a voice about what would make life in the community better for those living with dementia. \nThe meeting is hosted on a Friday\, from 12pm to 2pm\, every five weeks and they are free to attend at Platform. \nTo book your place either email danivdfecht@aol.com or call/whatsapp on 07823 554349. \nIf you need assistance getting there\, call 01270 895044 and quote “PLATFORM” for A Star Taxis Crewe to pick you up. \nFor more information please visit here. \nImage (Crewe Creates)
URL:https://discovercrewe.co.uk/event/dementia-community-group-2/2026-06-05/
LOCATION:PLATFORM\, Market Street\, Crewe\, CW1 2HB\, United Kingdom
CATEGORIES:CreweCreates,Events,Town Centre
ATTACH;FMTTYPE=image/jpeg:https://discovercrewe.co.uk/wp-content/uploads/2026/01/Dementia-support-group-e1768489824951.jpg
END:VEVENT
BEGIN:VEVENT
DTSTART;TZID=UTC:20260605T163000
DTEND;TZID=UTC:20260605T173000
DTSTAMP:20260424T090312
CREATED:20250612T151252Z
LAST-MODIFIED:20251010T133719Z
UID:10022369-1780677000-1780680600@discovercrewe.co.uk
SUMMARY:Chess Club
DESCRIPTION:Chess Club at Crewe Library \nCrewe Library\, in partnership with Crewe Chess Club\, is now hosting a weekly drop-in Chess Club every Friday afternoon. \nThe sessions are free and open to adults and school-age children of all abilities. It’s a relaxed and friendly way to play a few games\, pick up some tips or simply enjoy a shared love of chess. \nAll equipment is provided and no booking is needed. \nFridays from 4.30pm to 5.45pm at Crewe Library \nImage (Crewe Town Council)
URL:https://discovercrewe.co.uk/event/crewe-chess-club-at-crewe-library/2026-06-05/
LOCATION:Crewe Library\, Lifestyle Centre\, Moss Square\, Crewe\, CW1 2BB
CATEGORIES:Events,Library,Town Centre
ATTACH;FMTTYPE=image/jpeg:https://discovercrewe.co.uk/wp-content/uploads/2025/06/chess-club.jpg
END:VEVENT
BEGIN:VEVENT
DTSTART;TZID=UTC:20260606T110000
DTEND;TZID=UTC:20260606T160000
DTSTAMP:20260424T090312
CREATED:20260325T111612Z
LAST-MODIFIED:20260325T111612Z
UID:10041986-1780743600-1780761600@discovercrewe.co.uk
SUMMARY:The Makers Market
DESCRIPTION:Crewe Makers Market is on every first Saturday of the month\, indulge in an abundance of the North West’s finest makers\, bakers and creators. \nThere will be an array of art\, crafts\, food\, drink\, music and street food. A great day out for all the family. \nYou can find the market on Victoria Street & Market Street from 11am – 4pm. \nThe Makers Market brings together independent artisans\, makers\, performers and businesses to create brilliant\, local community monthly markets. \nImage (The Makers Market)
URL:https://discovercrewe.co.uk/event/the-makers-market-2-2/2026-06-06/
LOCATION:Victoria Street\, Victoria Street & Market Street\, Crewe\, CW1 2NG\, United Kingdom
CATEGORIES:Food & Drink,Shopping,Town Centre
ATTACH;FMTTYPE=image/jpeg:https://discovercrewe.co.uk/wp-content/uploads/2025/06/Crewe-BID-8-scaled.jpg
END:VEVENT
BEGIN:VEVENT
DTSTART;TZID=UTC:20260609T110000
DTEND;TZID=UTC:20260609T120000
DTSTAMP:20260424T090312
CREATED:20250721T100247Z
LAST-MODIFIED:20250909T123303Z
UID:10023239-1781002800-1781006400@discovercrewe.co.uk
SUMMARY:Sling Library & Coffee Morning
DESCRIPTION:Expert sling fit checks to make sure parents carriers fit just right. \nOn the second Tuesday of every month\, Newbie & Me Baby Store in Crewe host a Sling Library & Coffee Morning. \nIn collaboration with the birth doula and antenatal & hypnobirthing educator\, Jade Lawrence\, these drop in sessions offer a welcoming space for parents to drop-in and meet other parents. \nParticipants will get an expert sling fit check\, with a variety of slings and carriers to try on to find the perfect fit for each person. Babywearing and feeding advice will be available with a relaxed and judgment free environment. \nAll slings and carriers will be on sale on the day for anyone who falls in love with their options.
URL:https://discovercrewe.co.uk/event/sling-library-coffee-morning/2026-06-09/
LOCATION:Newbie and Me Baby Store\, Longford Works\, Hope St\,\, Crewe\, CW2 7DR
CATEGORIES:Events,Nantwich Road,Shopping
ATTACH;FMTTYPE=image/jpeg:https://discovercrewe.co.uk/wp-content/uploads/2025/07/4E17606E-AD3D-4E4E-B2A2-238C07617246-1-scaled-e1753088049813.jpg
END:VEVENT
BEGIN:VEVENT
DTSTART;TZID=UTC:20260609T160000
DTEND;TZID=UTC:20260609T170000
DTSTAMP:20260424T090312
CREATED:20250721T150942Z
LAST-MODIFIED:20250721T151442Z
UID:10023927-1781020800-1781024400@discovercrewe.co.uk
SUMMARY:LEGO Building Club
DESCRIPTION:Fun\, themed\, LEGO building sessions for all ages. \nCrewe Library hosts these sessions with a huge selection of bricks and accessories\, plus Duplo for the little ones. \nNo bookings are required and there is no charge. They are available for all children but they must be accompanied by an adult. \nEvery other Tuesday from 4pm – 5pm. \nImage (Crewe Town Council)
URL:https://discovercrewe.co.uk/event/lego-building-club-2/2026-06-09/
LOCATION:Crewe Library\, Lifestyle Centre\, Moss Square\, Crewe\, CW1 2BB
CATEGORIES:Events,Family Attractions,Town Centre
ATTACH;FMTTYPE=image/jpeg:https://discovercrewe.co.uk/wp-content/uploads/2025/07/LEGO-Building-e1753110948289.jpg
END:VEVENT
BEGIN:VEVENT
DTSTART;TZID=UTC:20260611T140000
DTEND;TZID=UTC:20260611T160000
DTSTAMP:20260424T090312
CREATED:20251010T145045Z
LAST-MODIFIED:20251010T145045Z
UID:10031876-1781186400-1781193600@discovercrewe.co.uk
SUMMARY:Crafternoon Tea
DESCRIPTION:As part of their weekly schedule of activities\, Crewe Library host a crafternoon tea session every other Thursday. \nFrom 2pm to 4pm a friendly and informal adult group of crafters meet to work on their current projects or try something new using the library’s stash of donated craft materials. \nSome previous and ongoing projects include card and gift tag making\, glass painting\, scrap booking and colouring. \nThe sessions are free of charge buy any donations towards the cost of refreshments are welcomed\, but not required. \nFor more information on Crewe Library’s weekly groups visit here.
URL:https://discovercrewe.co.uk/event/crafternoon-tea/2026-06-11/
LOCATION:Crewe Library\, Lifestyle Centre\, Moss Square\, Crewe\, CW1 2BB
CATEGORIES:Events,Family Attractions,Town Centre
ATTACH;FMTTYPE=image/jpeg:https://discovercrewe.co.uk/wp-content/uploads/2025/09/library-2.jpg
END:VEVENT
BEGIN:VEVENT
DTSTART;VALUE=DATE:20260613
DTEND;VALUE=DATE:20260614
DTSTAMP:20260424T090312
CREATED:20260319T144305Z
LAST-MODIFIED:20260416T104545Z
UID:10041456-1781308800-1781395199@discovercrewe.co.uk
SUMMARY:Crewe Pride 2026
DESCRIPTION:This year\, Crewe Pride will return on Saturday 13 June 2026. \nIt promises to be their biggest celebration yet\, bringing the community together for a day of colour\, music\, performance and visibility. \nIt will be a day to celebrate LGBTQ+ lives across Cheshire and beyond. \nCrewe Pride are inviting sponsors\, stallholders and community supporters to be part of the day. Supporting helps create a welcoming event for everyone while showing clear commitment to equality\, inclusion and community pride. \nGet involved by becoming a Pride sponsor and support the event\, book a stall for an organisation\, group or business\, volunteer or support behind the scenes and help spread the word. \nFor more information and to get involved visit here.
URL:https://discovercrewe.co.uk/event/crewe-pride-2026-2/
LOCATION:Lyceum Square\, Lyceum Square\, Crewe\, Cheshire\, CW1 2DA\, United Kingdom
CATEGORIES:Events,Lyceum Square,Town Centre
ATTACH;FMTTYPE=image/jpeg:https://discovercrewe.co.uk/wp-content/uploads/2026/03/VEM00439-scaled.jpg
END:VEVENT
BEGIN:VEVENT
DTSTART;TZID=UTC:20260616T173000
DTEND;TZID=UTC:20260616T190000
DTSTAMP:20260424T090313
CREATED:20260316T105513Z
LAST-MODIFIED:20260316T105513Z
UID:10041335-1781631000-1781636400@discovercrewe.co.uk
SUMMARY:Creative Writers
DESCRIPTION:Creative Writers \nNew members are welcome to this informal and friendly group who meet on every second Tuesday of the month. \nThere are monthly themes to inspire you to write\, or you can bring along whatever you are working on to the drop in sessions and gain feedback from other members. \nMembership is £1 per session to help cover the cost of light refreshments. \nTime: 5:30pm – 7pm \nImage (Crewe Library)
URL:https://discovercrewe.co.uk/event/creative-writers-2/2026-06-16/
LOCATION:Crewe Library\, Lifestyle Centre\, Moss Square\, Crewe\, CW1 2BB
CATEGORIES:Events,Library,Town Centre
ATTACH;FMTTYPE=image/jpeg:https://discovercrewe.co.uk/wp-content/uploads/2025/06/crewe-library.jpg
END:VEVENT
BEGIN:VEVENT
DTSTART;TZID=UTC:20260619T080000
DTEND;TZID=UTC:20260619T170000
DTSTAMP:20260424T090313
CREATED:20251015T112211Z
LAST-MODIFIED:20251015T115507Z
UID:10032667-1781856000-1781888400@discovercrewe.co.uk
SUMMARY:Family History Group
DESCRIPTION:On every third Friday of each month\, Crewe Library hosts a family history group from 2pm to 4pm. \nThe sessions are free for adults to drop in to gain help and encouragements with researching their family history. Join a friendly and supporting group of likeminded people monthly to find out more about your past. \nThe local studies librarian will be on hand to offer advice and the library computers and other resources are available for free. \nLight refreshments are also on offer. \nTo find out more information and to see the full list of Crewe Library activities visit here.
URL:https://discovercrewe.co.uk/event/family-history-group/2026-06-19/
LOCATION:Crewe Library\, Lifestyle Centre\, Moss Square\, Crewe\, CW1 2BB
CATEGORIES:Events,Heritage,Town Centre
ATTACH;FMTTYPE=image/jpeg:https://discovercrewe.co.uk/wp-content/uploads/2025/10/Photo-09-08-2025-12-20-48-scaled-e1760529294236.jpg
END:VEVENT
BEGIN:VEVENT
DTSTART;TZID=UTC:20260630T160000
DTEND;TZID=UTC:20260630T170000
DTSTAMP:20260424T090313
CREATED:20250721T150824Z
LAST-MODIFIED:20251023T092421Z
UID:10023879-1782835200-1782838800@discovercrewe.co.uk
SUMMARY:LEGO Building Club
DESCRIPTION:Fun\, themed\, LEGO building sessions for all ages. \nCrewe Library hosts these sessions with a huge selection of bricks and accessories\, plus Duplo for the little ones. \nNo bookings are required and there is no charge. They are available for all children but they must be accompanied by an adult. \nEvery other Tuesday from 4pm – 5pm. \nImage (Crewe Town Council)
URL:https://discovercrewe.co.uk/event/lego-building-club/2026-06-30/
LOCATION:Crewe Library\, Lifestyle Centre\, Moss Square\, Crewe\, CW1 2BB
CATEGORIES:Events,Family Attractions,Town Centre
ATTACH;FMTTYPE=image/jpeg:https://discovercrewe.co.uk/wp-content/uploads/2025/07/LEGO-Building-e1753110948289.jpg
END:VEVENT
BEGIN:VEVENT
DTSTART;TZID=UTC:20261025T090000
DTEND;TZID=UTC:20261025T110000
DTSTAMP:20260424T090313
CREATED:20260309T124639Z
LAST-MODIFIED:20260309T124813Z
UID:10041330-1792918800-1792926000@discovercrewe.co.uk
SUMMARY:Crewe 10k Presented by Mornflake
DESCRIPTION:Join RunThrough North for the Crewe 10k presented by Mornflake on Sunday 25 October\, supporting YMCA Cheshire. \nStarting and finishing in Crewe town centre\, it will be a closed-road 10k featuring a fast\, flat course to chase a PB or take on a new challenge. \nThe event village will be based at the brand-new Royal Arcade\, which will set the stage for a race-day atmosphere and offers easy access for participants and spectators alike. \nDate & time = Sunday 25 October at 9am – 11am \nEntry fee = £32 \nFor more information and to sign up visit here. \nImage (Run Through)
URL:https://discovercrewe.co.uk/event/crewe-10k-presented-by-mornflake/
LOCATION:29 Queensway\, 29 Queensway\, Crewe\, CW1 2JG\, United Kingdom
CATEGORIES:Charity,Events,Town Centre
ATTACH;FMTTYPE=image/png:https://discovercrewe.co.uk/wp-content/uploads/2026/03/Screenshot-2026-03-09-124331.png
END:VEVENT
END:VCALENDAR