BEGIN:VCALENDAR
VERSION:2.0
PRODID:-//Discover Crewe - ECPv6.15.15//NONSGML v1.0//EN
CALSCALE:GREGORIAN
METHOD:PUBLISH
X-WR-CALNAME:Discover Crewe
X-ORIGINAL-URL:https://discovercrewe.co.uk
X-WR-CALDESC:Events for Discover Crewe
REFRESH-INTERVAL;VALUE=DURATION:PT1H
X-Robots-Tag:noindex
X-PUBLISHED-TTL:PT1H
BEGIN:VTIMEZONE
TZID:UTC
BEGIN:STANDARD
TZOFFSETFROM:+0000
TZOFFSETTO:+0000
TZNAME:UTC
DTSTART:20300101T000000
END:STANDARD
END:VTIMEZONE
BEGIN:VEVENT
DTSTART;TZID=UTC:20310220T110000
DTEND;TZID=UTC:20310220T120000
DTSTAMP:20260420T041350
CREATED:20260209T113657Z
LAST-MODIFIED:20260209T113657Z
UID:10039891-1929351600-1929355200@discovercrewe.co.uk
SUMMARY:Learn to Knit
DESCRIPTION:Join The Lizards Lair Gaming Co on Thursday mornings from 11am until 12pm for free knitting workshops. \nAll beginners are welcome to get creative and enjoy a relaxed and friendly environment. \nFor more information please visit here. \nImage (The Lizards Lair Gaming Co)
URL:https://discovercrewe.co.uk/event/learn-to-knit/2031-02-20/
LOCATION:Lizards Lair\, 22 Victoria Centre\, Crewe\, CW1 2PU\, United Kingdom
CATEGORIES:Lizards Lair,Town Centre
ATTACH;FMTTYPE=image/jpeg:https://discovercrewe.co.uk/wp-content/uploads/2026/02/Learn-to-Knit.jpg
END:VEVENT
BEGIN:VEVENT
DTSTART;TZID=UTC:20310227T110000
DTEND;TZID=UTC:20310227T120000
DTSTAMP:20260420T041350
CREATED:20260209T113657Z
LAST-MODIFIED:20260209T113657Z
UID:10039892-1929956400-1929960000@discovercrewe.co.uk
SUMMARY:Learn to Knit
DESCRIPTION:Join The Lizards Lair Gaming Co on Thursday mornings from 11am until 12pm for free knitting workshops. \nAll beginners are welcome to get creative and enjoy a relaxed and friendly environment. \nFor more information please visit here. \nImage (The Lizards Lair Gaming Co)
URL:https://discovercrewe.co.uk/event/learn-to-knit/2031-02-27/
LOCATION:Lizards Lair\, 22 Victoria Centre\, Crewe\, CW1 2PU\, United Kingdom
CATEGORIES:Lizards Lair,Town Centre
ATTACH;FMTTYPE=image/jpeg:https://discovercrewe.co.uk/wp-content/uploads/2026/02/Learn-to-Knit.jpg
END:VEVENT
BEGIN:VEVENT
DTSTART;TZID=UTC:20310306T110000
DTEND;TZID=UTC:20310306T120000
DTSTAMP:20260420T041350
CREATED:20260209T113657Z
LAST-MODIFIED:20260209T113657Z
UID:10039893-1930561200-1930564800@discovercrewe.co.uk
SUMMARY:Learn to Knit
DESCRIPTION:Join The Lizards Lair Gaming Co on Thursday mornings from 11am until 12pm for free knitting workshops. \nAll beginners are welcome to get creative and enjoy a relaxed and friendly environment. \nFor more information please visit here. \nImage (The Lizards Lair Gaming Co)
URL:https://discovercrewe.co.uk/event/learn-to-knit/2031-03-06/
LOCATION:Lizards Lair\, 22 Victoria Centre\, Crewe\, CW1 2PU\, United Kingdom
CATEGORIES:Lizards Lair,Town Centre
ATTACH;FMTTYPE=image/jpeg:https://discovercrewe.co.uk/wp-content/uploads/2026/02/Learn-to-Knit.jpg
END:VEVENT
BEGIN:VEVENT
DTSTART;TZID=UTC:20310313T110000
DTEND;TZID=UTC:20310313T120000
DTSTAMP:20260420T041350
CREATED:20260209T113657Z
LAST-MODIFIED:20260209T113657Z
UID:10039894-1931166000-1931169600@discovercrewe.co.uk
SUMMARY:Learn to Knit
DESCRIPTION:Join The Lizards Lair Gaming Co on Thursday mornings from 11am until 12pm for free knitting workshops. \nAll beginners are welcome to get creative and enjoy a relaxed and friendly environment. \nFor more information please visit here. \nImage (The Lizards Lair Gaming Co)
URL:https://discovercrewe.co.uk/event/learn-to-knit/2031-03-13/
LOCATION:Lizards Lair\, 22 Victoria Centre\, Crewe\, CW1 2PU\, United Kingdom
CATEGORIES:Lizards Lair,Town Centre
ATTACH;FMTTYPE=image/jpeg:https://discovercrewe.co.uk/wp-content/uploads/2026/02/Learn-to-Knit.jpg
END:VEVENT
BEGIN:VEVENT
DTSTART;TZID=UTC:20310320T110000
DTEND;TZID=UTC:20310320T120000
DTSTAMP:20260420T041350
CREATED:20260209T113657Z
LAST-MODIFIED:20260209T113657Z
UID:10039895-1931770800-1931774400@discovercrewe.co.uk
SUMMARY:Learn to Knit
DESCRIPTION:Join The Lizards Lair Gaming Co on Thursday mornings from 11am until 12pm for free knitting workshops. \nAll beginners are welcome to get creative and enjoy a relaxed and friendly environment. \nFor more information please visit here. \nImage (The Lizards Lair Gaming Co)
URL:https://discovercrewe.co.uk/event/learn-to-knit/2031-03-20/
LOCATION:Lizards Lair\, 22 Victoria Centre\, Crewe\, CW1 2PU\, United Kingdom
CATEGORIES:Lizards Lair,Town Centre
ATTACH;FMTTYPE=image/jpeg:https://discovercrewe.co.uk/wp-content/uploads/2026/02/Learn-to-Knit.jpg
END:VEVENT
BEGIN:VEVENT
DTSTART;TZID=UTC:20310327T110000
DTEND;TZID=UTC:20310327T120000
DTSTAMP:20260420T041350
CREATED:20260209T113657Z
LAST-MODIFIED:20260209T113657Z
UID:10039896-1932375600-1932379200@discovercrewe.co.uk
SUMMARY:Learn to Knit
DESCRIPTION:Join The Lizards Lair Gaming Co on Thursday mornings from 11am until 12pm for free knitting workshops. \nAll beginners are welcome to get creative and enjoy a relaxed and friendly environment. \nFor more information please visit here. \nImage (The Lizards Lair Gaming Co)
URL:https://discovercrewe.co.uk/event/learn-to-knit/2031-03-27/
LOCATION:Lizards Lair\, 22 Victoria Centre\, Crewe\, CW1 2PU\, United Kingdom
CATEGORIES:Lizards Lair,Town Centre
ATTACH;FMTTYPE=image/jpeg:https://discovercrewe.co.uk/wp-content/uploads/2026/02/Learn-to-Knit.jpg
END:VEVENT
BEGIN:VEVENT
DTSTART;TZID=UTC:20310403T110000
DTEND;TZID=UTC:20310403T120000
DTSTAMP:20260420T041350
CREATED:20260209T113657Z
LAST-MODIFIED:20260209T113657Z
UID:10039897-1932980400-1932984000@discovercrewe.co.uk
SUMMARY:Learn to Knit
DESCRIPTION:Join The Lizards Lair Gaming Co on Thursday mornings from 11am until 12pm for free knitting workshops. \nAll beginners are welcome to get creative and enjoy a relaxed and friendly environment. \nFor more information please visit here. \nImage (The Lizards Lair Gaming Co)
URL:https://discovercrewe.co.uk/event/learn-to-knit/2031-04-03/
LOCATION:Lizards Lair\, 22 Victoria Centre\, Crewe\, CW1 2PU\, United Kingdom
CATEGORIES:Lizards Lair,Town Centre
ATTACH;FMTTYPE=image/jpeg:https://discovercrewe.co.uk/wp-content/uploads/2026/02/Learn-to-Knit.jpg
END:VEVENT
BEGIN:VEVENT
DTSTART;TZID=UTC:20310410T110000
DTEND;TZID=UTC:20310410T120000
DTSTAMP:20260420T041350
CREATED:20260209T113657Z
LAST-MODIFIED:20260209T113657Z
UID:10039898-1933585200-1933588800@discovercrewe.co.uk
SUMMARY:Learn to Knit
DESCRIPTION:Join The Lizards Lair Gaming Co on Thursday mornings from 11am until 12pm for free knitting workshops. \nAll beginners are welcome to get creative and enjoy a relaxed and friendly environment. \nFor more information please visit here. \nImage (The Lizards Lair Gaming Co)
URL:https://discovercrewe.co.uk/event/learn-to-knit/2031-04-10/
LOCATION:Lizards Lair\, 22 Victoria Centre\, Crewe\, CW1 2PU\, United Kingdom
CATEGORIES:Lizards Lair,Town Centre
ATTACH;FMTTYPE=image/jpeg:https://discovercrewe.co.uk/wp-content/uploads/2026/02/Learn-to-Knit.jpg
END:VEVENT
BEGIN:VEVENT
DTSTART;TZID=UTC:20310417T110000
DTEND;TZID=UTC:20310417T120000
DTSTAMP:20260420T041350
CREATED:20260209T113657Z
LAST-MODIFIED:20260209T113657Z
UID:10039899-1934190000-1934193600@discovercrewe.co.uk
SUMMARY:Learn to Knit
DESCRIPTION:Join The Lizards Lair Gaming Co on Thursday mornings from 11am until 12pm for free knitting workshops. \nAll beginners are welcome to get creative and enjoy a relaxed and friendly environment. \nFor more information please visit here. \nImage (The Lizards Lair Gaming Co)
URL:https://discovercrewe.co.uk/event/learn-to-knit/2031-04-17/
LOCATION:Lizards Lair\, 22 Victoria Centre\, Crewe\, CW1 2PU\, United Kingdom
CATEGORIES:Lizards Lair,Town Centre
ATTACH;FMTTYPE=image/jpeg:https://discovercrewe.co.uk/wp-content/uploads/2026/02/Learn-to-Knit.jpg
END:VEVENT
BEGIN:VEVENT
DTSTART;TZID=UTC:20310424T110000
DTEND;TZID=UTC:20310424T120000
DTSTAMP:20260420T041350
CREATED:20260209T113657Z
LAST-MODIFIED:20260209T113657Z
UID:10039900-1934794800-1934798400@discovercrewe.co.uk
SUMMARY:Learn to Knit
DESCRIPTION:Join The Lizards Lair Gaming Co on Thursday mornings from 11am until 12pm for free knitting workshops. \nAll beginners are welcome to get creative and enjoy a relaxed and friendly environment. \nFor more information please visit here. \nImage (The Lizards Lair Gaming Co)
URL:https://discovercrewe.co.uk/event/learn-to-knit/2031-04-24/
LOCATION:Lizards Lair\, 22 Victoria Centre\, Crewe\, CW1 2PU\, United Kingdom
CATEGORIES:Lizards Lair,Town Centre
ATTACH;FMTTYPE=image/jpeg:https://discovercrewe.co.uk/wp-content/uploads/2026/02/Learn-to-Knit.jpg
END:VEVENT
BEGIN:VEVENT
DTSTART;TZID=UTC:20310501T110000
DTEND;TZID=UTC:20310501T120000
DTSTAMP:20260420T041350
CREATED:20260209T113657Z
LAST-MODIFIED:20260209T113657Z
UID:10039901-1935399600-1935403200@discovercrewe.co.uk
SUMMARY:Learn to Knit
DESCRIPTION:Join The Lizards Lair Gaming Co on Thursday mornings from 11am until 12pm for free knitting workshops. \nAll beginners are welcome to get creative and enjoy a relaxed and friendly environment. \nFor more information please visit here. \nImage (The Lizards Lair Gaming Co)
URL:https://discovercrewe.co.uk/event/learn-to-knit/2031-05-01/
LOCATION:Lizards Lair\, 22 Victoria Centre\, Crewe\, CW1 2PU\, United Kingdom
CATEGORIES:Lizards Lair,Town Centre
ATTACH;FMTTYPE=image/jpeg:https://discovercrewe.co.uk/wp-content/uploads/2026/02/Learn-to-Knit.jpg
END:VEVENT
BEGIN:VEVENT
DTSTART;TZID=UTC:20310508T110000
DTEND;TZID=UTC:20310508T120000
DTSTAMP:20260420T041350
CREATED:20260209T113657Z
LAST-MODIFIED:20260209T113657Z
UID:10039902-1936004400-1936008000@discovercrewe.co.uk
SUMMARY:Learn to Knit
DESCRIPTION:Join The Lizards Lair Gaming Co on Thursday mornings from 11am until 12pm for free knitting workshops. \nAll beginners are welcome to get creative and enjoy a relaxed and friendly environment. \nFor more information please visit here. \nImage (The Lizards Lair Gaming Co)
URL:https://discovercrewe.co.uk/event/learn-to-knit/2031-05-08/
LOCATION:Lizards Lair\, 22 Victoria Centre\, Crewe\, CW1 2PU\, United Kingdom
CATEGORIES:Lizards Lair,Town Centre
ATTACH;FMTTYPE=image/jpeg:https://discovercrewe.co.uk/wp-content/uploads/2026/02/Learn-to-Knit.jpg
END:VEVENT
BEGIN:VEVENT
DTSTART;TZID=UTC:20310515T110000
DTEND;TZID=UTC:20310515T120000
DTSTAMP:20260420T041350
CREATED:20260209T113657Z
LAST-MODIFIED:20260209T113657Z
UID:10039903-1936609200-1936612800@discovercrewe.co.uk
SUMMARY:Learn to Knit
DESCRIPTION:Join The Lizards Lair Gaming Co on Thursday mornings from 11am until 12pm for free knitting workshops. \nAll beginners are welcome to get creative and enjoy a relaxed and friendly environment. \nFor more information please visit here. \nImage (The Lizards Lair Gaming Co)
URL:https://discovercrewe.co.uk/event/learn-to-knit/2031-05-15/
LOCATION:Lizards Lair\, 22 Victoria Centre\, Crewe\, CW1 2PU\, United Kingdom
CATEGORIES:Lizards Lair,Town Centre
ATTACH;FMTTYPE=image/jpeg:https://discovercrewe.co.uk/wp-content/uploads/2026/02/Learn-to-Knit.jpg
END:VEVENT
BEGIN:VEVENT
DTSTART;TZID=UTC:20310522T110000
DTEND;TZID=UTC:20310522T120000
DTSTAMP:20260420T041350
CREATED:20260209T113657Z
LAST-MODIFIED:20260209T113657Z
UID:10039904-1937214000-1937217600@discovercrewe.co.uk
SUMMARY:Learn to Knit
DESCRIPTION:Join The Lizards Lair Gaming Co on Thursday mornings from 11am until 12pm for free knitting workshops. \nAll beginners are welcome to get creative and enjoy a relaxed and friendly environment. \nFor more information please visit here. \nImage (The Lizards Lair Gaming Co)
URL:https://discovercrewe.co.uk/event/learn-to-knit/2031-05-22/
LOCATION:Lizards Lair\, 22 Victoria Centre\, Crewe\, CW1 2PU\, United Kingdom
CATEGORIES:Lizards Lair,Town Centre
ATTACH;FMTTYPE=image/jpeg:https://discovercrewe.co.uk/wp-content/uploads/2026/02/Learn-to-Knit.jpg
END:VEVENT
BEGIN:VEVENT
DTSTART;TZID=UTC:20310529T110000
DTEND;TZID=UTC:20310529T120000
DTSTAMP:20260420T041350
CREATED:20260209T113657Z
LAST-MODIFIED:20260209T113657Z
UID:10039905-1937818800-1937822400@discovercrewe.co.uk
SUMMARY:Learn to Knit
DESCRIPTION:Join The Lizards Lair Gaming Co on Thursday mornings from 11am until 12pm for free knitting workshops. \nAll beginners are welcome to get creative and enjoy a relaxed and friendly environment. \nFor more information please visit here. \nImage (The Lizards Lair Gaming Co)
URL:https://discovercrewe.co.uk/event/learn-to-knit/2031-05-29/
LOCATION:Lizards Lair\, 22 Victoria Centre\, Crewe\, CW1 2PU\, United Kingdom
CATEGORIES:Lizards Lair,Town Centre
ATTACH;FMTTYPE=image/jpeg:https://discovercrewe.co.uk/wp-content/uploads/2026/02/Learn-to-Knit.jpg
END:VEVENT
BEGIN:VEVENT
DTSTART;TZID=UTC:20310605T110000
DTEND;TZID=UTC:20310605T120000
DTSTAMP:20260420T041350
CREATED:20260209T113657Z
LAST-MODIFIED:20260209T113657Z
UID:10039906-1938423600-1938427200@discovercrewe.co.uk
SUMMARY:Learn to Knit
DESCRIPTION:Join The Lizards Lair Gaming Co on Thursday mornings from 11am until 12pm for free knitting workshops. \nAll beginners are welcome to get creative and enjoy a relaxed and friendly environment. \nFor more information please visit here. \nImage (The Lizards Lair Gaming Co)
URL:https://discovercrewe.co.uk/event/learn-to-knit/2031-06-05/
LOCATION:Lizards Lair\, 22 Victoria Centre\, Crewe\, CW1 2PU\, United Kingdom
CATEGORIES:Lizards Lair,Town Centre
ATTACH;FMTTYPE=image/jpeg:https://discovercrewe.co.uk/wp-content/uploads/2026/02/Learn-to-Knit.jpg
END:VEVENT
BEGIN:VEVENT
DTSTART;TZID=UTC:20310612T110000
DTEND;TZID=UTC:20310612T120000
DTSTAMP:20260420T041350
CREATED:20260209T113657Z
LAST-MODIFIED:20260209T113657Z
UID:10039907-1939028400-1939032000@discovercrewe.co.uk
SUMMARY:Learn to Knit
DESCRIPTION:Join The Lizards Lair Gaming Co on Thursday mornings from 11am until 12pm for free knitting workshops. \nAll beginners are welcome to get creative and enjoy a relaxed and friendly environment. \nFor more information please visit here. \nImage (The Lizards Lair Gaming Co)
URL:https://discovercrewe.co.uk/event/learn-to-knit/2031-06-12/
LOCATION:Lizards Lair\, 22 Victoria Centre\, Crewe\, CW1 2PU\, United Kingdom
CATEGORIES:Lizards Lair,Town Centre
ATTACH;FMTTYPE=image/jpeg:https://discovercrewe.co.uk/wp-content/uploads/2026/02/Learn-to-Knit.jpg
END:VEVENT
BEGIN:VEVENT
DTSTART;TZID=UTC:20310619T110000
DTEND;TZID=UTC:20310619T120000
DTSTAMP:20260420T041350
CREATED:20260209T113657Z
LAST-MODIFIED:20260209T113657Z
UID:10039908-1939633200-1939636800@discovercrewe.co.uk
SUMMARY:Learn to Knit
DESCRIPTION:Join The Lizards Lair Gaming Co on Thursday mornings from 11am until 12pm for free knitting workshops. \nAll beginners are welcome to get creative and enjoy a relaxed and friendly environment. \nFor more information please visit here. \nImage (The Lizards Lair Gaming Co)
URL:https://discovercrewe.co.uk/event/learn-to-knit/2031-06-19/
LOCATION:Lizards Lair\, 22 Victoria Centre\, Crewe\, CW1 2PU\, United Kingdom
CATEGORIES:Lizards Lair,Town Centre
ATTACH;FMTTYPE=image/jpeg:https://discovercrewe.co.uk/wp-content/uploads/2026/02/Learn-to-Knit.jpg
END:VEVENT
BEGIN:VEVENT
DTSTART;TZID=UTC:20310626T110000
DTEND;TZID=UTC:20310626T120000
DTSTAMP:20260420T041350
CREATED:20260209T113657Z
LAST-MODIFIED:20260209T113657Z
UID:10039909-1940238000-1940241600@discovercrewe.co.uk
SUMMARY:Learn to Knit
DESCRIPTION:Join The Lizards Lair Gaming Co on Thursday mornings from 11am until 12pm for free knitting workshops. \nAll beginners are welcome to get creative and enjoy a relaxed and friendly environment. \nFor more information please visit here. \nImage (The Lizards Lair Gaming Co)
URL:https://discovercrewe.co.uk/event/learn-to-knit/2031-06-26/
LOCATION:Lizards Lair\, 22 Victoria Centre\, Crewe\, CW1 2PU\, United Kingdom
CATEGORIES:Lizards Lair,Town Centre
ATTACH;FMTTYPE=image/jpeg:https://discovercrewe.co.uk/wp-content/uploads/2026/02/Learn-to-Knit.jpg
END:VEVENT
BEGIN:VEVENT
DTSTART;TZID=UTC:20310703T110000
DTEND;TZID=UTC:20310703T120000
DTSTAMP:20260420T041350
CREATED:20260209T113657Z
LAST-MODIFIED:20260209T113657Z
UID:10039910-1940842800-1940846400@discovercrewe.co.uk
SUMMARY:Learn to Knit
DESCRIPTION:Join The Lizards Lair Gaming Co on Thursday mornings from 11am until 12pm for free knitting workshops. \nAll beginners are welcome to get creative and enjoy a relaxed and friendly environment. \nFor more information please visit here. \nImage (The Lizards Lair Gaming Co)
URL:https://discovercrewe.co.uk/event/learn-to-knit/2031-07-03/
LOCATION:Lizards Lair\, 22 Victoria Centre\, Crewe\, CW1 2PU\, United Kingdom
CATEGORIES:Lizards Lair,Town Centre
ATTACH;FMTTYPE=image/jpeg:https://discovercrewe.co.uk/wp-content/uploads/2026/02/Learn-to-Knit.jpg
END:VEVENT
BEGIN:VEVENT
DTSTART;TZID=UTC:20310710T110000
DTEND;TZID=UTC:20310710T120000
DTSTAMP:20260420T041350
CREATED:20260209T113657Z
LAST-MODIFIED:20260209T113657Z
UID:10039911-1941447600-1941451200@discovercrewe.co.uk
SUMMARY:Learn to Knit
DESCRIPTION:Join The Lizards Lair Gaming Co on Thursday mornings from 11am until 12pm for free knitting workshops. \nAll beginners are welcome to get creative and enjoy a relaxed and friendly environment. \nFor more information please visit here. \nImage (The Lizards Lair Gaming Co)
URL:https://discovercrewe.co.uk/event/learn-to-knit/2031-07-10/
LOCATION:Lizards Lair\, 22 Victoria Centre\, Crewe\, CW1 2PU\, United Kingdom
CATEGORIES:Lizards Lair,Town Centre
ATTACH;FMTTYPE=image/jpeg:https://discovercrewe.co.uk/wp-content/uploads/2026/02/Learn-to-Knit.jpg
END:VEVENT
BEGIN:VEVENT
DTSTART;TZID=UTC:20310717T110000
DTEND;TZID=UTC:20310717T120000
DTSTAMP:20260420T041350
CREATED:20260209T113657Z
LAST-MODIFIED:20260209T113657Z
UID:10039912-1942052400-1942056000@discovercrewe.co.uk
SUMMARY:Learn to Knit
DESCRIPTION:Join The Lizards Lair Gaming Co on Thursday mornings from 11am until 12pm for free knitting workshops. \nAll beginners are welcome to get creative and enjoy a relaxed and friendly environment. \nFor more information please visit here. \nImage (The Lizards Lair Gaming Co)
URL:https://discovercrewe.co.uk/event/learn-to-knit/2031-07-17/
LOCATION:Lizards Lair\, 22 Victoria Centre\, Crewe\, CW1 2PU\, United Kingdom
CATEGORIES:Lizards Lair,Town Centre
ATTACH;FMTTYPE=image/jpeg:https://discovercrewe.co.uk/wp-content/uploads/2026/02/Learn-to-Knit.jpg
END:VEVENT
BEGIN:VEVENT
DTSTART;TZID=UTC:20310724T110000
DTEND;TZID=UTC:20310724T120000
DTSTAMP:20260420T041350
CREATED:20260209T113657Z
LAST-MODIFIED:20260209T113657Z
UID:10039913-1942657200-1942660800@discovercrewe.co.uk
SUMMARY:Learn to Knit
DESCRIPTION:Join The Lizards Lair Gaming Co on Thursday mornings from 11am until 12pm for free knitting workshops. \nAll beginners are welcome to get creative and enjoy a relaxed and friendly environment. \nFor more information please visit here. \nImage (The Lizards Lair Gaming Co)
URL:https://discovercrewe.co.uk/event/learn-to-knit/2031-07-24/
LOCATION:Lizards Lair\, 22 Victoria Centre\, Crewe\, CW1 2PU\, United Kingdom
CATEGORIES:Lizards Lair,Town Centre
ATTACH;FMTTYPE=image/jpeg:https://discovercrewe.co.uk/wp-content/uploads/2026/02/Learn-to-Knit.jpg
END:VEVENT
BEGIN:VEVENT
DTSTART;TZID=UTC:20310731T110000
DTEND;TZID=UTC:20310731T120000
DTSTAMP:20260420T041350
CREATED:20260209T113657Z
LAST-MODIFIED:20260209T113657Z
UID:10039914-1943262000-1943265600@discovercrewe.co.uk
SUMMARY:Learn to Knit
DESCRIPTION:Join The Lizards Lair Gaming Co on Thursday mornings from 11am until 12pm for free knitting workshops. \nAll beginners are welcome to get creative and enjoy a relaxed and friendly environment. \nFor more information please visit here. \nImage (The Lizards Lair Gaming Co)
URL:https://discovercrewe.co.uk/event/learn-to-knit/2031-07-31/
LOCATION:Lizards Lair\, 22 Victoria Centre\, Crewe\, CW1 2PU\, United Kingdom
CATEGORIES:Lizards Lair,Town Centre
ATTACH;FMTTYPE=image/jpeg:https://discovercrewe.co.uk/wp-content/uploads/2026/02/Learn-to-Knit.jpg
END:VEVENT
BEGIN:VEVENT
DTSTART;TZID=UTC:20310807T110000
DTEND;TZID=UTC:20310807T120000
DTSTAMP:20260420T041350
CREATED:20260209T113657Z
LAST-MODIFIED:20260209T113657Z
UID:10039915-1943866800-1943870400@discovercrewe.co.uk
SUMMARY:Learn to Knit
DESCRIPTION:Join The Lizards Lair Gaming Co on Thursday mornings from 11am until 12pm for free knitting workshops. \nAll beginners are welcome to get creative and enjoy a relaxed and friendly environment. \nFor more information please visit here. \nImage (The Lizards Lair Gaming Co)
URL:https://discovercrewe.co.uk/event/learn-to-knit/2031-08-07/
LOCATION:Lizards Lair\, 22 Victoria Centre\, Crewe\, CW1 2PU\, United Kingdom
CATEGORIES:Lizards Lair,Town Centre
ATTACH;FMTTYPE=image/jpeg:https://discovercrewe.co.uk/wp-content/uploads/2026/02/Learn-to-Knit.jpg
END:VEVENT
BEGIN:VEVENT
DTSTART;TZID=UTC:20310814T110000
DTEND;TZID=UTC:20310814T120000
DTSTAMP:20260420T041350
CREATED:20260209T113657Z
LAST-MODIFIED:20260209T113657Z
UID:10039916-1944471600-1944475200@discovercrewe.co.uk
SUMMARY:Learn to Knit
DESCRIPTION:Join The Lizards Lair Gaming Co on Thursday mornings from 11am until 12pm for free knitting workshops. \nAll beginners are welcome to get creative and enjoy a relaxed and friendly environment. \nFor more information please visit here. \nImage (The Lizards Lair Gaming Co)
URL:https://discovercrewe.co.uk/event/learn-to-knit/2031-08-14/
LOCATION:Lizards Lair\, 22 Victoria Centre\, Crewe\, CW1 2PU\, United Kingdom
CATEGORIES:Lizards Lair,Town Centre
ATTACH;FMTTYPE=image/jpeg:https://discovercrewe.co.uk/wp-content/uploads/2026/02/Learn-to-Knit.jpg
END:VEVENT
BEGIN:VEVENT
DTSTART;TZID=UTC:20310821T110000
DTEND;TZID=UTC:20310821T120000
DTSTAMP:20260420T041350
CREATED:20260209T113657Z
LAST-MODIFIED:20260209T113657Z
UID:10039917-1945076400-1945080000@discovercrewe.co.uk
SUMMARY:Learn to Knit
DESCRIPTION:Join The Lizards Lair Gaming Co on Thursday mornings from 11am until 12pm for free knitting workshops. \nAll beginners are welcome to get creative and enjoy a relaxed and friendly environment. \nFor more information please visit here. \nImage (The Lizards Lair Gaming Co)
URL:https://discovercrewe.co.uk/event/learn-to-knit/2031-08-21/
LOCATION:Lizards Lair\, 22 Victoria Centre\, Crewe\, CW1 2PU\, United Kingdom
CATEGORIES:Lizards Lair,Town Centre
ATTACH;FMTTYPE=image/jpeg:https://discovercrewe.co.uk/wp-content/uploads/2026/02/Learn-to-Knit.jpg
END:VEVENT
BEGIN:VEVENT
DTSTART;TZID=UTC:20310828T110000
DTEND;TZID=UTC:20310828T120000
DTSTAMP:20260420T041350
CREATED:20260209T113657Z
LAST-MODIFIED:20260209T113657Z
UID:10039918-1945681200-1945684800@discovercrewe.co.uk
SUMMARY:Learn to Knit
DESCRIPTION:Join The Lizards Lair Gaming Co on Thursday mornings from 11am until 12pm for free knitting workshops. \nAll beginners are welcome to get creative and enjoy a relaxed and friendly environment. \nFor more information please visit here. \nImage (The Lizards Lair Gaming Co)
URL:https://discovercrewe.co.uk/event/learn-to-knit/2031-08-28/
LOCATION:Lizards Lair\, 22 Victoria Centre\, Crewe\, CW1 2PU\, United Kingdom
CATEGORIES:Lizards Lair,Town Centre
ATTACH;FMTTYPE=image/jpeg:https://discovercrewe.co.uk/wp-content/uploads/2026/02/Learn-to-Knit.jpg
END:VEVENT
BEGIN:VEVENT
DTSTART;TZID=UTC:20310904T110000
DTEND;TZID=UTC:20310904T120000
DTSTAMP:20260420T041350
CREATED:20260209T113657Z
LAST-MODIFIED:20260209T113657Z
UID:10039919-1946286000-1946289600@discovercrewe.co.uk
SUMMARY:Learn to Knit
DESCRIPTION:Join The Lizards Lair Gaming Co on Thursday mornings from 11am until 12pm for free knitting workshops. \nAll beginners are welcome to get creative and enjoy a relaxed and friendly environment. \nFor more information please visit here. \nImage (The Lizards Lair Gaming Co)
URL:https://discovercrewe.co.uk/event/learn-to-knit/2031-09-04/
LOCATION:Lizards Lair\, 22 Victoria Centre\, Crewe\, CW1 2PU\, United Kingdom
CATEGORIES:Lizards Lair,Town Centre
ATTACH;FMTTYPE=image/jpeg:https://discovercrewe.co.uk/wp-content/uploads/2026/02/Learn-to-Knit.jpg
END:VEVENT
BEGIN:VEVENT
DTSTART;TZID=UTC:20310911T110000
DTEND;TZID=UTC:20310911T120000
DTSTAMP:20260420T041350
CREATED:20260209T113657Z
LAST-MODIFIED:20260209T113657Z
UID:10039920-1946890800-1946894400@discovercrewe.co.uk
SUMMARY:Learn to Knit
DESCRIPTION:Join The Lizards Lair Gaming Co on Thursday mornings from 11am until 12pm for free knitting workshops. \nAll beginners are welcome to get creative and enjoy a relaxed and friendly environment. \nFor more information please visit here. \nImage (The Lizards Lair Gaming Co)
URL:https://discovercrewe.co.uk/event/learn-to-knit/2031-09-11/
LOCATION:Lizards Lair\, 22 Victoria Centre\, Crewe\, CW1 2PU\, United Kingdom
CATEGORIES:Lizards Lair,Town Centre
ATTACH;FMTTYPE=image/jpeg:https://discovercrewe.co.uk/wp-content/uploads/2026/02/Learn-to-Knit.jpg
END:VEVENT
END:VCALENDAR