BEGIN:VCALENDAR
VERSION:2.0
PRODID:-//Discover Crewe - ECPv6.15.15//NONSGML v1.0//EN
CALSCALE:GREGORIAN
METHOD:PUBLISH
X-WR-CALNAME:Discover Crewe
X-ORIGINAL-URL:https://discovercrewe.co.uk
X-WR-CALDESC:Events for Discover Crewe
REFRESH-INTERVAL;VALUE=DURATION:PT1H
X-Robots-Tag:noindex
X-PUBLISHED-TTL:PT1H
BEGIN:VTIMEZONE
TZID:UTC
BEGIN:STANDARD
TZOFFSETFROM:+0000
TZOFFSETTO:+0000
TZNAME:UTC
DTSTART:20290101T000000
END:STANDARD
END:VTIMEZONE
BEGIN:VEVENT
DTSTART;TZID=UTC:20301020T140000
DTEND;TZID=UTC:20301020T160000
DTSTAMP:20260419T213150
CREATED:20260209T111455Z
LAST-MODIFIED:20260209T111455Z
UID:10038830-1918735200-1918742400@discovercrewe.co.uk
SUMMARY:Geeky Quiz
DESCRIPTION:Every Sunday afternoon at The Lizards Lair Gaming Co\, they have a geeky quiz from 2pm until 4pm. \nCovering all topics from sci-fi\, games\, comics and fantasy its a trivia quiz fun for all nerds. \nThere will be prizes on offer and it’s completely free to take part. \nFor more information please visit here. \nImage (The Lizards Lair Gaming Co)
URL:https://discovercrewe.co.uk/event/geeky-quiz/2030-10-20/
LOCATION:Lizards Lair\, 22 Victoria Centre\, Crewe\, CW1 2PU\, United Kingdom
CATEGORIES:Lizards Lair,Town Centre
ATTACH;FMTTYPE=image/jpeg:https://discovercrewe.co.uk/wp-content/uploads/2026/02/geeky-quiz.jpg
END:VEVENT
BEGIN:VEVENT
DTSTART;TZID=UTC:20301027T140000
DTEND;TZID=UTC:20301027T160000
DTSTAMP:20260419T213150
CREATED:20260209T111455Z
LAST-MODIFIED:20260209T111455Z
UID:10038831-1919340000-1919347200@discovercrewe.co.uk
SUMMARY:Geeky Quiz
DESCRIPTION:Every Sunday afternoon at The Lizards Lair Gaming Co\, they have a geeky quiz from 2pm until 4pm. \nCovering all topics from sci-fi\, games\, comics and fantasy its a trivia quiz fun for all nerds. \nThere will be prizes on offer and it’s completely free to take part. \nFor more information please visit here. \nImage (The Lizards Lair Gaming Co)
URL:https://discovercrewe.co.uk/event/geeky-quiz/2030-10-27/
LOCATION:Lizards Lair\, 22 Victoria Centre\, Crewe\, CW1 2PU\, United Kingdom
CATEGORIES:Lizards Lair,Town Centre
ATTACH;FMTTYPE=image/jpeg:https://discovercrewe.co.uk/wp-content/uploads/2026/02/geeky-quiz.jpg
END:VEVENT
BEGIN:VEVENT
DTSTART;TZID=UTC:20301103T140000
DTEND;TZID=UTC:20301103T160000
DTSTAMP:20260419T213150
CREATED:20260209T111455Z
LAST-MODIFIED:20260209T111455Z
UID:10038832-1919944800-1919952000@discovercrewe.co.uk
SUMMARY:Geeky Quiz
DESCRIPTION:Every Sunday afternoon at The Lizards Lair Gaming Co\, they have a geeky quiz from 2pm until 4pm. \nCovering all topics from sci-fi\, games\, comics and fantasy its a trivia quiz fun for all nerds. \nThere will be prizes on offer and it’s completely free to take part. \nFor more information please visit here. \nImage (The Lizards Lair Gaming Co)
URL:https://discovercrewe.co.uk/event/geeky-quiz/2030-11-03/
LOCATION:Lizards Lair\, 22 Victoria Centre\, Crewe\, CW1 2PU\, United Kingdom
CATEGORIES:Lizards Lair,Town Centre
ATTACH;FMTTYPE=image/jpeg:https://discovercrewe.co.uk/wp-content/uploads/2026/02/geeky-quiz.jpg
END:VEVENT
BEGIN:VEVENT
DTSTART;TZID=UTC:20301110T140000
DTEND;TZID=UTC:20301110T160000
DTSTAMP:20260419T213150
CREATED:20260209T111455Z
LAST-MODIFIED:20260209T111455Z
UID:10038833-1920549600-1920556800@discovercrewe.co.uk
SUMMARY:Geeky Quiz
DESCRIPTION:Every Sunday afternoon at The Lizards Lair Gaming Co\, they have a geeky quiz from 2pm until 4pm. \nCovering all topics from sci-fi\, games\, comics and fantasy its a trivia quiz fun for all nerds. \nThere will be prizes on offer and it’s completely free to take part. \nFor more information please visit here. \nImage (The Lizards Lair Gaming Co)
URL:https://discovercrewe.co.uk/event/geeky-quiz/2030-11-10/
LOCATION:Lizards Lair\, 22 Victoria Centre\, Crewe\, CW1 2PU\, United Kingdom
CATEGORIES:Lizards Lair,Town Centre
ATTACH;FMTTYPE=image/jpeg:https://discovercrewe.co.uk/wp-content/uploads/2026/02/geeky-quiz.jpg
END:VEVENT
BEGIN:VEVENT
DTSTART;TZID=UTC:20301117T140000
DTEND;TZID=UTC:20301117T160000
DTSTAMP:20260419T213150
CREATED:20260209T111455Z
LAST-MODIFIED:20260209T111455Z
UID:10038834-1921154400-1921161600@discovercrewe.co.uk
SUMMARY:Geeky Quiz
DESCRIPTION:Every Sunday afternoon at The Lizards Lair Gaming Co\, they have a geeky quiz from 2pm until 4pm. \nCovering all topics from sci-fi\, games\, comics and fantasy its a trivia quiz fun for all nerds. \nThere will be prizes on offer and it’s completely free to take part. \nFor more information please visit here. \nImage (The Lizards Lair Gaming Co)
URL:https://discovercrewe.co.uk/event/geeky-quiz/2030-11-17/
LOCATION:Lizards Lair\, 22 Victoria Centre\, Crewe\, CW1 2PU\, United Kingdom
CATEGORIES:Lizards Lair,Town Centre
ATTACH;FMTTYPE=image/jpeg:https://discovercrewe.co.uk/wp-content/uploads/2026/02/geeky-quiz.jpg
END:VEVENT
BEGIN:VEVENT
DTSTART;TZID=UTC:20301124T140000
DTEND;TZID=UTC:20301124T160000
DTSTAMP:20260419T213150
CREATED:20260209T111455Z
LAST-MODIFIED:20260209T111455Z
UID:10038835-1921759200-1921766400@discovercrewe.co.uk
SUMMARY:Geeky Quiz
DESCRIPTION:Every Sunday afternoon at The Lizards Lair Gaming Co\, they have a geeky quiz from 2pm until 4pm. \nCovering all topics from sci-fi\, games\, comics and fantasy its a trivia quiz fun for all nerds. \nThere will be prizes on offer and it’s completely free to take part. \nFor more information please visit here. \nImage (The Lizards Lair Gaming Co)
URL:https://discovercrewe.co.uk/event/geeky-quiz/2030-11-24/
LOCATION:Lizards Lair\, 22 Victoria Centre\, Crewe\, CW1 2PU\, United Kingdom
CATEGORIES:Lizards Lair,Town Centre
ATTACH;FMTTYPE=image/jpeg:https://discovercrewe.co.uk/wp-content/uploads/2026/02/geeky-quiz.jpg
END:VEVENT
BEGIN:VEVENT
DTSTART;TZID=UTC:20301201T140000
DTEND;TZID=UTC:20301201T160000
DTSTAMP:20260419T213150
CREATED:20260209T111455Z
LAST-MODIFIED:20260209T111455Z
UID:10038836-1922364000-1922371200@discovercrewe.co.uk
SUMMARY:Geeky Quiz
DESCRIPTION:Every Sunday afternoon at The Lizards Lair Gaming Co\, they have a geeky quiz from 2pm until 4pm. \nCovering all topics from sci-fi\, games\, comics and fantasy its a trivia quiz fun for all nerds. \nThere will be prizes on offer and it’s completely free to take part. \nFor more information please visit here. \nImage (The Lizards Lair Gaming Co)
URL:https://discovercrewe.co.uk/event/geeky-quiz/2030-12-01/
LOCATION:Lizards Lair\, 22 Victoria Centre\, Crewe\, CW1 2PU\, United Kingdom
CATEGORIES:Lizards Lair,Town Centre
ATTACH;FMTTYPE=image/jpeg:https://discovercrewe.co.uk/wp-content/uploads/2026/02/geeky-quiz.jpg
END:VEVENT
BEGIN:VEVENT
DTSTART;TZID=UTC:20301208T140000
DTEND;TZID=UTC:20301208T160000
DTSTAMP:20260419T213150
CREATED:20260209T111455Z
LAST-MODIFIED:20260209T111455Z
UID:10038837-1922968800-1922976000@discovercrewe.co.uk
SUMMARY:Geeky Quiz
DESCRIPTION:Every Sunday afternoon at The Lizards Lair Gaming Co\, they have a geeky quiz from 2pm until 4pm. \nCovering all topics from sci-fi\, games\, comics and fantasy its a trivia quiz fun for all nerds. \nThere will be prizes on offer and it’s completely free to take part. \nFor more information please visit here. \nImage (The Lizards Lair Gaming Co)
URL:https://discovercrewe.co.uk/event/geeky-quiz/2030-12-08/
LOCATION:Lizards Lair\, 22 Victoria Centre\, Crewe\, CW1 2PU\, United Kingdom
CATEGORIES:Lizards Lair,Town Centre
ATTACH;FMTTYPE=image/jpeg:https://discovercrewe.co.uk/wp-content/uploads/2026/02/geeky-quiz.jpg
END:VEVENT
BEGIN:VEVENT
DTSTART;TZID=UTC:20301215T140000
DTEND;TZID=UTC:20301215T160000
DTSTAMP:20260419T213150
CREATED:20260209T111455Z
LAST-MODIFIED:20260209T111455Z
UID:10038838-1923573600-1923580800@discovercrewe.co.uk
SUMMARY:Geeky Quiz
DESCRIPTION:Every Sunday afternoon at The Lizards Lair Gaming Co\, they have a geeky quiz from 2pm until 4pm. \nCovering all topics from sci-fi\, games\, comics and fantasy its a trivia quiz fun for all nerds. \nThere will be prizes on offer and it’s completely free to take part. \nFor more information please visit here. \nImage (The Lizards Lair Gaming Co)
URL:https://discovercrewe.co.uk/event/geeky-quiz/2030-12-15/
LOCATION:Lizards Lair\, 22 Victoria Centre\, Crewe\, CW1 2PU\, United Kingdom
CATEGORIES:Lizards Lair,Town Centre
ATTACH;FMTTYPE=image/jpeg:https://discovercrewe.co.uk/wp-content/uploads/2026/02/geeky-quiz.jpg
END:VEVENT
BEGIN:VEVENT
DTSTART;TZID=UTC:20301222T140000
DTEND;TZID=UTC:20301222T160000
DTSTAMP:20260419T213150
CREATED:20260209T111455Z
LAST-MODIFIED:20260209T111455Z
UID:10038839-1924178400-1924185600@discovercrewe.co.uk
SUMMARY:Geeky Quiz
DESCRIPTION:Every Sunday afternoon at The Lizards Lair Gaming Co\, they have a geeky quiz from 2pm until 4pm. \nCovering all topics from sci-fi\, games\, comics and fantasy its a trivia quiz fun for all nerds. \nThere will be prizes on offer and it’s completely free to take part. \nFor more information please visit here. \nImage (The Lizards Lair Gaming Co)
URL:https://discovercrewe.co.uk/event/geeky-quiz/2030-12-22/
LOCATION:Lizards Lair\, 22 Victoria Centre\, Crewe\, CW1 2PU\, United Kingdom
CATEGORIES:Lizards Lair,Town Centre
ATTACH;FMTTYPE=image/jpeg:https://discovercrewe.co.uk/wp-content/uploads/2026/02/geeky-quiz.jpg
END:VEVENT
BEGIN:VEVENT
DTSTART;TZID=UTC:20301229T140000
DTEND;TZID=UTC:20301229T160000
DTSTAMP:20260419T213150
CREATED:20260209T111455Z
LAST-MODIFIED:20260209T111455Z
UID:10038840-1924783200-1924790400@discovercrewe.co.uk
SUMMARY:Geeky Quiz
DESCRIPTION:Every Sunday afternoon at The Lizards Lair Gaming Co\, they have a geeky quiz from 2pm until 4pm. \nCovering all topics from sci-fi\, games\, comics and fantasy its a trivia quiz fun for all nerds. \nThere will be prizes on offer and it’s completely free to take part. \nFor more information please visit here. \nImage (The Lizards Lair Gaming Co)
URL:https://discovercrewe.co.uk/event/geeky-quiz/2030-12-29/
LOCATION:Lizards Lair\, 22 Victoria Centre\, Crewe\, CW1 2PU\, United Kingdom
CATEGORIES:Lizards Lair,Town Centre
ATTACH;FMTTYPE=image/jpeg:https://discovercrewe.co.uk/wp-content/uploads/2026/02/geeky-quiz.jpg
END:VEVENT
BEGIN:VEVENT
DTSTART;TZID=UTC:20310105T140000
DTEND;TZID=UTC:20310105T160000
DTSTAMP:20260419T213150
CREATED:20260209T111455Z
LAST-MODIFIED:20260209T111455Z
UID:10038841-1925388000-1925395200@discovercrewe.co.uk
SUMMARY:Geeky Quiz
DESCRIPTION:Every Sunday afternoon at The Lizards Lair Gaming Co\, they have a geeky quiz from 2pm until 4pm. \nCovering all topics from sci-fi\, games\, comics and fantasy its a trivia quiz fun for all nerds. \nThere will be prizes on offer and it’s completely free to take part. \nFor more information please visit here. \nImage (The Lizards Lair Gaming Co)
URL:https://discovercrewe.co.uk/event/geeky-quiz/2031-01-05/
LOCATION:Lizards Lair\, 22 Victoria Centre\, Crewe\, CW1 2PU\, United Kingdom
CATEGORIES:Lizards Lair,Town Centre
ATTACH;FMTTYPE=image/jpeg:https://discovercrewe.co.uk/wp-content/uploads/2026/02/geeky-quiz.jpg
END:VEVENT
BEGIN:VEVENT
DTSTART;TZID=UTC:20310112T140000
DTEND;TZID=UTC:20310112T160000
DTSTAMP:20260419T213150
CREATED:20260209T111455Z
LAST-MODIFIED:20260209T111455Z
UID:10038842-1925992800-1926000000@discovercrewe.co.uk
SUMMARY:Geeky Quiz
DESCRIPTION:Every Sunday afternoon at The Lizards Lair Gaming Co\, they have a geeky quiz from 2pm until 4pm. \nCovering all topics from sci-fi\, games\, comics and fantasy its a trivia quiz fun for all nerds. \nThere will be prizes on offer and it’s completely free to take part. \nFor more information please visit here. \nImage (The Lizards Lair Gaming Co)
URL:https://discovercrewe.co.uk/event/geeky-quiz/2031-01-12/
LOCATION:Lizards Lair\, 22 Victoria Centre\, Crewe\, CW1 2PU\, United Kingdom
CATEGORIES:Lizards Lair,Town Centre
ATTACH;FMTTYPE=image/jpeg:https://discovercrewe.co.uk/wp-content/uploads/2026/02/geeky-quiz.jpg
END:VEVENT
BEGIN:VEVENT
DTSTART;TZID=UTC:20310119T140000
DTEND;TZID=UTC:20310119T160000
DTSTAMP:20260419T213150
CREATED:20260209T111455Z
LAST-MODIFIED:20260209T111455Z
UID:10038843-1926597600-1926604800@discovercrewe.co.uk
SUMMARY:Geeky Quiz
DESCRIPTION:Every Sunday afternoon at The Lizards Lair Gaming Co\, they have a geeky quiz from 2pm until 4pm. \nCovering all topics from sci-fi\, games\, comics and fantasy its a trivia quiz fun for all nerds. \nThere will be prizes on offer and it’s completely free to take part. \nFor more information please visit here. \nImage (The Lizards Lair Gaming Co)
URL:https://discovercrewe.co.uk/event/geeky-quiz/2031-01-19/
LOCATION:Lizards Lair\, 22 Victoria Centre\, Crewe\, CW1 2PU\, United Kingdom
CATEGORIES:Lizards Lair,Town Centre
ATTACH;FMTTYPE=image/jpeg:https://discovercrewe.co.uk/wp-content/uploads/2026/02/geeky-quiz.jpg
END:VEVENT
BEGIN:VEVENT
DTSTART;TZID=UTC:20310126T140000
DTEND;TZID=UTC:20310126T160000
DTSTAMP:20260419T213150
CREATED:20260209T111455Z
LAST-MODIFIED:20260209T111455Z
UID:10038844-1927202400-1927209600@discovercrewe.co.uk
SUMMARY:Geeky Quiz
DESCRIPTION:Every Sunday afternoon at The Lizards Lair Gaming Co\, they have a geeky quiz from 2pm until 4pm. \nCovering all topics from sci-fi\, games\, comics and fantasy its a trivia quiz fun for all nerds. \nThere will be prizes on offer and it’s completely free to take part. \nFor more information please visit here. \nImage (The Lizards Lair Gaming Co)
URL:https://discovercrewe.co.uk/event/geeky-quiz/2031-01-26/
LOCATION:Lizards Lair\, 22 Victoria Centre\, Crewe\, CW1 2PU\, United Kingdom
CATEGORIES:Lizards Lair,Town Centre
ATTACH;FMTTYPE=image/jpeg:https://discovercrewe.co.uk/wp-content/uploads/2026/02/geeky-quiz.jpg
END:VEVENT
BEGIN:VEVENT
DTSTART;TZID=UTC:20310202T140000
DTEND;TZID=UTC:20310202T160000
DTSTAMP:20260419T213150
CREATED:20260209T111455Z
LAST-MODIFIED:20260209T111455Z
UID:10038845-1927807200-1927814400@discovercrewe.co.uk
SUMMARY:Geeky Quiz
DESCRIPTION:Every Sunday afternoon at The Lizards Lair Gaming Co\, they have a geeky quiz from 2pm until 4pm. \nCovering all topics from sci-fi\, games\, comics and fantasy its a trivia quiz fun for all nerds. \nThere will be prizes on offer and it’s completely free to take part. \nFor more information please visit here. \nImage (The Lizards Lair Gaming Co)
URL:https://discovercrewe.co.uk/event/geeky-quiz/2031-02-02/
LOCATION:Lizards Lair\, 22 Victoria Centre\, Crewe\, CW1 2PU\, United Kingdom
CATEGORIES:Lizards Lair,Town Centre
ATTACH;FMTTYPE=image/jpeg:https://discovercrewe.co.uk/wp-content/uploads/2026/02/geeky-quiz.jpg
END:VEVENT
BEGIN:VEVENT
DTSTART;TZID=UTC:20310209T140000
DTEND;TZID=UTC:20310209T160000
DTSTAMP:20260419T213150
CREATED:20260209T111455Z
LAST-MODIFIED:20260209T111455Z
UID:10038846-1928412000-1928419200@discovercrewe.co.uk
SUMMARY:Geeky Quiz
DESCRIPTION:Every Sunday afternoon at The Lizards Lair Gaming Co\, they have a geeky quiz from 2pm until 4pm. \nCovering all topics from sci-fi\, games\, comics and fantasy its a trivia quiz fun for all nerds. \nThere will be prizes on offer and it’s completely free to take part. \nFor more information please visit here. \nImage (The Lizards Lair Gaming Co)
URL:https://discovercrewe.co.uk/event/geeky-quiz/2031-02-09/
LOCATION:Lizards Lair\, 22 Victoria Centre\, Crewe\, CW1 2PU\, United Kingdom
CATEGORIES:Lizards Lair,Town Centre
ATTACH;FMTTYPE=image/jpeg:https://discovercrewe.co.uk/wp-content/uploads/2026/02/geeky-quiz.jpg
END:VEVENT
BEGIN:VEVENT
DTSTART;TZID=UTC:20310216T140000
DTEND;TZID=UTC:20310216T160000
DTSTAMP:20260419T213150
CREATED:20260209T111455Z
LAST-MODIFIED:20260209T111455Z
UID:10038847-1929016800-1929024000@discovercrewe.co.uk
SUMMARY:Geeky Quiz
DESCRIPTION:Every Sunday afternoon at The Lizards Lair Gaming Co\, they have a geeky quiz from 2pm until 4pm. \nCovering all topics from sci-fi\, games\, comics and fantasy its a trivia quiz fun for all nerds. \nThere will be prizes on offer and it’s completely free to take part. \nFor more information please visit here. \nImage (The Lizards Lair Gaming Co)
URL:https://discovercrewe.co.uk/event/geeky-quiz/2031-02-16/
LOCATION:Lizards Lair\, 22 Victoria Centre\, Crewe\, CW1 2PU\, United Kingdom
CATEGORIES:Lizards Lair,Town Centre
ATTACH;FMTTYPE=image/jpeg:https://discovercrewe.co.uk/wp-content/uploads/2026/02/geeky-quiz.jpg
END:VEVENT
BEGIN:VEVENT
DTSTART;TZID=UTC:20310223T140000
DTEND;TZID=UTC:20310223T160000
DTSTAMP:20260419T213151
CREATED:20260209T111455Z
LAST-MODIFIED:20260209T111455Z
UID:10038848-1929621600-1929628800@discovercrewe.co.uk
SUMMARY:Geeky Quiz
DESCRIPTION:Every Sunday afternoon at The Lizards Lair Gaming Co\, they have a geeky quiz from 2pm until 4pm. \nCovering all topics from sci-fi\, games\, comics and fantasy its a trivia quiz fun for all nerds. \nThere will be prizes on offer and it’s completely free to take part. \nFor more information please visit here. \nImage (The Lizards Lair Gaming Co)
URL:https://discovercrewe.co.uk/event/geeky-quiz/2031-02-23/
LOCATION:Lizards Lair\, 22 Victoria Centre\, Crewe\, CW1 2PU\, United Kingdom
CATEGORIES:Lizards Lair,Town Centre
ATTACH;FMTTYPE=image/jpeg:https://discovercrewe.co.uk/wp-content/uploads/2026/02/geeky-quiz.jpg
END:VEVENT
BEGIN:VEVENT
DTSTART;TZID=UTC:20310302T140000
DTEND;TZID=UTC:20310302T160000
DTSTAMP:20260419T213151
CREATED:20260209T111455Z
LAST-MODIFIED:20260209T111455Z
UID:10038849-1930226400-1930233600@discovercrewe.co.uk
SUMMARY:Geeky Quiz
DESCRIPTION:Every Sunday afternoon at The Lizards Lair Gaming Co\, they have a geeky quiz from 2pm until 4pm. \nCovering all topics from sci-fi\, games\, comics and fantasy its a trivia quiz fun for all nerds. \nThere will be prizes on offer and it’s completely free to take part. \nFor more information please visit here. \nImage (The Lizards Lair Gaming Co)
URL:https://discovercrewe.co.uk/event/geeky-quiz/2031-03-02/
LOCATION:Lizards Lair\, 22 Victoria Centre\, Crewe\, CW1 2PU\, United Kingdom
CATEGORIES:Lizards Lair,Town Centre
ATTACH;FMTTYPE=image/jpeg:https://discovercrewe.co.uk/wp-content/uploads/2026/02/geeky-quiz.jpg
END:VEVENT
BEGIN:VEVENT
DTSTART;TZID=UTC:20310309T140000
DTEND;TZID=UTC:20310309T160000
DTSTAMP:20260419T213151
CREATED:20260209T111455Z
LAST-MODIFIED:20260209T111455Z
UID:10038850-1930831200-1930838400@discovercrewe.co.uk
SUMMARY:Geeky Quiz
DESCRIPTION:Every Sunday afternoon at The Lizards Lair Gaming Co\, they have a geeky quiz from 2pm until 4pm. \nCovering all topics from sci-fi\, games\, comics and fantasy its a trivia quiz fun for all nerds. \nThere will be prizes on offer and it’s completely free to take part. \nFor more information please visit here. \nImage (The Lizards Lair Gaming Co)
URL:https://discovercrewe.co.uk/event/geeky-quiz/2031-03-09/
LOCATION:Lizards Lair\, 22 Victoria Centre\, Crewe\, CW1 2PU\, United Kingdom
CATEGORIES:Lizards Lair,Town Centre
ATTACH;FMTTYPE=image/jpeg:https://discovercrewe.co.uk/wp-content/uploads/2026/02/geeky-quiz.jpg
END:VEVENT
BEGIN:VEVENT
DTSTART;TZID=UTC:20310316T140000
DTEND;TZID=UTC:20310316T160000
DTSTAMP:20260419T213151
CREATED:20260209T111455Z
LAST-MODIFIED:20260209T111455Z
UID:10038851-1931436000-1931443200@discovercrewe.co.uk
SUMMARY:Geeky Quiz
DESCRIPTION:Every Sunday afternoon at The Lizards Lair Gaming Co\, they have a geeky quiz from 2pm until 4pm. \nCovering all topics from sci-fi\, games\, comics and fantasy its a trivia quiz fun for all nerds. \nThere will be prizes on offer and it’s completely free to take part. \nFor more information please visit here. \nImage (The Lizards Lair Gaming Co)
URL:https://discovercrewe.co.uk/event/geeky-quiz/2031-03-16/
LOCATION:Lizards Lair\, 22 Victoria Centre\, Crewe\, CW1 2PU\, United Kingdom
CATEGORIES:Lizards Lair,Town Centre
ATTACH;FMTTYPE=image/jpeg:https://discovercrewe.co.uk/wp-content/uploads/2026/02/geeky-quiz.jpg
END:VEVENT
BEGIN:VEVENT
DTSTART;TZID=UTC:20310323T140000
DTEND;TZID=UTC:20310323T160000
DTSTAMP:20260419T213151
CREATED:20260209T111455Z
LAST-MODIFIED:20260209T111455Z
UID:10038852-1932040800-1932048000@discovercrewe.co.uk
SUMMARY:Geeky Quiz
DESCRIPTION:Every Sunday afternoon at The Lizards Lair Gaming Co\, they have a geeky quiz from 2pm until 4pm. \nCovering all topics from sci-fi\, games\, comics and fantasy its a trivia quiz fun for all nerds. \nThere will be prizes on offer and it’s completely free to take part. \nFor more information please visit here. \nImage (The Lizards Lair Gaming Co)
URL:https://discovercrewe.co.uk/event/geeky-quiz/2031-03-23/
LOCATION:Lizards Lair\, 22 Victoria Centre\, Crewe\, CW1 2PU\, United Kingdom
CATEGORIES:Lizards Lair,Town Centre
ATTACH;FMTTYPE=image/jpeg:https://discovercrewe.co.uk/wp-content/uploads/2026/02/geeky-quiz.jpg
END:VEVENT
BEGIN:VEVENT
DTSTART;TZID=UTC:20310330T140000
DTEND;TZID=UTC:20310330T160000
DTSTAMP:20260419T213151
CREATED:20260209T111455Z
LAST-MODIFIED:20260209T111455Z
UID:10038853-1932645600-1932652800@discovercrewe.co.uk
SUMMARY:Geeky Quiz
DESCRIPTION:Every Sunday afternoon at The Lizards Lair Gaming Co\, they have a geeky quiz from 2pm until 4pm. \nCovering all topics from sci-fi\, games\, comics and fantasy its a trivia quiz fun for all nerds. \nThere will be prizes on offer and it’s completely free to take part. \nFor more information please visit here. \nImage (The Lizards Lair Gaming Co)
URL:https://discovercrewe.co.uk/event/geeky-quiz/2031-03-30/
LOCATION:Lizards Lair\, 22 Victoria Centre\, Crewe\, CW1 2PU\, United Kingdom
CATEGORIES:Lizards Lair,Town Centre
ATTACH;FMTTYPE=image/jpeg:https://discovercrewe.co.uk/wp-content/uploads/2026/02/geeky-quiz.jpg
END:VEVENT
BEGIN:VEVENT
DTSTART;TZID=UTC:20310406T140000
DTEND;TZID=UTC:20310406T160000
DTSTAMP:20260419T213151
CREATED:20260209T111455Z
LAST-MODIFIED:20260209T111455Z
UID:10038854-1933250400-1933257600@discovercrewe.co.uk
SUMMARY:Geeky Quiz
DESCRIPTION:Every Sunday afternoon at The Lizards Lair Gaming Co\, they have a geeky quiz from 2pm until 4pm. \nCovering all topics from sci-fi\, games\, comics and fantasy its a trivia quiz fun for all nerds. \nThere will be prizes on offer and it’s completely free to take part. \nFor more information please visit here. \nImage (The Lizards Lair Gaming Co)
URL:https://discovercrewe.co.uk/event/geeky-quiz/2031-04-06/
LOCATION:Lizards Lair\, 22 Victoria Centre\, Crewe\, CW1 2PU\, United Kingdom
CATEGORIES:Lizards Lair,Town Centre
ATTACH;FMTTYPE=image/jpeg:https://discovercrewe.co.uk/wp-content/uploads/2026/02/geeky-quiz.jpg
END:VEVENT
BEGIN:VEVENT
DTSTART;TZID=UTC:20310413T140000
DTEND;TZID=UTC:20310413T160000
DTSTAMP:20260419T213151
CREATED:20260209T111455Z
LAST-MODIFIED:20260209T111455Z
UID:10038855-1933855200-1933862400@discovercrewe.co.uk
SUMMARY:Geeky Quiz
DESCRIPTION:Every Sunday afternoon at The Lizards Lair Gaming Co\, they have a geeky quiz from 2pm until 4pm. \nCovering all topics from sci-fi\, games\, comics and fantasy its a trivia quiz fun for all nerds. \nThere will be prizes on offer and it’s completely free to take part. \nFor more information please visit here. \nImage (The Lizards Lair Gaming Co)
URL:https://discovercrewe.co.uk/event/geeky-quiz/2031-04-13/
LOCATION:Lizards Lair\, 22 Victoria Centre\, Crewe\, CW1 2PU\, United Kingdom
CATEGORIES:Lizards Lair,Town Centre
ATTACH;FMTTYPE=image/jpeg:https://discovercrewe.co.uk/wp-content/uploads/2026/02/geeky-quiz.jpg
END:VEVENT
BEGIN:VEVENT
DTSTART;TZID=UTC:20310420T140000
DTEND;TZID=UTC:20310420T160000
DTSTAMP:20260419T213151
CREATED:20260209T111455Z
LAST-MODIFIED:20260209T111455Z
UID:10038856-1934460000-1934467200@discovercrewe.co.uk
SUMMARY:Geeky Quiz
DESCRIPTION:Every Sunday afternoon at The Lizards Lair Gaming Co\, they have a geeky quiz from 2pm until 4pm. \nCovering all topics from sci-fi\, games\, comics and fantasy its a trivia quiz fun for all nerds. \nThere will be prizes on offer and it’s completely free to take part. \nFor more information please visit here. \nImage (The Lizards Lair Gaming Co)
URL:https://discovercrewe.co.uk/event/geeky-quiz/2031-04-20/
LOCATION:Lizards Lair\, 22 Victoria Centre\, Crewe\, CW1 2PU\, United Kingdom
CATEGORIES:Lizards Lair,Town Centre
ATTACH;FMTTYPE=image/jpeg:https://discovercrewe.co.uk/wp-content/uploads/2026/02/geeky-quiz.jpg
END:VEVENT
BEGIN:VEVENT
DTSTART;TZID=UTC:20310427T140000
DTEND;TZID=UTC:20310427T160000
DTSTAMP:20260419T213151
CREATED:20260209T111455Z
LAST-MODIFIED:20260209T111455Z
UID:10038857-1935064800-1935072000@discovercrewe.co.uk
SUMMARY:Geeky Quiz
DESCRIPTION:Every Sunday afternoon at The Lizards Lair Gaming Co\, they have a geeky quiz from 2pm until 4pm. \nCovering all topics from sci-fi\, games\, comics and fantasy its a trivia quiz fun for all nerds. \nThere will be prizes on offer and it’s completely free to take part. \nFor more information please visit here. \nImage (The Lizards Lair Gaming Co)
URL:https://discovercrewe.co.uk/event/geeky-quiz/2031-04-27/
LOCATION:Lizards Lair\, 22 Victoria Centre\, Crewe\, CW1 2PU\, United Kingdom
CATEGORIES:Lizards Lair,Town Centre
ATTACH;FMTTYPE=image/jpeg:https://discovercrewe.co.uk/wp-content/uploads/2026/02/geeky-quiz.jpg
END:VEVENT
BEGIN:VEVENT
DTSTART;TZID=UTC:20310504T140000
DTEND;TZID=UTC:20310504T160000
DTSTAMP:20260419T213151
CREATED:20260209T111455Z
LAST-MODIFIED:20260209T111455Z
UID:10038858-1935669600-1935676800@discovercrewe.co.uk
SUMMARY:Geeky Quiz
DESCRIPTION:Every Sunday afternoon at The Lizards Lair Gaming Co\, they have a geeky quiz from 2pm until 4pm. \nCovering all topics from sci-fi\, games\, comics and fantasy its a trivia quiz fun for all nerds. \nThere will be prizes on offer and it’s completely free to take part. \nFor more information please visit here. \nImage (The Lizards Lair Gaming Co)
URL:https://discovercrewe.co.uk/event/geeky-quiz/2031-05-04/
LOCATION:Lizards Lair\, 22 Victoria Centre\, Crewe\, CW1 2PU\, United Kingdom
CATEGORIES:Lizards Lair,Town Centre
ATTACH;FMTTYPE=image/jpeg:https://discovercrewe.co.uk/wp-content/uploads/2026/02/geeky-quiz.jpg
END:VEVENT
BEGIN:VEVENT
DTSTART;TZID=UTC:20310511T140000
DTEND;TZID=UTC:20310511T160000
DTSTAMP:20260419T213151
CREATED:20260209T111455Z
LAST-MODIFIED:20260209T111455Z
UID:10038859-1936274400-1936281600@discovercrewe.co.uk
SUMMARY:Geeky Quiz
DESCRIPTION:Every Sunday afternoon at The Lizards Lair Gaming Co\, they have a geeky quiz from 2pm until 4pm. \nCovering all topics from sci-fi\, games\, comics and fantasy its a trivia quiz fun for all nerds. \nThere will be prizes on offer and it’s completely free to take part. \nFor more information please visit here. \nImage (The Lizards Lair Gaming Co)
URL:https://discovercrewe.co.uk/event/geeky-quiz/2031-05-11/
LOCATION:Lizards Lair\, 22 Victoria Centre\, Crewe\, CW1 2PU\, United Kingdom
CATEGORIES:Lizards Lair,Town Centre
ATTACH;FMTTYPE=image/jpeg:https://discovercrewe.co.uk/wp-content/uploads/2026/02/geeky-quiz.jpg
END:VEVENT
END:VCALENDAR