BEGIN:VCALENDAR
VERSION:2.0
PRODID:-//Discover Crewe - ECPv6.15.15//NONSGML v1.0//EN
CALSCALE:GREGORIAN
METHOD:PUBLISH
X-ORIGINAL-URL:https://discovercrewe.co.uk
X-WR-CALDESC:Events for Discover Crewe
REFRESH-INTERVAL;VALUE=DURATION:PT1H
X-Robots-Tag:noindex
X-PUBLISHED-TTL:PT1H
BEGIN:VTIMEZONE
TZID:UTC
BEGIN:STANDARD
TZOFFSETFROM:+0000
TZOFFSETTO:+0000
TZNAME:UTC
DTSTART:20290101T000000
END:STANDARD
END:VTIMEZONE
BEGIN:VEVENT
DTSTART;TZID=UTC:20300613T110000
DTEND;TZID=UTC:20300613T120000
DTSTAMP:20260419T180158
CREATED:20260209T113657Z
LAST-MODIFIED:20260209T113657Z
UID:10039855-1907578800-1907582400@discovercrewe.co.uk
SUMMARY:Learn to Knit
DESCRIPTION:Join The Lizards Lair Gaming Co on Thursday mornings from 11am until 12pm for free knitting workshops. \nAll beginners are welcome to get creative and enjoy a relaxed and friendly environment. \nFor more information please visit here. \nImage (The Lizards Lair Gaming Co)
URL:https://discovercrewe.co.uk/event/learn-to-knit/2030-06-13/
LOCATION:Lizards Lair\, 22 Victoria Centre\, Crewe\, CW1 2PU\, United Kingdom
CATEGORIES:Lizards Lair,Town Centre
ATTACH;FMTTYPE=image/jpeg:https://discovercrewe.co.uk/wp-content/uploads/2026/02/Learn-to-Knit.jpg
END:VEVENT
BEGIN:VEVENT
DTSTART;TZID=UTC:20300620T110000
DTEND;TZID=UTC:20300620T120000
DTSTAMP:20260419T180158
CREATED:20260209T113657Z
LAST-MODIFIED:20260209T113657Z
UID:10039856-1908183600-1908187200@discovercrewe.co.uk
SUMMARY:Learn to Knit
DESCRIPTION:Join The Lizards Lair Gaming Co on Thursday mornings from 11am until 12pm for free knitting workshops. \nAll beginners are welcome to get creative and enjoy a relaxed and friendly environment. \nFor more information please visit here. \nImage (The Lizards Lair Gaming Co)
URL:https://discovercrewe.co.uk/event/learn-to-knit/2030-06-20/
LOCATION:Lizards Lair\, 22 Victoria Centre\, Crewe\, CW1 2PU\, United Kingdom
CATEGORIES:Lizards Lair,Town Centre
ATTACH;FMTTYPE=image/jpeg:https://discovercrewe.co.uk/wp-content/uploads/2026/02/Learn-to-Knit.jpg
END:VEVENT
BEGIN:VEVENT
DTSTART;TZID=UTC:20300627T110000
DTEND;TZID=UTC:20300627T120000
DTSTAMP:20260419T180158
CREATED:20260209T113657Z
LAST-MODIFIED:20260209T113657Z
UID:10039857-1908788400-1908792000@discovercrewe.co.uk
SUMMARY:Learn to Knit
DESCRIPTION:Join The Lizards Lair Gaming Co on Thursday mornings from 11am until 12pm for free knitting workshops. \nAll beginners are welcome to get creative and enjoy a relaxed and friendly environment. \nFor more information please visit here. \nImage (The Lizards Lair Gaming Co)
URL:https://discovercrewe.co.uk/event/learn-to-knit/2030-06-27/
LOCATION:Lizards Lair\, 22 Victoria Centre\, Crewe\, CW1 2PU\, United Kingdom
CATEGORIES:Lizards Lair,Town Centre
ATTACH;FMTTYPE=image/jpeg:https://discovercrewe.co.uk/wp-content/uploads/2026/02/Learn-to-Knit.jpg
END:VEVENT
BEGIN:VEVENT
DTSTART;TZID=UTC:20300704T110000
DTEND;TZID=UTC:20300704T120000
DTSTAMP:20260419T180158
CREATED:20260209T113657Z
LAST-MODIFIED:20260209T113657Z
UID:10039858-1909393200-1909396800@discovercrewe.co.uk
SUMMARY:Learn to Knit
DESCRIPTION:Join The Lizards Lair Gaming Co on Thursday mornings from 11am until 12pm for free knitting workshops. \nAll beginners are welcome to get creative and enjoy a relaxed and friendly environment. \nFor more information please visit here. \nImage (The Lizards Lair Gaming Co)
URL:https://discovercrewe.co.uk/event/learn-to-knit/2030-07-04/
LOCATION:Lizards Lair\, 22 Victoria Centre\, Crewe\, CW1 2PU\, United Kingdom
CATEGORIES:Lizards Lair,Town Centre
ATTACH;FMTTYPE=image/jpeg:https://discovercrewe.co.uk/wp-content/uploads/2026/02/Learn-to-Knit.jpg
END:VEVENT
BEGIN:VEVENT
DTSTART;TZID=UTC:20300711T110000
DTEND;TZID=UTC:20300711T120000
DTSTAMP:20260419T180158
CREATED:20260209T113657Z
LAST-MODIFIED:20260209T113657Z
UID:10039859-1909998000-1910001600@discovercrewe.co.uk
SUMMARY:Learn to Knit
DESCRIPTION:Join The Lizards Lair Gaming Co on Thursday mornings from 11am until 12pm for free knitting workshops. \nAll beginners are welcome to get creative and enjoy a relaxed and friendly environment. \nFor more information please visit here. \nImage (The Lizards Lair Gaming Co)
URL:https://discovercrewe.co.uk/event/learn-to-knit/2030-07-11/
LOCATION:Lizards Lair\, 22 Victoria Centre\, Crewe\, CW1 2PU\, United Kingdom
CATEGORIES:Lizards Lair,Town Centre
ATTACH;FMTTYPE=image/jpeg:https://discovercrewe.co.uk/wp-content/uploads/2026/02/Learn-to-Knit.jpg
END:VEVENT
BEGIN:VEVENT
DTSTART;TZID=UTC:20300718T110000
DTEND;TZID=UTC:20300718T120000
DTSTAMP:20260419T180158
CREATED:20260209T113657Z
LAST-MODIFIED:20260209T113657Z
UID:10039860-1910602800-1910606400@discovercrewe.co.uk
SUMMARY:Learn to Knit
DESCRIPTION:Join The Lizards Lair Gaming Co on Thursday mornings from 11am until 12pm for free knitting workshops. \nAll beginners are welcome to get creative and enjoy a relaxed and friendly environment. \nFor more information please visit here. \nImage (The Lizards Lair Gaming Co)
URL:https://discovercrewe.co.uk/event/learn-to-knit/2030-07-18/
LOCATION:Lizards Lair\, 22 Victoria Centre\, Crewe\, CW1 2PU\, United Kingdom
CATEGORIES:Lizards Lair,Town Centre
ATTACH;FMTTYPE=image/jpeg:https://discovercrewe.co.uk/wp-content/uploads/2026/02/Learn-to-Knit.jpg
END:VEVENT
BEGIN:VEVENT
DTSTART;TZID=UTC:20300725T110000
DTEND;TZID=UTC:20300725T120000
DTSTAMP:20260419T180158
CREATED:20260209T113657Z
LAST-MODIFIED:20260209T113657Z
UID:10039861-1911207600-1911211200@discovercrewe.co.uk
SUMMARY:Learn to Knit
DESCRIPTION:Join The Lizards Lair Gaming Co on Thursday mornings from 11am until 12pm for free knitting workshops. \nAll beginners are welcome to get creative and enjoy a relaxed and friendly environment. \nFor more information please visit here. \nImage (The Lizards Lair Gaming Co)
URL:https://discovercrewe.co.uk/event/learn-to-knit/2030-07-25/
LOCATION:Lizards Lair\, 22 Victoria Centre\, Crewe\, CW1 2PU\, United Kingdom
CATEGORIES:Lizards Lair,Town Centre
ATTACH;FMTTYPE=image/jpeg:https://discovercrewe.co.uk/wp-content/uploads/2026/02/Learn-to-Knit.jpg
END:VEVENT
BEGIN:VEVENT
DTSTART;TZID=UTC:20300801T110000
DTEND;TZID=UTC:20300801T120000
DTSTAMP:20260419T180158
CREATED:20260209T113657Z
LAST-MODIFIED:20260209T113657Z
UID:10039862-1911812400-1911816000@discovercrewe.co.uk
SUMMARY:Learn to Knit
DESCRIPTION:Join The Lizards Lair Gaming Co on Thursday mornings from 11am until 12pm for free knitting workshops. \nAll beginners are welcome to get creative and enjoy a relaxed and friendly environment. \nFor more information please visit here. \nImage (The Lizards Lair Gaming Co)
URL:https://discovercrewe.co.uk/event/learn-to-knit/2030-08-01/
LOCATION:Lizards Lair\, 22 Victoria Centre\, Crewe\, CW1 2PU\, United Kingdom
CATEGORIES:Lizards Lair,Town Centre
ATTACH;FMTTYPE=image/jpeg:https://discovercrewe.co.uk/wp-content/uploads/2026/02/Learn-to-Knit.jpg
END:VEVENT
BEGIN:VEVENT
DTSTART;TZID=UTC:20300808T110000
DTEND;TZID=UTC:20300808T120000
DTSTAMP:20260419T180158
CREATED:20260209T113657Z
LAST-MODIFIED:20260209T113657Z
UID:10039863-1912417200-1912420800@discovercrewe.co.uk
SUMMARY:Learn to Knit
DESCRIPTION:Join The Lizards Lair Gaming Co on Thursday mornings from 11am until 12pm for free knitting workshops. \nAll beginners are welcome to get creative and enjoy a relaxed and friendly environment. \nFor more information please visit here. \nImage (The Lizards Lair Gaming Co)
URL:https://discovercrewe.co.uk/event/learn-to-knit/2030-08-08/
LOCATION:Lizards Lair\, 22 Victoria Centre\, Crewe\, CW1 2PU\, United Kingdom
CATEGORIES:Lizards Lair,Town Centre
ATTACH;FMTTYPE=image/jpeg:https://discovercrewe.co.uk/wp-content/uploads/2026/02/Learn-to-Knit.jpg
END:VEVENT
BEGIN:VEVENT
DTSTART;TZID=UTC:20300815T110000
DTEND;TZID=UTC:20300815T120000
DTSTAMP:20260419T180158
CREATED:20260209T113657Z
LAST-MODIFIED:20260209T113657Z
UID:10039864-1913022000-1913025600@discovercrewe.co.uk
SUMMARY:Learn to Knit
DESCRIPTION:Join The Lizards Lair Gaming Co on Thursday mornings from 11am until 12pm for free knitting workshops. \nAll beginners are welcome to get creative and enjoy a relaxed and friendly environment. \nFor more information please visit here. \nImage (The Lizards Lair Gaming Co)
URL:https://discovercrewe.co.uk/event/learn-to-knit/2030-08-15/
LOCATION:Lizards Lair\, 22 Victoria Centre\, Crewe\, CW1 2PU\, United Kingdom
CATEGORIES:Lizards Lair,Town Centre
ATTACH;FMTTYPE=image/jpeg:https://discovercrewe.co.uk/wp-content/uploads/2026/02/Learn-to-Knit.jpg
END:VEVENT
BEGIN:VEVENT
DTSTART;TZID=UTC:20300822T110000
DTEND;TZID=UTC:20300822T120000
DTSTAMP:20260419T180158
CREATED:20260209T113657Z
LAST-MODIFIED:20260209T113657Z
UID:10039865-1913626800-1913630400@discovercrewe.co.uk
SUMMARY:Learn to Knit
DESCRIPTION:Join The Lizards Lair Gaming Co on Thursday mornings from 11am until 12pm for free knitting workshops. \nAll beginners are welcome to get creative and enjoy a relaxed and friendly environment. \nFor more information please visit here. \nImage (The Lizards Lair Gaming Co)
URL:https://discovercrewe.co.uk/event/learn-to-knit/2030-08-22/
LOCATION:Lizards Lair\, 22 Victoria Centre\, Crewe\, CW1 2PU\, United Kingdom
CATEGORIES:Lizards Lair,Town Centre
ATTACH;FMTTYPE=image/jpeg:https://discovercrewe.co.uk/wp-content/uploads/2026/02/Learn-to-Knit.jpg
END:VEVENT
BEGIN:VEVENT
DTSTART;TZID=UTC:20300829T110000
DTEND;TZID=UTC:20300829T120000
DTSTAMP:20260419T180158
CREATED:20260209T113657Z
LAST-MODIFIED:20260209T113657Z
UID:10039866-1914231600-1914235200@discovercrewe.co.uk
SUMMARY:Learn to Knit
DESCRIPTION:Join The Lizards Lair Gaming Co on Thursday mornings from 11am until 12pm for free knitting workshops. \nAll beginners are welcome to get creative and enjoy a relaxed and friendly environment. \nFor more information please visit here. \nImage (The Lizards Lair Gaming Co)
URL:https://discovercrewe.co.uk/event/learn-to-knit/2030-08-29/
LOCATION:Lizards Lair\, 22 Victoria Centre\, Crewe\, CW1 2PU\, United Kingdom
CATEGORIES:Lizards Lair,Town Centre
ATTACH;FMTTYPE=image/jpeg:https://discovercrewe.co.uk/wp-content/uploads/2026/02/Learn-to-Knit.jpg
END:VEVENT
BEGIN:VEVENT
DTSTART;TZID=UTC:20300905T110000
DTEND;TZID=UTC:20300905T120000
DTSTAMP:20260419T180158
CREATED:20260209T113657Z
LAST-MODIFIED:20260209T113657Z
UID:10039867-1914836400-1914840000@discovercrewe.co.uk
SUMMARY:Learn to Knit
DESCRIPTION:Join The Lizards Lair Gaming Co on Thursday mornings from 11am until 12pm for free knitting workshops. \nAll beginners are welcome to get creative and enjoy a relaxed and friendly environment. \nFor more information please visit here. \nImage (The Lizards Lair Gaming Co)
URL:https://discovercrewe.co.uk/event/learn-to-knit/2030-09-05/
LOCATION:Lizards Lair\, 22 Victoria Centre\, Crewe\, CW1 2PU\, United Kingdom
CATEGORIES:Lizards Lair,Town Centre
ATTACH;FMTTYPE=image/jpeg:https://discovercrewe.co.uk/wp-content/uploads/2026/02/Learn-to-Knit.jpg
END:VEVENT
BEGIN:VEVENT
DTSTART;TZID=UTC:20300912T110000
DTEND;TZID=UTC:20300912T120000
DTSTAMP:20260419T180158
CREATED:20260209T113657Z
LAST-MODIFIED:20260209T113657Z
UID:10039868-1915441200-1915444800@discovercrewe.co.uk
SUMMARY:Learn to Knit
DESCRIPTION:Join The Lizards Lair Gaming Co on Thursday mornings from 11am until 12pm for free knitting workshops. \nAll beginners are welcome to get creative and enjoy a relaxed and friendly environment. \nFor more information please visit here. \nImage (The Lizards Lair Gaming Co)
URL:https://discovercrewe.co.uk/event/learn-to-knit/2030-09-12/
LOCATION:Lizards Lair\, 22 Victoria Centre\, Crewe\, CW1 2PU\, United Kingdom
CATEGORIES:Lizards Lair,Town Centre
ATTACH;FMTTYPE=image/jpeg:https://discovercrewe.co.uk/wp-content/uploads/2026/02/Learn-to-Knit.jpg
END:VEVENT
BEGIN:VEVENT
DTSTART;TZID=UTC:20300919T110000
DTEND;TZID=UTC:20300919T120000
DTSTAMP:20260419T180158
CREATED:20260209T113657Z
LAST-MODIFIED:20260209T113657Z
UID:10039869-1916046000-1916049600@discovercrewe.co.uk
SUMMARY:Learn to Knit
DESCRIPTION:Join The Lizards Lair Gaming Co on Thursday mornings from 11am until 12pm for free knitting workshops. \nAll beginners are welcome to get creative and enjoy a relaxed and friendly environment. \nFor more information please visit here. \nImage (The Lizards Lair Gaming Co)
URL:https://discovercrewe.co.uk/event/learn-to-knit/2030-09-19/
LOCATION:Lizards Lair\, 22 Victoria Centre\, Crewe\, CW1 2PU\, United Kingdom
CATEGORIES:Lizards Lair,Town Centre
ATTACH;FMTTYPE=image/jpeg:https://discovercrewe.co.uk/wp-content/uploads/2026/02/Learn-to-Knit.jpg
END:VEVENT
BEGIN:VEVENT
DTSTART;TZID=UTC:20300926T110000
DTEND;TZID=UTC:20300926T120000
DTSTAMP:20260419T180158
CREATED:20260209T113657Z
LAST-MODIFIED:20260209T113657Z
UID:10039870-1916650800-1916654400@discovercrewe.co.uk
SUMMARY:Learn to Knit
DESCRIPTION:Join The Lizards Lair Gaming Co on Thursday mornings from 11am until 12pm for free knitting workshops. \nAll beginners are welcome to get creative and enjoy a relaxed and friendly environment. \nFor more information please visit here. \nImage (The Lizards Lair Gaming Co)
URL:https://discovercrewe.co.uk/event/learn-to-knit/2030-09-26/
LOCATION:Lizards Lair\, 22 Victoria Centre\, Crewe\, CW1 2PU\, United Kingdom
CATEGORIES:Lizards Lair,Town Centre
ATTACH;FMTTYPE=image/jpeg:https://discovercrewe.co.uk/wp-content/uploads/2026/02/Learn-to-Knit.jpg
END:VEVENT
BEGIN:VEVENT
DTSTART;TZID=UTC:20301003T110000
DTEND;TZID=UTC:20301003T120000
DTSTAMP:20260419T180158
CREATED:20260209T113657Z
LAST-MODIFIED:20260209T113657Z
UID:10039871-1917255600-1917259200@discovercrewe.co.uk
SUMMARY:Learn to Knit
DESCRIPTION:Join The Lizards Lair Gaming Co on Thursday mornings from 11am until 12pm for free knitting workshops. \nAll beginners are welcome to get creative and enjoy a relaxed and friendly environment. \nFor more information please visit here. \nImage (The Lizards Lair Gaming Co)
URL:https://discovercrewe.co.uk/event/learn-to-knit/2030-10-03/
LOCATION:Lizards Lair\, 22 Victoria Centre\, Crewe\, CW1 2PU\, United Kingdom
CATEGORIES:Lizards Lair,Town Centre
ATTACH;FMTTYPE=image/jpeg:https://discovercrewe.co.uk/wp-content/uploads/2026/02/Learn-to-Knit.jpg
END:VEVENT
BEGIN:VEVENT
DTSTART;TZID=UTC:20301010T110000
DTEND;TZID=UTC:20301010T120000
DTSTAMP:20260419T180158
CREATED:20260209T113657Z
LAST-MODIFIED:20260209T113657Z
UID:10039872-1917860400-1917864000@discovercrewe.co.uk
SUMMARY:Learn to Knit
DESCRIPTION:Join The Lizards Lair Gaming Co on Thursday mornings from 11am until 12pm for free knitting workshops. \nAll beginners are welcome to get creative and enjoy a relaxed and friendly environment. \nFor more information please visit here. \nImage (The Lizards Lair Gaming Co)
URL:https://discovercrewe.co.uk/event/learn-to-knit/2030-10-10/
LOCATION:Lizards Lair\, 22 Victoria Centre\, Crewe\, CW1 2PU\, United Kingdom
CATEGORIES:Lizards Lair,Town Centre
ATTACH;FMTTYPE=image/jpeg:https://discovercrewe.co.uk/wp-content/uploads/2026/02/Learn-to-Knit.jpg
END:VEVENT
BEGIN:VEVENT
DTSTART;TZID=UTC:20301017T110000
DTEND;TZID=UTC:20301017T120000
DTSTAMP:20260419T180158
CREATED:20260209T113657Z
LAST-MODIFIED:20260209T113657Z
UID:10039873-1918465200-1918468800@discovercrewe.co.uk
SUMMARY:Learn to Knit
DESCRIPTION:Join The Lizards Lair Gaming Co on Thursday mornings from 11am until 12pm for free knitting workshops. \nAll beginners are welcome to get creative and enjoy a relaxed and friendly environment. \nFor more information please visit here. \nImage (The Lizards Lair Gaming Co)
URL:https://discovercrewe.co.uk/event/learn-to-knit/2030-10-17/
LOCATION:Lizards Lair\, 22 Victoria Centre\, Crewe\, CW1 2PU\, United Kingdom
CATEGORIES:Lizards Lair,Town Centre
ATTACH;FMTTYPE=image/jpeg:https://discovercrewe.co.uk/wp-content/uploads/2026/02/Learn-to-Knit.jpg
END:VEVENT
BEGIN:VEVENT
DTSTART;TZID=UTC:20301024T110000
DTEND;TZID=UTC:20301024T120000
DTSTAMP:20260419T180158
CREATED:20260209T113657Z
LAST-MODIFIED:20260209T113657Z
UID:10039874-1919070000-1919073600@discovercrewe.co.uk
SUMMARY:Learn to Knit
DESCRIPTION:Join The Lizards Lair Gaming Co on Thursday mornings from 11am until 12pm for free knitting workshops. \nAll beginners are welcome to get creative and enjoy a relaxed and friendly environment. \nFor more information please visit here. \nImage (The Lizards Lair Gaming Co)
URL:https://discovercrewe.co.uk/event/learn-to-knit/2030-10-24/
LOCATION:Lizards Lair\, 22 Victoria Centre\, Crewe\, CW1 2PU\, United Kingdom
CATEGORIES:Lizards Lair,Town Centre
ATTACH;FMTTYPE=image/jpeg:https://discovercrewe.co.uk/wp-content/uploads/2026/02/Learn-to-Knit.jpg
END:VEVENT
BEGIN:VEVENT
DTSTART;TZID=UTC:20301031T110000
DTEND;TZID=UTC:20301031T120000
DTSTAMP:20260419T180158
CREATED:20260209T113657Z
LAST-MODIFIED:20260209T113657Z
UID:10039875-1919674800-1919678400@discovercrewe.co.uk
SUMMARY:Learn to Knit
DESCRIPTION:Join The Lizards Lair Gaming Co on Thursday mornings from 11am until 12pm for free knitting workshops. \nAll beginners are welcome to get creative and enjoy a relaxed and friendly environment. \nFor more information please visit here. \nImage (The Lizards Lair Gaming Co)
URL:https://discovercrewe.co.uk/event/learn-to-knit/2030-10-31/
LOCATION:Lizards Lair\, 22 Victoria Centre\, Crewe\, CW1 2PU\, United Kingdom
CATEGORIES:Lizards Lair,Town Centre
ATTACH;FMTTYPE=image/jpeg:https://discovercrewe.co.uk/wp-content/uploads/2026/02/Learn-to-Knit.jpg
END:VEVENT
BEGIN:VEVENT
DTSTART;TZID=UTC:20301107T110000
DTEND;TZID=UTC:20301107T120000
DTSTAMP:20260419T180158
CREATED:20260209T113657Z
LAST-MODIFIED:20260209T113657Z
UID:10039876-1920279600-1920283200@discovercrewe.co.uk
SUMMARY:Learn to Knit
DESCRIPTION:Join The Lizards Lair Gaming Co on Thursday mornings from 11am until 12pm for free knitting workshops. \nAll beginners are welcome to get creative and enjoy a relaxed and friendly environment. \nFor more information please visit here. \nImage (The Lizards Lair Gaming Co)
URL:https://discovercrewe.co.uk/event/learn-to-knit/2030-11-07/
LOCATION:Lizards Lair\, 22 Victoria Centre\, Crewe\, CW1 2PU\, United Kingdom
CATEGORIES:Lizards Lair,Town Centre
ATTACH;FMTTYPE=image/jpeg:https://discovercrewe.co.uk/wp-content/uploads/2026/02/Learn-to-Knit.jpg
END:VEVENT
BEGIN:VEVENT
DTSTART;TZID=UTC:20301114T110000
DTEND;TZID=UTC:20301114T120000
DTSTAMP:20260419T180158
CREATED:20260209T113657Z
LAST-MODIFIED:20260209T113657Z
UID:10039877-1920884400-1920888000@discovercrewe.co.uk
SUMMARY:Learn to Knit
DESCRIPTION:Join The Lizards Lair Gaming Co on Thursday mornings from 11am until 12pm for free knitting workshops. \nAll beginners are welcome to get creative and enjoy a relaxed and friendly environment. \nFor more information please visit here. \nImage (The Lizards Lair Gaming Co)
URL:https://discovercrewe.co.uk/event/learn-to-knit/2030-11-14/
LOCATION:Lizards Lair\, 22 Victoria Centre\, Crewe\, CW1 2PU\, United Kingdom
CATEGORIES:Lizards Lair,Town Centre
ATTACH;FMTTYPE=image/jpeg:https://discovercrewe.co.uk/wp-content/uploads/2026/02/Learn-to-Knit.jpg
END:VEVENT
BEGIN:VEVENT
DTSTART;TZID=UTC:20301121T110000
DTEND;TZID=UTC:20301121T120000
DTSTAMP:20260419T180158
CREATED:20260209T113657Z
LAST-MODIFIED:20260209T113657Z
UID:10039878-1921489200-1921492800@discovercrewe.co.uk
SUMMARY:Learn to Knit
DESCRIPTION:Join The Lizards Lair Gaming Co on Thursday mornings from 11am until 12pm for free knitting workshops. \nAll beginners are welcome to get creative and enjoy a relaxed and friendly environment. \nFor more information please visit here. \nImage (The Lizards Lair Gaming Co)
URL:https://discovercrewe.co.uk/event/learn-to-knit/2030-11-21/
LOCATION:Lizards Lair\, 22 Victoria Centre\, Crewe\, CW1 2PU\, United Kingdom
CATEGORIES:Lizards Lair,Town Centre
ATTACH;FMTTYPE=image/jpeg:https://discovercrewe.co.uk/wp-content/uploads/2026/02/Learn-to-Knit.jpg
END:VEVENT
BEGIN:VEVENT
DTSTART;TZID=UTC:20301128T110000
DTEND;TZID=UTC:20301128T120000
DTSTAMP:20260419T180158
CREATED:20260209T113657Z
LAST-MODIFIED:20260209T113657Z
UID:10039879-1922094000-1922097600@discovercrewe.co.uk
SUMMARY:Learn to Knit
DESCRIPTION:Join The Lizards Lair Gaming Co on Thursday mornings from 11am until 12pm for free knitting workshops. \nAll beginners are welcome to get creative and enjoy a relaxed and friendly environment. \nFor more information please visit here. \nImage (The Lizards Lair Gaming Co)
URL:https://discovercrewe.co.uk/event/learn-to-knit/2030-11-28/
LOCATION:Lizards Lair\, 22 Victoria Centre\, Crewe\, CW1 2PU\, United Kingdom
CATEGORIES:Lizards Lair,Town Centre
ATTACH;FMTTYPE=image/jpeg:https://discovercrewe.co.uk/wp-content/uploads/2026/02/Learn-to-Knit.jpg
END:VEVENT
BEGIN:VEVENT
DTSTART;TZID=UTC:20301205T110000
DTEND;TZID=UTC:20301205T120000
DTSTAMP:20260419T180158
CREATED:20260209T113657Z
LAST-MODIFIED:20260209T113657Z
UID:10039880-1922698800-1922702400@discovercrewe.co.uk
SUMMARY:Learn to Knit
DESCRIPTION:Join The Lizards Lair Gaming Co on Thursday mornings from 11am until 12pm for free knitting workshops. \nAll beginners are welcome to get creative and enjoy a relaxed and friendly environment. \nFor more information please visit here. \nImage (The Lizards Lair Gaming Co)
URL:https://discovercrewe.co.uk/event/learn-to-knit/2030-12-05/
LOCATION:Lizards Lair\, 22 Victoria Centre\, Crewe\, CW1 2PU\, United Kingdom
CATEGORIES:Lizards Lair,Town Centre
ATTACH;FMTTYPE=image/jpeg:https://discovercrewe.co.uk/wp-content/uploads/2026/02/Learn-to-Knit.jpg
END:VEVENT
BEGIN:VEVENT
DTSTART;TZID=UTC:20301212T110000
DTEND;TZID=UTC:20301212T120000
DTSTAMP:20260419T180158
CREATED:20260209T113657Z
LAST-MODIFIED:20260209T113657Z
UID:10039881-1923303600-1923307200@discovercrewe.co.uk
SUMMARY:Learn to Knit
DESCRIPTION:Join The Lizards Lair Gaming Co on Thursday mornings from 11am until 12pm for free knitting workshops. \nAll beginners are welcome to get creative and enjoy a relaxed and friendly environment. \nFor more information please visit here. \nImage (The Lizards Lair Gaming Co)
URL:https://discovercrewe.co.uk/event/learn-to-knit/2030-12-12/
LOCATION:Lizards Lair\, 22 Victoria Centre\, Crewe\, CW1 2PU\, United Kingdom
CATEGORIES:Lizards Lair,Town Centre
ATTACH;FMTTYPE=image/jpeg:https://discovercrewe.co.uk/wp-content/uploads/2026/02/Learn-to-Knit.jpg
END:VEVENT
BEGIN:VEVENT
DTSTART;TZID=UTC:20301219T110000
DTEND;TZID=UTC:20301219T120000
DTSTAMP:20260419T180158
CREATED:20260209T113657Z
LAST-MODIFIED:20260209T113657Z
UID:10039882-1923908400-1923912000@discovercrewe.co.uk
SUMMARY:Learn to Knit
DESCRIPTION:Join The Lizards Lair Gaming Co on Thursday mornings from 11am until 12pm for free knitting workshops. \nAll beginners are welcome to get creative and enjoy a relaxed and friendly environment. \nFor more information please visit here. \nImage (The Lizards Lair Gaming Co)
URL:https://discovercrewe.co.uk/event/learn-to-knit/2030-12-19/
LOCATION:Lizards Lair\, 22 Victoria Centre\, Crewe\, CW1 2PU\, United Kingdom
CATEGORIES:Lizards Lair,Town Centre
ATTACH;FMTTYPE=image/jpeg:https://discovercrewe.co.uk/wp-content/uploads/2026/02/Learn-to-Knit.jpg
END:VEVENT
BEGIN:VEVENT
DTSTART;TZID=UTC:20301226T110000
DTEND;TZID=UTC:20301226T120000
DTSTAMP:20260419T180158
CREATED:20260209T113657Z
LAST-MODIFIED:20260209T113657Z
UID:10039883-1924513200-1924516800@discovercrewe.co.uk
SUMMARY:Learn to Knit
DESCRIPTION:Join The Lizards Lair Gaming Co on Thursday mornings from 11am until 12pm for free knitting workshops. \nAll beginners are welcome to get creative and enjoy a relaxed and friendly environment. \nFor more information please visit here. \nImage (The Lizards Lair Gaming Co)
URL:https://discovercrewe.co.uk/event/learn-to-knit/2030-12-26/
LOCATION:Lizards Lair\, 22 Victoria Centre\, Crewe\, CW1 2PU\, United Kingdom
CATEGORIES:Lizards Lair,Town Centre
ATTACH;FMTTYPE=image/jpeg:https://discovercrewe.co.uk/wp-content/uploads/2026/02/Learn-to-Knit.jpg
END:VEVENT
BEGIN:VEVENT
DTSTART;TZID=UTC:20310102T110000
DTEND;TZID=UTC:20310102T120000
DTSTAMP:20260419T180158
CREATED:20260209T113657Z
LAST-MODIFIED:20260209T113657Z
UID:10039884-1925118000-1925121600@discovercrewe.co.uk
SUMMARY:Learn to Knit
DESCRIPTION:Join The Lizards Lair Gaming Co on Thursday mornings from 11am until 12pm for free knitting workshops. \nAll beginners are welcome to get creative and enjoy a relaxed and friendly environment. \nFor more information please visit here. \nImage (The Lizards Lair Gaming Co)
URL:https://discovercrewe.co.uk/event/learn-to-knit/2031-01-02/
LOCATION:Lizards Lair\, 22 Victoria Centre\, Crewe\, CW1 2PU\, United Kingdom
CATEGORIES:Lizards Lair,Town Centre
ATTACH;FMTTYPE=image/jpeg:https://discovercrewe.co.uk/wp-content/uploads/2026/02/Learn-to-Knit.jpg
END:VEVENT
END:VCALENDAR