BEGIN:VCALENDAR
VERSION:2.0
PRODID:-//Discover Crewe - ECPv6.15.15//NONSGML v1.0//EN
CALSCALE:GREGORIAN
METHOD:PUBLISH
X-WR-CALNAME:Discover Crewe
X-ORIGINAL-URL:https://discovercrewe.co.uk
X-WR-CALDESC:Events for Discover Crewe
REFRESH-INTERVAL;VALUE=DURATION:PT1H
X-Robots-Tag:noindex
X-PUBLISHED-TTL:PT1H
BEGIN:VTIMEZONE
TZID:UTC
BEGIN:STANDARD
TZOFFSETFROM:+0000
TZOFFSETTO:+0000
TZNAME:UTC
DTSTART:20290101T000000
END:STANDARD
END:VTIMEZONE
BEGIN:VEVENT
DTSTART;TZID=UTC:20300203T140000
DTEND;TZID=UTC:20300203T160000
DTSTAMP:20260419T124411
CREATED:20260209T111455Z
LAST-MODIFIED:20260209T111455Z
UID:10038793-1896357600-1896364800@discovercrewe.co.uk
SUMMARY:Geeky Quiz
DESCRIPTION:Every Sunday afternoon at The Lizards Lair Gaming Co\, they have a geeky quiz from 2pm until 4pm. \nCovering all topics from sci-fi\, games\, comics and fantasy its a trivia quiz fun for all nerds. \nThere will be prizes on offer and it’s completely free to take part. \nFor more information please visit here. \nImage (The Lizards Lair Gaming Co)
URL:https://discovercrewe.co.uk/event/geeky-quiz/2030-02-03/
LOCATION:Lizards Lair\, 22 Victoria Centre\, Crewe\, CW1 2PU\, United Kingdom
CATEGORIES:Lizards Lair,Town Centre
ATTACH;FMTTYPE=image/jpeg:https://discovercrewe.co.uk/wp-content/uploads/2026/02/geeky-quiz.jpg
END:VEVENT
BEGIN:VEVENT
DTSTART;TZID=UTC:20300210T140000
DTEND;TZID=UTC:20300210T160000
DTSTAMP:20260419T124411
CREATED:20260209T111455Z
LAST-MODIFIED:20260209T111455Z
UID:10038794-1896962400-1896969600@discovercrewe.co.uk
SUMMARY:Geeky Quiz
DESCRIPTION:Every Sunday afternoon at The Lizards Lair Gaming Co\, they have a geeky quiz from 2pm until 4pm. \nCovering all topics from sci-fi\, games\, comics and fantasy its a trivia quiz fun for all nerds. \nThere will be prizes on offer and it’s completely free to take part. \nFor more information please visit here. \nImage (The Lizards Lair Gaming Co)
URL:https://discovercrewe.co.uk/event/geeky-quiz/2030-02-10/
LOCATION:Lizards Lair\, 22 Victoria Centre\, Crewe\, CW1 2PU\, United Kingdom
CATEGORIES:Lizards Lair,Town Centre
ATTACH;FMTTYPE=image/jpeg:https://discovercrewe.co.uk/wp-content/uploads/2026/02/geeky-quiz.jpg
END:VEVENT
BEGIN:VEVENT
DTSTART;TZID=UTC:20300217T140000
DTEND;TZID=UTC:20300217T160000
DTSTAMP:20260419T124411
CREATED:20260209T111455Z
LAST-MODIFIED:20260209T111455Z
UID:10038795-1897567200-1897574400@discovercrewe.co.uk
SUMMARY:Geeky Quiz
DESCRIPTION:Every Sunday afternoon at The Lizards Lair Gaming Co\, they have a geeky quiz from 2pm until 4pm. \nCovering all topics from sci-fi\, games\, comics and fantasy its a trivia quiz fun for all nerds. \nThere will be prizes on offer and it’s completely free to take part. \nFor more information please visit here. \nImage (The Lizards Lair Gaming Co)
URL:https://discovercrewe.co.uk/event/geeky-quiz/2030-02-17/
LOCATION:Lizards Lair\, 22 Victoria Centre\, Crewe\, CW1 2PU\, United Kingdom
CATEGORIES:Lizards Lair,Town Centre
ATTACH;FMTTYPE=image/jpeg:https://discovercrewe.co.uk/wp-content/uploads/2026/02/geeky-quiz.jpg
END:VEVENT
BEGIN:VEVENT
DTSTART;TZID=UTC:20300224T140000
DTEND;TZID=UTC:20300224T160000
DTSTAMP:20260419T124411
CREATED:20260209T111455Z
LAST-MODIFIED:20260209T111455Z
UID:10038796-1898172000-1898179200@discovercrewe.co.uk
SUMMARY:Geeky Quiz
DESCRIPTION:Every Sunday afternoon at The Lizards Lair Gaming Co\, they have a geeky quiz from 2pm until 4pm. \nCovering all topics from sci-fi\, games\, comics and fantasy its a trivia quiz fun for all nerds. \nThere will be prizes on offer and it’s completely free to take part. \nFor more information please visit here. \nImage (The Lizards Lair Gaming Co)
URL:https://discovercrewe.co.uk/event/geeky-quiz/2030-02-24/
LOCATION:Lizards Lair\, 22 Victoria Centre\, Crewe\, CW1 2PU\, United Kingdom
CATEGORIES:Lizards Lair,Town Centre
ATTACH;FMTTYPE=image/jpeg:https://discovercrewe.co.uk/wp-content/uploads/2026/02/geeky-quiz.jpg
END:VEVENT
BEGIN:VEVENT
DTSTART;TZID=UTC:20300303T140000
DTEND;TZID=UTC:20300303T160000
DTSTAMP:20260419T124411
CREATED:20260209T111455Z
LAST-MODIFIED:20260209T111455Z
UID:10038797-1898776800-1898784000@discovercrewe.co.uk
SUMMARY:Geeky Quiz
DESCRIPTION:Every Sunday afternoon at The Lizards Lair Gaming Co\, they have a geeky quiz from 2pm until 4pm. \nCovering all topics from sci-fi\, games\, comics and fantasy its a trivia quiz fun for all nerds. \nThere will be prizes on offer and it’s completely free to take part. \nFor more information please visit here. \nImage (The Lizards Lair Gaming Co)
URL:https://discovercrewe.co.uk/event/geeky-quiz/2030-03-03/
LOCATION:Lizards Lair\, 22 Victoria Centre\, Crewe\, CW1 2PU\, United Kingdom
CATEGORIES:Lizards Lair,Town Centre
ATTACH;FMTTYPE=image/jpeg:https://discovercrewe.co.uk/wp-content/uploads/2026/02/geeky-quiz.jpg
END:VEVENT
BEGIN:VEVENT
DTSTART;TZID=UTC:20300310T140000
DTEND;TZID=UTC:20300310T160000
DTSTAMP:20260419T124411
CREATED:20260209T111455Z
LAST-MODIFIED:20260209T111455Z
UID:10038798-1899381600-1899388800@discovercrewe.co.uk
SUMMARY:Geeky Quiz
DESCRIPTION:Every Sunday afternoon at The Lizards Lair Gaming Co\, they have a geeky quiz from 2pm until 4pm. \nCovering all topics from sci-fi\, games\, comics and fantasy its a trivia quiz fun for all nerds. \nThere will be prizes on offer and it’s completely free to take part. \nFor more information please visit here. \nImage (The Lizards Lair Gaming Co)
URL:https://discovercrewe.co.uk/event/geeky-quiz/2030-03-10/
LOCATION:Lizards Lair\, 22 Victoria Centre\, Crewe\, CW1 2PU\, United Kingdom
CATEGORIES:Lizards Lair,Town Centre
ATTACH;FMTTYPE=image/jpeg:https://discovercrewe.co.uk/wp-content/uploads/2026/02/geeky-quiz.jpg
END:VEVENT
BEGIN:VEVENT
DTSTART;TZID=UTC:20300317T140000
DTEND;TZID=UTC:20300317T160000
DTSTAMP:20260419T124411
CREATED:20260209T111455Z
LAST-MODIFIED:20260209T111455Z
UID:10038799-1899986400-1899993600@discovercrewe.co.uk
SUMMARY:Geeky Quiz
DESCRIPTION:Every Sunday afternoon at The Lizards Lair Gaming Co\, they have a geeky quiz from 2pm until 4pm. \nCovering all topics from sci-fi\, games\, comics and fantasy its a trivia quiz fun for all nerds. \nThere will be prizes on offer and it’s completely free to take part. \nFor more information please visit here. \nImage (The Lizards Lair Gaming Co)
URL:https://discovercrewe.co.uk/event/geeky-quiz/2030-03-17/
LOCATION:Lizards Lair\, 22 Victoria Centre\, Crewe\, CW1 2PU\, United Kingdom
CATEGORIES:Lizards Lair,Town Centre
ATTACH;FMTTYPE=image/jpeg:https://discovercrewe.co.uk/wp-content/uploads/2026/02/geeky-quiz.jpg
END:VEVENT
BEGIN:VEVENT
DTSTART;TZID=UTC:20300324T140000
DTEND;TZID=UTC:20300324T160000
DTSTAMP:20260419T124411
CREATED:20260209T111455Z
LAST-MODIFIED:20260209T111455Z
UID:10038800-1900591200-1900598400@discovercrewe.co.uk
SUMMARY:Geeky Quiz
DESCRIPTION:Every Sunday afternoon at The Lizards Lair Gaming Co\, they have a geeky quiz from 2pm until 4pm. \nCovering all topics from sci-fi\, games\, comics and fantasy its a trivia quiz fun for all nerds. \nThere will be prizes on offer and it’s completely free to take part. \nFor more information please visit here. \nImage (The Lizards Lair Gaming Co)
URL:https://discovercrewe.co.uk/event/geeky-quiz/2030-03-24/
LOCATION:Lizards Lair\, 22 Victoria Centre\, Crewe\, CW1 2PU\, United Kingdom
CATEGORIES:Lizards Lair,Town Centre
ATTACH;FMTTYPE=image/jpeg:https://discovercrewe.co.uk/wp-content/uploads/2026/02/geeky-quiz.jpg
END:VEVENT
BEGIN:VEVENT
DTSTART;TZID=UTC:20300331T140000
DTEND;TZID=UTC:20300331T160000
DTSTAMP:20260419T124411
CREATED:20260209T111455Z
LAST-MODIFIED:20260209T111455Z
UID:10038801-1901196000-1901203200@discovercrewe.co.uk
SUMMARY:Geeky Quiz
DESCRIPTION:Every Sunday afternoon at The Lizards Lair Gaming Co\, they have a geeky quiz from 2pm until 4pm. \nCovering all topics from sci-fi\, games\, comics and fantasy its a trivia quiz fun for all nerds. \nThere will be prizes on offer and it’s completely free to take part. \nFor more information please visit here. \nImage (The Lizards Lair Gaming Co)
URL:https://discovercrewe.co.uk/event/geeky-quiz/2030-03-31/
LOCATION:Lizards Lair\, 22 Victoria Centre\, Crewe\, CW1 2PU\, United Kingdom
CATEGORIES:Lizards Lair,Town Centre
ATTACH;FMTTYPE=image/jpeg:https://discovercrewe.co.uk/wp-content/uploads/2026/02/geeky-quiz.jpg
END:VEVENT
BEGIN:VEVENT
DTSTART;TZID=UTC:20300407T140000
DTEND;TZID=UTC:20300407T160000
DTSTAMP:20260419T124411
CREATED:20260209T111455Z
LAST-MODIFIED:20260209T111455Z
UID:10038802-1901800800-1901808000@discovercrewe.co.uk
SUMMARY:Geeky Quiz
DESCRIPTION:Every Sunday afternoon at The Lizards Lair Gaming Co\, they have a geeky quiz from 2pm until 4pm. \nCovering all topics from sci-fi\, games\, comics and fantasy its a trivia quiz fun for all nerds. \nThere will be prizes on offer and it’s completely free to take part. \nFor more information please visit here. \nImage (The Lizards Lair Gaming Co)
URL:https://discovercrewe.co.uk/event/geeky-quiz/2030-04-07/
LOCATION:Lizards Lair\, 22 Victoria Centre\, Crewe\, CW1 2PU\, United Kingdom
CATEGORIES:Lizards Lair,Town Centre
ATTACH;FMTTYPE=image/jpeg:https://discovercrewe.co.uk/wp-content/uploads/2026/02/geeky-quiz.jpg
END:VEVENT
BEGIN:VEVENT
DTSTART;TZID=UTC:20300414T140000
DTEND;TZID=UTC:20300414T160000
DTSTAMP:20260419T124411
CREATED:20260209T111455Z
LAST-MODIFIED:20260209T111455Z
UID:10038803-1902405600-1902412800@discovercrewe.co.uk
SUMMARY:Geeky Quiz
DESCRIPTION:Every Sunday afternoon at The Lizards Lair Gaming Co\, they have a geeky quiz from 2pm until 4pm. \nCovering all topics from sci-fi\, games\, comics and fantasy its a trivia quiz fun for all nerds. \nThere will be prizes on offer and it’s completely free to take part. \nFor more information please visit here. \nImage (The Lizards Lair Gaming Co)
URL:https://discovercrewe.co.uk/event/geeky-quiz/2030-04-14/
LOCATION:Lizards Lair\, 22 Victoria Centre\, Crewe\, CW1 2PU\, United Kingdom
CATEGORIES:Lizards Lair,Town Centre
ATTACH;FMTTYPE=image/jpeg:https://discovercrewe.co.uk/wp-content/uploads/2026/02/geeky-quiz.jpg
END:VEVENT
BEGIN:VEVENT
DTSTART;TZID=UTC:20300421T140000
DTEND;TZID=UTC:20300421T160000
DTSTAMP:20260419T124411
CREATED:20260209T111455Z
LAST-MODIFIED:20260209T111455Z
UID:10038804-1903010400-1903017600@discovercrewe.co.uk
SUMMARY:Geeky Quiz
DESCRIPTION:Every Sunday afternoon at The Lizards Lair Gaming Co\, they have a geeky quiz from 2pm until 4pm. \nCovering all topics from sci-fi\, games\, comics and fantasy its a trivia quiz fun for all nerds. \nThere will be prizes on offer and it’s completely free to take part. \nFor more information please visit here. \nImage (The Lizards Lair Gaming Co)
URL:https://discovercrewe.co.uk/event/geeky-quiz/2030-04-21/
LOCATION:Lizards Lair\, 22 Victoria Centre\, Crewe\, CW1 2PU\, United Kingdom
CATEGORIES:Lizards Lair,Town Centre
ATTACH;FMTTYPE=image/jpeg:https://discovercrewe.co.uk/wp-content/uploads/2026/02/geeky-quiz.jpg
END:VEVENT
BEGIN:VEVENT
DTSTART;TZID=UTC:20300428T140000
DTEND;TZID=UTC:20300428T160000
DTSTAMP:20260419T124411
CREATED:20260209T111455Z
LAST-MODIFIED:20260209T111455Z
UID:10038805-1903615200-1903622400@discovercrewe.co.uk
SUMMARY:Geeky Quiz
DESCRIPTION:Every Sunday afternoon at The Lizards Lair Gaming Co\, they have a geeky quiz from 2pm until 4pm. \nCovering all topics from sci-fi\, games\, comics and fantasy its a trivia quiz fun for all nerds. \nThere will be prizes on offer and it’s completely free to take part. \nFor more information please visit here. \nImage (The Lizards Lair Gaming Co)
URL:https://discovercrewe.co.uk/event/geeky-quiz/2030-04-28/
LOCATION:Lizards Lair\, 22 Victoria Centre\, Crewe\, CW1 2PU\, United Kingdom
CATEGORIES:Lizards Lair,Town Centre
ATTACH;FMTTYPE=image/jpeg:https://discovercrewe.co.uk/wp-content/uploads/2026/02/geeky-quiz.jpg
END:VEVENT
BEGIN:VEVENT
DTSTART;TZID=UTC:20300505T140000
DTEND;TZID=UTC:20300505T160000
DTSTAMP:20260419T124411
CREATED:20260209T111455Z
LAST-MODIFIED:20260209T111455Z
UID:10038806-1904220000-1904227200@discovercrewe.co.uk
SUMMARY:Geeky Quiz
DESCRIPTION:Every Sunday afternoon at The Lizards Lair Gaming Co\, they have a geeky quiz from 2pm until 4pm. \nCovering all topics from sci-fi\, games\, comics and fantasy its a trivia quiz fun for all nerds. \nThere will be prizes on offer and it’s completely free to take part. \nFor more information please visit here. \nImage (The Lizards Lair Gaming Co)
URL:https://discovercrewe.co.uk/event/geeky-quiz/2030-05-05/
LOCATION:Lizards Lair\, 22 Victoria Centre\, Crewe\, CW1 2PU\, United Kingdom
CATEGORIES:Lizards Lair,Town Centre
ATTACH;FMTTYPE=image/jpeg:https://discovercrewe.co.uk/wp-content/uploads/2026/02/geeky-quiz.jpg
END:VEVENT
BEGIN:VEVENT
DTSTART;TZID=UTC:20300512T140000
DTEND;TZID=UTC:20300512T160000
DTSTAMP:20260419T124411
CREATED:20260209T111455Z
LAST-MODIFIED:20260209T111455Z
UID:10038807-1904824800-1904832000@discovercrewe.co.uk
SUMMARY:Geeky Quiz
DESCRIPTION:Every Sunday afternoon at The Lizards Lair Gaming Co\, they have a geeky quiz from 2pm until 4pm. \nCovering all topics from sci-fi\, games\, comics and fantasy its a trivia quiz fun for all nerds. \nThere will be prizes on offer and it’s completely free to take part. \nFor more information please visit here. \nImage (The Lizards Lair Gaming Co)
URL:https://discovercrewe.co.uk/event/geeky-quiz/2030-05-12/
LOCATION:Lizards Lair\, 22 Victoria Centre\, Crewe\, CW1 2PU\, United Kingdom
CATEGORIES:Lizards Lair,Town Centre
ATTACH;FMTTYPE=image/jpeg:https://discovercrewe.co.uk/wp-content/uploads/2026/02/geeky-quiz.jpg
END:VEVENT
BEGIN:VEVENT
DTSTART;TZID=UTC:20300519T140000
DTEND;TZID=UTC:20300519T160000
DTSTAMP:20260419T124411
CREATED:20260209T111455Z
LAST-MODIFIED:20260209T111455Z
UID:10038808-1905429600-1905436800@discovercrewe.co.uk
SUMMARY:Geeky Quiz
DESCRIPTION:Every Sunday afternoon at The Lizards Lair Gaming Co\, they have a geeky quiz from 2pm until 4pm. \nCovering all topics from sci-fi\, games\, comics and fantasy its a trivia quiz fun for all nerds. \nThere will be prizes on offer and it’s completely free to take part. \nFor more information please visit here. \nImage (The Lizards Lair Gaming Co)
URL:https://discovercrewe.co.uk/event/geeky-quiz/2030-05-19/
LOCATION:Lizards Lair\, 22 Victoria Centre\, Crewe\, CW1 2PU\, United Kingdom
CATEGORIES:Lizards Lair,Town Centre
ATTACH;FMTTYPE=image/jpeg:https://discovercrewe.co.uk/wp-content/uploads/2026/02/geeky-quiz.jpg
END:VEVENT
BEGIN:VEVENT
DTSTART;TZID=UTC:20300526T140000
DTEND;TZID=UTC:20300526T160000
DTSTAMP:20260419T124411
CREATED:20260209T111455Z
LAST-MODIFIED:20260209T111455Z
UID:10038809-1906034400-1906041600@discovercrewe.co.uk
SUMMARY:Geeky Quiz
DESCRIPTION:Every Sunday afternoon at The Lizards Lair Gaming Co\, they have a geeky quiz from 2pm until 4pm. \nCovering all topics from sci-fi\, games\, comics and fantasy its a trivia quiz fun for all nerds. \nThere will be prizes on offer and it’s completely free to take part. \nFor more information please visit here. \nImage (The Lizards Lair Gaming Co)
URL:https://discovercrewe.co.uk/event/geeky-quiz/2030-05-26/
LOCATION:Lizards Lair\, 22 Victoria Centre\, Crewe\, CW1 2PU\, United Kingdom
CATEGORIES:Lizards Lair,Town Centre
ATTACH;FMTTYPE=image/jpeg:https://discovercrewe.co.uk/wp-content/uploads/2026/02/geeky-quiz.jpg
END:VEVENT
BEGIN:VEVENT
DTSTART;TZID=UTC:20300602T140000
DTEND;TZID=UTC:20300602T160000
DTSTAMP:20260419T124411
CREATED:20260209T111455Z
LAST-MODIFIED:20260209T111455Z
UID:10038810-1906639200-1906646400@discovercrewe.co.uk
SUMMARY:Geeky Quiz
DESCRIPTION:Every Sunday afternoon at The Lizards Lair Gaming Co\, they have a geeky quiz from 2pm until 4pm. \nCovering all topics from sci-fi\, games\, comics and fantasy its a trivia quiz fun for all nerds. \nThere will be prizes on offer and it’s completely free to take part. \nFor more information please visit here. \nImage (The Lizards Lair Gaming Co)
URL:https://discovercrewe.co.uk/event/geeky-quiz/2030-06-02/
LOCATION:Lizards Lair\, 22 Victoria Centre\, Crewe\, CW1 2PU\, United Kingdom
CATEGORIES:Lizards Lair,Town Centre
ATTACH;FMTTYPE=image/jpeg:https://discovercrewe.co.uk/wp-content/uploads/2026/02/geeky-quiz.jpg
END:VEVENT
BEGIN:VEVENT
DTSTART;TZID=UTC:20300609T140000
DTEND;TZID=UTC:20300609T160000
DTSTAMP:20260419T124411
CREATED:20260209T111455Z
LAST-MODIFIED:20260209T111455Z
UID:10038811-1907244000-1907251200@discovercrewe.co.uk
SUMMARY:Geeky Quiz
DESCRIPTION:Every Sunday afternoon at The Lizards Lair Gaming Co\, they have a geeky quiz from 2pm until 4pm. \nCovering all topics from sci-fi\, games\, comics and fantasy its a trivia quiz fun for all nerds. \nThere will be prizes on offer and it’s completely free to take part. \nFor more information please visit here. \nImage (The Lizards Lair Gaming Co)
URL:https://discovercrewe.co.uk/event/geeky-quiz/2030-06-09/
LOCATION:Lizards Lair\, 22 Victoria Centre\, Crewe\, CW1 2PU\, United Kingdom
CATEGORIES:Lizards Lair,Town Centre
ATTACH;FMTTYPE=image/jpeg:https://discovercrewe.co.uk/wp-content/uploads/2026/02/geeky-quiz.jpg
END:VEVENT
BEGIN:VEVENT
DTSTART;TZID=UTC:20300616T140000
DTEND;TZID=UTC:20300616T160000
DTSTAMP:20260419T124411
CREATED:20260209T111455Z
LAST-MODIFIED:20260209T111455Z
UID:10038812-1907848800-1907856000@discovercrewe.co.uk
SUMMARY:Geeky Quiz
DESCRIPTION:Every Sunday afternoon at The Lizards Lair Gaming Co\, they have a geeky quiz from 2pm until 4pm. \nCovering all topics from sci-fi\, games\, comics and fantasy its a trivia quiz fun for all nerds. \nThere will be prizes on offer and it’s completely free to take part. \nFor more information please visit here. \nImage (The Lizards Lair Gaming Co)
URL:https://discovercrewe.co.uk/event/geeky-quiz/2030-06-16/
LOCATION:Lizards Lair\, 22 Victoria Centre\, Crewe\, CW1 2PU\, United Kingdom
CATEGORIES:Lizards Lair,Town Centre
ATTACH;FMTTYPE=image/jpeg:https://discovercrewe.co.uk/wp-content/uploads/2026/02/geeky-quiz.jpg
END:VEVENT
BEGIN:VEVENT
DTSTART;TZID=UTC:20300623T140000
DTEND;TZID=UTC:20300623T160000
DTSTAMP:20260419T124411
CREATED:20260209T111455Z
LAST-MODIFIED:20260209T111455Z
UID:10038813-1908453600-1908460800@discovercrewe.co.uk
SUMMARY:Geeky Quiz
DESCRIPTION:Every Sunday afternoon at The Lizards Lair Gaming Co\, they have a geeky quiz from 2pm until 4pm. \nCovering all topics from sci-fi\, games\, comics and fantasy its a trivia quiz fun for all nerds. \nThere will be prizes on offer and it’s completely free to take part. \nFor more information please visit here. \nImage (The Lizards Lair Gaming Co)
URL:https://discovercrewe.co.uk/event/geeky-quiz/2030-06-23/
LOCATION:Lizards Lair\, 22 Victoria Centre\, Crewe\, CW1 2PU\, United Kingdom
CATEGORIES:Lizards Lair,Town Centre
ATTACH;FMTTYPE=image/jpeg:https://discovercrewe.co.uk/wp-content/uploads/2026/02/geeky-quiz.jpg
END:VEVENT
BEGIN:VEVENT
DTSTART;TZID=UTC:20300630T140000
DTEND;TZID=UTC:20300630T160000
DTSTAMP:20260419T124411
CREATED:20260209T111455Z
LAST-MODIFIED:20260209T111455Z
UID:10038814-1909058400-1909065600@discovercrewe.co.uk
SUMMARY:Geeky Quiz
DESCRIPTION:Every Sunday afternoon at The Lizards Lair Gaming Co\, they have a geeky quiz from 2pm until 4pm. \nCovering all topics from sci-fi\, games\, comics and fantasy its a trivia quiz fun for all nerds. \nThere will be prizes on offer and it’s completely free to take part. \nFor more information please visit here. \nImage (The Lizards Lair Gaming Co)
URL:https://discovercrewe.co.uk/event/geeky-quiz/2030-06-30/
LOCATION:Lizards Lair\, 22 Victoria Centre\, Crewe\, CW1 2PU\, United Kingdom
CATEGORIES:Lizards Lair,Town Centre
ATTACH;FMTTYPE=image/jpeg:https://discovercrewe.co.uk/wp-content/uploads/2026/02/geeky-quiz.jpg
END:VEVENT
BEGIN:VEVENT
DTSTART;TZID=UTC:20300707T140000
DTEND;TZID=UTC:20300707T160000
DTSTAMP:20260419T124411
CREATED:20260209T111455Z
LAST-MODIFIED:20260209T111455Z
UID:10038815-1909663200-1909670400@discovercrewe.co.uk
SUMMARY:Geeky Quiz
DESCRIPTION:Every Sunday afternoon at The Lizards Lair Gaming Co\, they have a geeky quiz from 2pm until 4pm. \nCovering all topics from sci-fi\, games\, comics and fantasy its a trivia quiz fun for all nerds. \nThere will be prizes on offer and it’s completely free to take part. \nFor more information please visit here. \nImage (The Lizards Lair Gaming Co)
URL:https://discovercrewe.co.uk/event/geeky-quiz/2030-07-07/
LOCATION:Lizards Lair\, 22 Victoria Centre\, Crewe\, CW1 2PU\, United Kingdom
CATEGORIES:Lizards Lair,Town Centre
ATTACH;FMTTYPE=image/jpeg:https://discovercrewe.co.uk/wp-content/uploads/2026/02/geeky-quiz.jpg
END:VEVENT
BEGIN:VEVENT
DTSTART;TZID=UTC:20300714T140000
DTEND;TZID=UTC:20300714T160000
DTSTAMP:20260419T124411
CREATED:20260209T111455Z
LAST-MODIFIED:20260209T111455Z
UID:10038816-1910268000-1910275200@discovercrewe.co.uk
SUMMARY:Geeky Quiz
DESCRIPTION:Every Sunday afternoon at The Lizards Lair Gaming Co\, they have a geeky quiz from 2pm until 4pm. \nCovering all topics from sci-fi\, games\, comics and fantasy its a trivia quiz fun for all nerds. \nThere will be prizes on offer and it’s completely free to take part. \nFor more information please visit here. \nImage (The Lizards Lair Gaming Co)
URL:https://discovercrewe.co.uk/event/geeky-quiz/2030-07-14/
LOCATION:Lizards Lair\, 22 Victoria Centre\, Crewe\, CW1 2PU\, United Kingdom
CATEGORIES:Lizards Lair,Town Centre
ATTACH;FMTTYPE=image/jpeg:https://discovercrewe.co.uk/wp-content/uploads/2026/02/geeky-quiz.jpg
END:VEVENT
BEGIN:VEVENT
DTSTART;TZID=UTC:20300721T140000
DTEND;TZID=UTC:20300721T160000
DTSTAMP:20260419T124411
CREATED:20260209T111455Z
LAST-MODIFIED:20260209T111455Z
UID:10038817-1910872800-1910880000@discovercrewe.co.uk
SUMMARY:Geeky Quiz
DESCRIPTION:Every Sunday afternoon at The Lizards Lair Gaming Co\, they have a geeky quiz from 2pm until 4pm. \nCovering all topics from sci-fi\, games\, comics and fantasy its a trivia quiz fun for all nerds. \nThere will be prizes on offer and it’s completely free to take part. \nFor more information please visit here. \nImage (The Lizards Lair Gaming Co)
URL:https://discovercrewe.co.uk/event/geeky-quiz/2030-07-21/
LOCATION:Lizards Lair\, 22 Victoria Centre\, Crewe\, CW1 2PU\, United Kingdom
CATEGORIES:Lizards Lair,Town Centre
ATTACH;FMTTYPE=image/jpeg:https://discovercrewe.co.uk/wp-content/uploads/2026/02/geeky-quiz.jpg
END:VEVENT
BEGIN:VEVENT
DTSTART;TZID=UTC:20300728T140000
DTEND;TZID=UTC:20300728T160000
DTSTAMP:20260419T124411
CREATED:20260209T111455Z
LAST-MODIFIED:20260209T111455Z
UID:10038818-1911477600-1911484800@discovercrewe.co.uk
SUMMARY:Geeky Quiz
DESCRIPTION:Every Sunday afternoon at The Lizards Lair Gaming Co\, they have a geeky quiz from 2pm until 4pm. \nCovering all topics from sci-fi\, games\, comics and fantasy its a trivia quiz fun for all nerds. \nThere will be prizes on offer and it’s completely free to take part. \nFor more information please visit here. \nImage (The Lizards Lair Gaming Co)
URL:https://discovercrewe.co.uk/event/geeky-quiz/2030-07-28/
LOCATION:Lizards Lair\, 22 Victoria Centre\, Crewe\, CW1 2PU\, United Kingdom
CATEGORIES:Lizards Lair,Town Centre
ATTACH;FMTTYPE=image/jpeg:https://discovercrewe.co.uk/wp-content/uploads/2026/02/geeky-quiz.jpg
END:VEVENT
BEGIN:VEVENT
DTSTART;TZID=UTC:20300804T140000
DTEND;TZID=UTC:20300804T160000
DTSTAMP:20260419T124411
CREATED:20260209T111455Z
LAST-MODIFIED:20260209T111455Z
UID:10038819-1912082400-1912089600@discovercrewe.co.uk
SUMMARY:Geeky Quiz
DESCRIPTION:Every Sunday afternoon at The Lizards Lair Gaming Co\, they have a geeky quiz from 2pm until 4pm. \nCovering all topics from sci-fi\, games\, comics and fantasy its a trivia quiz fun for all nerds. \nThere will be prizes on offer and it’s completely free to take part. \nFor more information please visit here. \nImage (The Lizards Lair Gaming Co)
URL:https://discovercrewe.co.uk/event/geeky-quiz/2030-08-04/
LOCATION:Lizards Lair\, 22 Victoria Centre\, Crewe\, CW1 2PU\, United Kingdom
CATEGORIES:Lizards Lair,Town Centre
ATTACH;FMTTYPE=image/jpeg:https://discovercrewe.co.uk/wp-content/uploads/2026/02/geeky-quiz.jpg
END:VEVENT
BEGIN:VEVENT
DTSTART;TZID=UTC:20300811T140000
DTEND;TZID=UTC:20300811T160000
DTSTAMP:20260419T124411
CREATED:20260209T111455Z
LAST-MODIFIED:20260209T111455Z
UID:10038820-1912687200-1912694400@discovercrewe.co.uk
SUMMARY:Geeky Quiz
DESCRIPTION:Every Sunday afternoon at The Lizards Lair Gaming Co\, they have a geeky quiz from 2pm until 4pm. \nCovering all topics from sci-fi\, games\, comics and fantasy its a trivia quiz fun for all nerds. \nThere will be prizes on offer and it’s completely free to take part. \nFor more information please visit here. \nImage (The Lizards Lair Gaming Co)
URL:https://discovercrewe.co.uk/event/geeky-quiz/2030-08-11/
LOCATION:Lizards Lair\, 22 Victoria Centre\, Crewe\, CW1 2PU\, United Kingdom
CATEGORIES:Lizards Lair,Town Centre
ATTACH;FMTTYPE=image/jpeg:https://discovercrewe.co.uk/wp-content/uploads/2026/02/geeky-quiz.jpg
END:VEVENT
BEGIN:VEVENT
DTSTART;TZID=UTC:20300818T140000
DTEND;TZID=UTC:20300818T160000
DTSTAMP:20260419T124411
CREATED:20260209T111455Z
LAST-MODIFIED:20260209T111455Z
UID:10038821-1913292000-1913299200@discovercrewe.co.uk
SUMMARY:Geeky Quiz
DESCRIPTION:Every Sunday afternoon at The Lizards Lair Gaming Co\, they have a geeky quiz from 2pm until 4pm. \nCovering all topics from sci-fi\, games\, comics and fantasy its a trivia quiz fun for all nerds. \nThere will be prizes on offer and it’s completely free to take part. \nFor more information please visit here. \nImage (The Lizards Lair Gaming Co)
URL:https://discovercrewe.co.uk/event/geeky-quiz/2030-08-18/
LOCATION:Lizards Lair\, 22 Victoria Centre\, Crewe\, CW1 2PU\, United Kingdom
CATEGORIES:Lizards Lair,Town Centre
ATTACH;FMTTYPE=image/jpeg:https://discovercrewe.co.uk/wp-content/uploads/2026/02/geeky-quiz.jpg
END:VEVENT
BEGIN:VEVENT
DTSTART;TZID=UTC:20300825T140000
DTEND;TZID=UTC:20300825T160000
DTSTAMP:20260419T124412
CREATED:20260209T111455Z
LAST-MODIFIED:20260209T111455Z
UID:10038822-1913896800-1913904000@discovercrewe.co.uk
SUMMARY:Geeky Quiz
DESCRIPTION:Every Sunday afternoon at The Lizards Lair Gaming Co\, they have a geeky quiz from 2pm until 4pm. \nCovering all topics from sci-fi\, games\, comics and fantasy its a trivia quiz fun for all nerds. \nThere will be prizes on offer and it’s completely free to take part. \nFor more information please visit here. \nImage (The Lizards Lair Gaming Co)
URL:https://discovercrewe.co.uk/event/geeky-quiz/2030-08-25/
LOCATION:Lizards Lair\, 22 Victoria Centre\, Crewe\, CW1 2PU\, United Kingdom
CATEGORIES:Lizards Lair,Town Centre
ATTACH;FMTTYPE=image/jpeg:https://discovercrewe.co.uk/wp-content/uploads/2026/02/geeky-quiz.jpg
END:VEVENT
END:VCALENDAR