BEGIN:VCALENDAR
VERSION:2.0
PRODID:-//Discover Crewe - ECPv6.15.15//NONSGML v1.0//EN
CALSCALE:GREGORIAN
METHOD:PUBLISH
X-WR-CALNAME:Discover Crewe
X-ORIGINAL-URL:https://discovercrewe.co.uk
X-WR-CALDESC:Events for Discover Crewe
REFRESH-INTERVAL;VALUE=DURATION:PT1H
X-Robots-Tag:noindex
X-PUBLISHED-TTL:PT1H
BEGIN:VTIMEZONE
TZID:UTC
BEGIN:STANDARD
TZOFFSETFROM:+0000
TZOFFSETTO:+0000
TZNAME:UTC
DTSTART:20280101T000000
END:STANDARD
END:VTIMEZONE
BEGIN:VEVENT
DTSTART;TZID=UTC:20291008T183000
DTEND;TZID=UTC:20291008T193000
DTSTAMP:20260421T134832
CREATED:20260209T105426Z
LAST-MODIFIED:20260209T105426Z
UID:10038255-1886178600-1886182200@discovercrewe.co.uk
SUMMARY:Monday Night Board Games
DESCRIPTION:Join the Lizards Lair Gaming Co on Monday evenings for a chilled board game or two. \nStarting at 6.30pm\, it promises to be casual fun for all to get involved in\, a selection of games will be available in shop. \nFor more information please visit here. \nImage (The Lizards Lair Gaming Co)
URL:https://discovercrewe.co.uk/event/monday-night-board-games/2029-10-08/
LOCATION:Lizards Lair\, 22 Victoria Centre\, Crewe\, CW1 2PU\, United Kingdom
CATEGORIES:Lizards Lair,Town Centre
ATTACH;FMTTYPE=image/jpeg:https://discovercrewe.co.uk/wp-content/uploads/2026/02/Monday-Evening-Board-Games.jpg
END:VEVENT
BEGIN:VEVENT
DTSTART;TZID=UTC:20291015T183000
DTEND;TZID=UTC:20291015T193000
DTSTAMP:20260421T134833
CREATED:20260209T105426Z
LAST-MODIFIED:20260209T105426Z
UID:10038256-1886783400-1886787000@discovercrewe.co.uk
SUMMARY:Monday Night Board Games
DESCRIPTION:Join the Lizards Lair Gaming Co on Monday evenings for a chilled board game or two. \nStarting at 6.30pm\, it promises to be casual fun for all to get involved in\, a selection of games will be available in shop. \nFor more information please visit here. \nImage (The Lizards Lair Gaming Co)
URL:https://discovercrewe.co.uk/event/monday-night-board-games/2029-10-15/
LOCATION:Lizards Lair\, 22 Victoria Centre\, Crewe\, CW1 2PU\, United Kingdom
CATEGORIES:Lizards Lair,Town Centre
ATTACH;FMTTYPE=image/jpeg:https://discovercrewe.co.uk/wp-content/uploads/2026/02/Monday-Evening-Board-Games.jpg
END:VEVENT
BEGIN:VEVENT
DTSTART;TZID=UTC:20291022T183000
DTEND;TZID=UTC:20291022T193000
DTSTAMP:20260421T134833
CREATED:20260209T105426Z
LAST-MODIFIED:20260209T105426Z
UID:10038257-1887388200-1887391800@discovercrewe.co.uk
SUMMARY:Monday Night Board Games
DESCRIPTION:Join the Lizards Lair Gaming Co on Monday evenings for a chilled board game or two. \nStarting at 6.30pm\, it promises to be casual fun for all to get involved in\, a selection of games will be available in shop. \nFor more information please visit here. \nImage (The Lizards Lair Gaming Co)
URL:https://discovercrewe.co.uk/event/monday-night-board-games/2029-10-22/
LOCATION:Lizards Lair\, 22 Victoria Centre\, Crewe\, CW1 2PU\, United Kingdom
CATEGORIES:Lizards Lair,Town Centre
ATTACH;FMTTYPE=image/jpeg:https://discovercrewe.co.uk/wp-content/uploads/2026/02/Monday-Evening-Board-Games.jpg
END:VEVENT
BEGIN:VEVENT
DTSTART;TZID=UTC:20291029T183000
DTEND;TZID=UTC:20291029T193000
DTSTAMP:20260421T134833
CREATED:20260209T105426Z
LAST-MODIFIED:20260209T105426Z
UID:10038258-1887993000-1887996600@discovercrewe.co.uk
SUMMARY:Monday Night Board Games
DESCRIPTION:Join the Lizards Lair Gaming Co on Monday evenings for a chilled board game or two. \nStarting at 6.30pm\, it promises to be casual fun for all to get involved in\, a selection of games will be available in shop. \nFor more information please visit here. \nImage (The Lizards Lair Gaming Co)
URL:https://discovercrewe.co.uk/event/monday-night-board-games/2029-10-29/
LOCATION:Lizards Lair\, 22 Victoria Centre\, Crewe\, CW1 2PU\, United Kingdom
CATEGORIES:Lizards Lair,Town Centre
ATTACH;FMTTYPE=image/jpeg:https://discovercrewe.co.uk/wp-content/uploads/2026/02/Monday-Evening-Board-Games.jpg
END:VEVENT
BEGIN:VEVENT
DTSTART;TZID=UTC:20291105T183000
DTEND;TZID=UTC:20291105T193000
DTSTAMP:20260421T134833
CREATED:20260209T105426Z
LAST-MODIFIED:20260209T105426Z
UID:10038259-1888597800-1888601400@discovercrewe.co.uk
SUMMARY:Monday Night Board Games
DESCRIPTION:Join the Lizards Lair Gaming Co on Monday evenings for a chilled board game or two. \nStarting at 6.30pm\, it promises to be casual fun for all to get involved in\, a selection of games will be available in shop. \nFor more information please visit here. \nImage (The Lizards Lair Gaming Co)
URL:https://discovercrewe.co.uk/event/monday-night-board-games/2029-11-05/
LOCATION:Lizards Lair\, 22 Victoria Centre\, Crewe\, CW1 2PU\, United Kingdom
CATEGORIES:Lizards Lair,Town Centre
ATTACH;FMTTYPE=image/jpeg:https://discovercrewe.co.uk/wp-content/uploads/2026/02/Monday-Evening-Board-Games.jpg
END:VEVENT
BEGIN:VEVENT
DTSTART;TZID=UTC:20291112T183000
DTEND;TZID=UTC:20291112T193000
DTSTAMP:20260421T134833
CREATED:20260209T105426Z
LAST-MODIFIED:20260209T105426Z
UID:10038260-1889202600-1889206200@discovercrewe.co.uk
SUMMARY:Monday Night Board Games
DESCRIPTION:Join the Lizards Lair Gaming Co on Monday evenings for a chilled board game or two. \nStarting at 6.30pm\, it promises to be casual fun for all to get involved in\, a selection of games will be available in shop. \nFor more information please visit here. \nImage (The Lizards Lair Gaming Co)
URL:https://discovercrewe.co.uk/event/monday-night-board-games/2029-11-12/
LOCATION:Lizards Lair\, 22 Victoria Centre\, Crewe\, CW1 2PU\, United Kingdom
CATEGORIES:Lizards Lair,Town Centre
ATTACH;FMTTYPE=image/jpeg:https://discovercrewe.co.uk/wp-content/uploads/2026/02/Monday-Evening-Board-Games.jpg
END:VEVENT
BEGIN:VEVENT
DTSTART;TZID=UTC:20291119T183000
DTEND;TZID=UTC:20291119T193000
DTSTAMP:20260421T134833
CREATED:20260209T105426Z
LAST-MODIFIED:20260209T105426Z
UID:10038261-1889807400-1889811000@discovercrewe.co.uk
SUMMARY:Monday Night Board Games
DESCRIPTION:Join the Lizards Lair Gaming Co on Monday evenings for a chilled board game or two. \nStarting at 6.30pm\, it promises to be casual fun for all to get involved in\, a selection of games will be available in shop. \nFor more information please visit here. \nImage (The Lizards Lair Gaming Co)
URL:https://discovercrewe.co.uk/event/monday-night-board-games/2029-11-19/
LOCATION:Lizards Lair\, 22 Victoria Centre\, Crewe\, CW1 2PU\, United Kingdom
CATEGORIES:Lizards Lair,Town Centre
ATTACH;FMTTYPE=image/jpeg:https://discovercrewe.co.uk/wp-content/uploads/2026/02/Monday-Evening-Board-Games.jpg
END:VEVENT
BEGIN:VEVENT
DTSTART;TZID=UTC:20291126T183000
DTEND;TZID=UTC:20291126T193000
DTSTAMP:20260421T134833
CREATED:20260209T105426Z
LAST-MODIFIED:20260209T105426Z
UID:10038262-1890412200-1890415800@discovercrewe.co.uk
SUMMARY:Monday Night Board Games
DESCRIPTION:Join the Lizards Lair Gaming Co on Monday evenings for a chilled board game or two. \nStarting at 6.30pm\, it promises to be casual fun for all to get involved in\, a selection of games will be available in shop. \nFor more information please visit here. \nImage (The Lizards Lair Gaming Co)
URL:https://discovercrewe.co.uk/event/monday-night-board-games/2029-11-26/
LOCATION:Lizards Lair\, 22 Victoria Centre\, Crewe\, CW1 2PU\, United Kingdom
CATEGORIES:Lizards Lair,Town Centre
ATTACH;FMTTYPE=image/jpeg:https://discovercrewe.co.uk/wp-content/uploads/2026/02/Monday-Evening-Board-Games.jpg
END:VEVENT
BEGIN:VEVENT
DTSTART;TZID=UTC:20291203T183000
DTEND;TZID=UTC:20291203T193000
DTSTAMP:20260421T134833
CREATED:20260209T105426Z
LAST-MODIFIED:20260209T105426Z
UID:10038263-1891017000-1891020600@discovercrewe.co.uk
SUMMARY:Monday Night Board Games
DESCRIPTION:Join the Lizards Lair Gaming Co on Monday evenings for a chilled board game or two. \nStarting at 6.30pm\, it promises to be casual fun for all to get involved in\, a selection of games will be available in shop. \nFor more information please visit here. \nImage (The Lizards Lair Gaming Co)
URL:https://discovercrewe.co.uk/event/monday-night-board-games/2029-12-03/
LOCATION:Lizards Lair\, 22 Victoria Centre\, Crewe\, CW1 2PU\, United Kingdom
CATEGORIES:Lizards Lair,Town Centre
ATTACH;FMTTYPE=image/jpeg:https://discovercrewe.co.uk/wp-content/uploads/2026/02/Monday-Evening-Board-Games.jpg
END:VEVENT
BEGIN:VEVENT
DTSTART;TZID=UTC:20291210T183000
DTEND;TZID=UTC:20291210T193000
DTSTAMP:20260421T134833
CREATED:20260209T105426Z
LAST-MODIFIED:20260209T105426Z
UID:10038264-1891621800-1891625400@discovercrewe.co.uk
SUMMARY:Monday Night Board Games
DESCRIPTION:Join the Lizards Lair Gaming Co on Monday evenings for a chilled board game or two. \nStarting at 6.30pm\, it promises to be casual fun for all to get involved in\, a selection of games will be available in shop. \nFor more information please visit here. \nImage (The Lizards Lair Gaming Co)
URL:https://discovercrewe.co.uk/event/monday-night-board-games/2029-12-10/
LOCATION:Lizards Lair\, 22 Victoria Centre\, Crewe\, CW1 2PU\, United Kingdom
CATEGORIES:Lizards Lair,Town Centre
ATTACH;FMTTYPE=image/jpeg:https://discovercrewe.co.uk/wp-content/uploads/2026/02/Monday-Evening-Board-Games.jpg
END:VEVENT
BEGIN:VEVENT
DTSTART;TZID=UTC:20291217T183000
DTEND;TZID=UTC:20291217T193000
DTSTAMP:20260421T134833
CREATED:20260209T105426Z
LAST-MODIFIED:20260209T105426Z
UID:10038265-1892226600-1892230200@discovercrewe.co.uk
SUMMARY:Monday Night Board Games
DESCRIPTION:Join the Lizards Lair Gaming Co on Monday evenings for a chilled board game or two. \nStarting at 6.30pm\, it promises to be casual fun for all to get involved in\, a selection of games will be available in shop. \nFor more information please visit here. \nImage (The Lizards Lair Gaming Co)
URL:https://discovercrewe.co.uk/event/monday-night-board-games/2029-12-17/
LOCATION:Lizards Lair\, 22 Victoria Centre\, Crewe\, CW1 2PU\, United Kingdom
CATEGORIES:Lizards Lair,Town Centre
ATTACH;FMTTYPE=image/jpeg:https://discovercrewe.co.uk/wp-content/uploads/2026/02/Monday-Evening-Board-Games.jpg
END:VEVENT
BEGIN:VEVENT
DTSTART;TZID=UTC:20291224T183000
DTEND;TZID=UTC:20291224T193000
DTSTAMP:20260421T134833
CREATED:20260209T105426Z
LAST-MODIFIED:20260209T105426Z
UID:10038266-1892831400-1892835000@discovercrewe.co.uk
SUMMARY:Monday Night Board Games
DESCRIPTION:Join the Lizards Lair Gaming Co on Monday evenings for a chilled board game or two. \nStarting at 6.30pm\, it promises to be casual fun for all to get involved in\, a selection of games will be available in shop. \nFor more information please visit here. \nImage (The Lizards Lair Gaming Co)
URL:https://discovercrewe.co.uk/event/monday-night-board-games/2029-12-24/
LOCATION:Lizards Lair\, 22 Victoria Centre\, Crewe\, CW1 2PU\, United Kingdom
CATEGORIES:Lizards Lair,Town Centre
ATTACH;FMTTYPE=image/jpeg:https://discovercrewe.co.uk/wp-content/uploads/2026/02/Monday-Evening-Board-Games.jpg
END:VEVENT
BEGIN:VEVENT
DTSTART;TZID=UTC:20291231T183000
DTEND;TZID=UTC:20291231T193000
DTSTAMP:20260421T134833
CREATED:20260209T105426Z
LAST-MODIFIED:20260209T105426Z
UID:10038267-1893436200-1893439800@discovercrewe.co.uk
SUMMARY:Monday Night Board Games
DESCRIPTION:Join the Lizards Lair Gaming Co on Monday evenings for a chilled board game or two. \nStarting at 6.30pm\, it promises to be casual fun for all to get involved in\, a selection of games will be available in shop. \nFor more information please visit here. \nImage (The Lizards Lair Gaming Co)
URL:https://discovercrewe.co.uk/event/monday-night-board-games/2029-12-31/
LOCATION:Lizards Lair\, 22 Victoria Centre\, Crewe\, CW1 2PU\, United Kingdom
CATEGORIES:Lizards Lair,Town Centre
ATTACH;FMTTYPE=image/jpeg:https://discovercrewe.co.uk/wp-content/uploads/2026/02/Monday-Evening-Board-Games.jpg
END:VEVENT
BEGIN:VEVENT
DTSTART;TZID=UTC:20300107T183000
DTEND;TZID=UTC:20300107T193000
DTSTAMP:20260421T134833
CREATED:20260209T105426Z
LAST-MODIFIED:20260209T105426Z
UID:10038268-1894041000-1894044600@discovercrewe.co.uk
SUMMARY:Monday Night Board Games
DESCRIPTION:Join the Lizards Lair Gaming Co on Monday evenings for a chilled board game or two. \nStarting at 6.30pm\, it promises to be casual fun for all to get involved in\, a selection of games will be available in shop. \nFor more information please visit here. \nImage (The Lizards Lair Gaming Co)
URL:https://discovercrewe.co.uk/event/monday-night-board-games/2030-01-07/
LOCATION:Lizards Lair\, 22 Victoria Centre\, Crewe\, CW1 2PU\, United Kingdom
CATEGORIES:Lizards Lair,Town Centre
ATTACH;FMTTYPE=image/jpeg:https://discovercrewe.co.uk/wp-content/uploads/2026/02/Monday-Evening-Board-Games.jpg
END:VEVENT
BEGIN:VEVENT
DTSTART;TZID=UTC:20300114T183000
DTEND;TZID=UTC:20300114T193000
DTSTAMP:20260421T134833
CREATED:20260209T105426Z
LAST-MODIFIED:20260209T105426Z
UID:10038269-1894645800-1894649400@discovercrewe.co.uk
SUMMARY:Monday Night Board Games
DESCRIPTION:Join the Lizards Lair Gaming Co on Monday evenings for a chilled board game or two. \nStarting at 6.30pm\, it promises to be casual fun for all to get involved in\, a selection of games will be available in shop. \nFor more information please visit here. \nImage (The Lizards Lair Gaming Co)
URL:https://discovercrewe.co.uk/event/monday-night-board-games/2030-01-14/
LOCATION:Lizards Lair\, 22 Victoria Centre\, Crewe\, CW1 2PU\, United Kingdom
CATEGORIES:Lizards Lair,Town Centre
ATTACH;FMTTYPE=image/jpeg:https://discovercrewe.co.uk/wp-content/uploads/2026/02/Monday-Evening-Board-Games.jpg
END:VEVENT
BEGIN:VEVENT
DTSTART;TZID=UTC:20300121T183000
DTEND;TZID=UTC:20300121T193000
DTSTAMP:20260421T134833
CREATED:20260209T105426Z
LAST-MODIFIED:20260209T105426Z
UID:10038270-1895250600-1895254200@discovercrewe.co.uk
SUMMARY:Monday Night Board Games
DESCRIPTION:Join the Lizards Lair Gaming Co on Monday evenings for a chilled board game or two. \nStarting at 6.30pm\, it promises to be casual fun for all to get involved in\, a selection of games will be available in shop. \nFor more information please visit here. \nImage (The Lizards Lair Gaming Co)
URL:https://discovercrewe.co.uk/event/monday-night-board-games/2030-01-21/
LOCATION:Lizards Lair\, 22 Victoria Centre\, Crewe\, CW1 2PU\, United Kingdom
CATEGORIES:Lizards Lair,Town Centre
ATTACH;FMTTYPE=image/jpeg:https://discovercrewe.co.uk/wp-content/uploads/2026/02/Monday-Evening-Board-Games.jpg
END:VEVENT
BEGIN:VEVENT
DTSTART;TZID=UTC:20300128T183000
DTEND;TZID=UTC:20300128T193000
DTSTAMP:20260421T134833
CREATED:20260209T105426Z
LAST-MODIFIED:20260209T105426Z
UID:10038271-1895855400-1895859000@discovercrewe.co.uk
SUMMARY:Monday Night Board Games
DESCRIPTION:Join the Lizards Lair Gaming Co on Monday evenings for a chilled board game or two. \nStarting at 6.30pm\, it promises to be casual fun for all to get involved in\, a selection of games will be available in shop. \nFor more information please visit here. \nImage (The Lizards Lair Gaming Co)
URL:https://discovercrewe.co.uk/event/monday-night-board-games/2030-01-28/
LOCATION:Lizards Lair\, 22 Victoria Centre\, Crewe\, CW1 2PU\, United Kingdom
CATEGORIES:Lizards Lair,Town Centre
ATTACH;FMTTYPE=image/jpeg:https://discovercrewe.co.uk/wp-content/uploads/2026/02/Monday-Evening-Board-Games.jpg
END:VEVENT
BEGIN:VEVENT
DTSTART;TZID=UTC:20300204T183000
DTEND;TZID=UTC:20300204T193000
DTSTAMP:20260421T134833
CREATED:20260209T105426Z
LAST-MODIFIED:20260209T105426Z
UID:10038272-1896460200-1896463800@discovercrewe.co.uk
SUMMARY:Monday Night Board Games
DESCRIPTION:Join the Lizards Lair Gaming Co on Monday evenings for a chilled board game or two. \nStarting at 6.30pm\, it promises to be casual fun for all to get involved in\, a selection of games will be available in shop. \nFor more information please visit here. \nImage (The Lizards Lair Gaming Co)
URL:https://discovercrewe.co.uk/event/monday-night-board-games/2030-02-04/
LOCATION:Lizards Lair\, 22 Victoria Centre\, Crewe\, CW1 2PU\, United Kingdom
CATEGORIES:Lizards Lair,Town Centre
ATTACH;FMTTYPE=image/jpeg:https://discovercrewe.co.uk/wp-content/uploads/2026/02/Monday-Evening-Board-Games.jpg
END:VEVENT
BEGIN:VEVENT
DTSTART;TZID=UTC:20300211T183000
DTEND;TZID=UTC:20300211T193000
DTSTAMP:20260421T134833
CREATED:20260209T105426Z
LAST-MODIFIED:20260209T105426Z
UID:10038273-1897065000-1897068600@discovercrewe.co.uk
SUMMARY:Monday Night Board Games
DESCRIPTION:Join the Lizards Lair Gaming Co on Monday evenings for a chilled board game or two. \nStarting at 6.30pm\, it promises to be casual fun for all to get involved in\, a selection of games will be available in shop. \nFor more information please visit here. \nImage (The Lizards Lair Gaming Co)
URL:https://discovercrewe.co.uk/event/monday-night-board-games/2030-02-11/
LOCATION:Lizards Lair\, 22 Victoria Centre\, Crewe\, CW1 2PU\, United Kingdom
CATEGORIES:Lizards Lair,Town Centre
ATTACH;FMTTYPE=image/jpeg:https://discovercrewe.co.uk/wp-content/uploads/2026/02/Monday-Evening-Board-Games.jpg
END:VEVENT
BEGIN:VEVENT
DTSTART;TZID=UTC:20300218T183000
DTEND;TZID=UTC:20300218T193000
DTSTAMP:20260421T134833
CREATED:20260209T105426Z
LAST-MODIFIED:20260209T105426Z
UID:10038274-1897669800-1897673400@discovercrewe.co.uk
SUMMARY:Monday Night Board Games
DESCRIPTION:Join the Lizards Lair Gaming Co on Monday evenings for a chilled board game or two. \nStarting at 6.30pm\, it promises to be casual fun for all to get involved in\, a selection of games will be available in shop. \nFor more information please visit here. \nImage (The Lizards Lair Gaming Co)
URL:https://discovercrewe.co.uk/event/monday-night-board-games/2030-02-18/
LOCATION:Lizards Lair\, 22 Victoria Centre\, Crewe\, CW1 2PU\, United Kingdom
CATEGORIES:Lizards Lair,Town Centre
ATTACH;FMTTYPE=image/jpeg:https://discovercrewe.co.uk/wp-content/uploads/2026/02/Monday-Evening-Board-Games.jpg
END:VEVENT
BEGIN:VEVENT
DTSTART;TZID=UTC:20300225T183000
DTEND;TZID=UTC:20300225T193000
DTSTAMP:20260421T134833
CREATED:20260209T105426Z
LAST-MODIFIED:20260209T105426Z
UID:10038275-1898274600-1898278200@discovercrewe.co.uk
SUMMARY:Monday Night Board Games
DESCRIPTION:Join the Lizards Lair Gaming Co on Monday evenings for a chilled board game or two. \nStarting at 6.30pm\, it promises to be casual fun for all to get involved in\, a selection of games will be available in shop. \nFor more information please visit here. \nImage (The Lizards Lair Gaming Co)
URL:https://discovercrewe.co.uk/event/monday-night-board-games/2030-02-25/
LOCATION:Lizards Lair\, 22 Victoria Centre\, Crewe\, CW1 2PU\, United Kingdom
CATEGORIES:Lizards Lair,Town Centre
ATTACH;FMTTYPE=image/jpeg:https://discovercrewe.co.uk/wp-content/uploads/2026/02/Monday-Evening-Board-Games.jpg
END:VEVENT
BEGIN:VEVENT
DTSTART;TZID=UTC:20300304T183000
DTEND;TZID=UTC:20300304T193000
DTSTAMP:20260421T134833
CREATED:20260209T105426Z
LAST-MODIFIED:20260209T105426Z
UID:10038276-1898879400-1898883000@discovercrewe.co.uk
SUMMARY:Monday Night Board Games
DESCRIPTION:Join the Lizards Lair Gaming Co on Monday evenings for a chilled board game or two. \nStarting at 6.30pm\, it promises to be casual fun for all to get involved in\, a selection of games will be available in shop. \nFor more information please visit here. \nImage (The Lizards Lair Gaming Co)
URL:https://discovercrewe.co.uk/event/monday-night-board-games/2030-03-04/
LOCATION:Lizards Lair\, 22 Victoria Centre\, Crewe\, CW1 2PU\, United Kingdom
CATEGORIES:Lizards Lair,Town Centre
ATTACH;FMTTYPE=image/jpeg:https://discovercrewe.co.uk/wp-content/uploads/2026/02/Monday-Evening-Board-Games.jpg
END:VEVENT
BEGIN:VEVENT
DTSTART;TZID=UTC:20300311T183000
DTEND;TZID=UTC:20300311T193000
DTSTAMP:20260421T134833
CREATED:20260209T105426Z
LAST-MODIFIED:20260209T105426Z
UID:10038277-1899484200-1899487800@discovercrewe.co.uk
SUMMARY:Monday Night Board Games
DESCRIPTION:Join the Lizards Lair Gaming Co on Monday evenings for a chilled board game or two. \nStarting at 6.30pm\, it promises to be casual fun for all to get involved in\, a selection of games will be available in shop. \nFor more information please visit here. \nImage (The Lizards Lair Gaming Co)
URL:https://discovercrewe.co.uk/event/monday-night-board-games/2030-03-11/
LOCATION:Lizards Lair\, 22 Victoria Centre\, Crewe\, CW1 2PU\, United Kingdom
CATEGORIES:Lizards Lair,Town Centre
ATTACH;FMTTYPE=image/jpeg:https://discovercrewe.co.uk/wp-content/uploads/2026/02/Monday-Evening-Board-Games.jpg
END:VEVENT
BEGIN:VEVENT
DTSTART;TZID=UTC:20300318T183000
DTEND;TZID=UTC:20300318T193000
DTSTAMP:20260421T134833
CREATED:20260209T105426Z
LAST-MODIFIED:20260209T105426Z
UID:10038278-1900089000-1900092600@discovercrewe.co.uk
SUMMARY:Monday Night Board Games
DESCRIPTION:Join the Lizards Lair Gaming Co on Monday evenings for a chilled board game or two. \nStarting at 6.30pm\, it promises to be casual fun for all to get involved in\, a selection of games will be available in shop. \nFor more information please visit here. \nImage (The Lizards Lair Gaming Co)
URL:https://discovercrewe.co.uk/event/monday-night-board-games/2030-03-18/
LOCATION:Lizards Lair\, 22 Victoria Centre\, Crewe\, CW1 2PU\, United Kingdom
CATEGORIES:Lizards Lair,Town Centre
ATTACH;FMTTYPE=image/jpeg:https://discovercrewe.co.uk/wp-content/uploads/2026/02/Monday-Evening-Board-Games.jpg
END:VEVENT
BEGIN:VEVENT
DTSTART;TZID=UTC:20300325T183000
DTEND;TZID=UTC:20300325T193000
DTSTAMP:20260421T134833
CREATED:20260209T105426Z
LAST-MODIFIED:20260209T105426Z
UID:10038279-1900693800-1900697400@discovercrewe.co.uk
SUMMARY:Monday Night Board Games
DESCRIPTION:Join the Lizards Lair Gaming Co on Monday evenings for a chilled board game or two. \nStarting at 6.30pm\, it promises to be casual fun for all to get involved in\, a selection of games will be available in shop. \nFor more information please visit here. \nImage (The Lizards Lair Gaming Co)
URL:https://discovercrewe.co.uk/event/monday-night-board-games/2030-03-25/
LOCATION:Lizards Lair\, 22 Victoria Centre\, Crewe\, CW1 2PU\, United Kingdom
CATEGORIES:Lizards Lair,Town Centre
ATTACH;FMTTYPE=image/jpeg:https://discovercrewe.co.uk/wp-content/uploads/2026/02/Monday-Evening-Board-Games.jpg
END:VEVENT
BEGIN:VEVENT
DTSTART;TZID=UTC:20300401T183000
DTEND;TZID=UTC:20300401T193000
DTSTAMP:20260421T134833
CREATED:20260209T105426Z
LAST-MODIFIED:20260209T105426Z
UID:10038280-1901298600-1901302200@discovercrewe.co.uk
SUMMARY:Monday Night Board Games
DESCRIPTION:Join the Lizards Lair Gaming Co on Monday evenings for a chilled board game or two. \nStarting at 6.30pm\, it promises to be casual fun for all to get involved in\, a selection of games will be available in shop. \nFor more information please visit here. \nImage (The Lizards Lair Gaming Co)
URL:https://discovercrewe.co.uk/event/monday-night-board-games/2030-04-01/
LOCATION:Lizards Lair\, 22 Victoria Centre\, Crewe\, CW1 2PU\, United Kingdom
CATEGORIES:Lizards Lair,Town Centre
ATTACH;FMTTYPE=image/jpeg:https://discovercrewe.co.uk/wp-content/uploads/2026/02/Monday-Evening-Board-Games.jpg
END:VEVENT
BEGIN:VEVENT
DTSTART;TZID=UTC:20300408T183000
DTEND;TZID=UTC:20300408T193000
DTSTAMP:20260421T134833
CREATED:20260209T105426Z
LAST-MODIFIED:20260209T105426Z
UID:10038281-1901903400-1901907000@discovercrewe.co.uk
SUMMARY:Monday Night Board Games
DESCRIPTION:Join the Lizards Lair Gaming Co on Monday evenings for a chilled board game or two. \nStarting at 6.30pm\, it promises to be casual fun for all to get involved in\, a selection of games will be available in shop. \nFor more information please visit here. \nImage (The Lizards Lair Gaming Co)
URL:https://discovercrewe.co.uk/event/monday-night-board-games/2030-04-08/
LOCATION:Lizards Lair\, 22 Victoria Centre\, Crewe\, CW1 2PU\, United Kingdom
CATEGORIES:Lizards Lair,Town Centre
ATTACH;FMTTYPE=image/jpeg:https://discovercrewe.co.uk/wp-content/uploads/2026/02/Monday-Evening-Board-Games.jpg
END:VEVENT
BEGIN:VEVENT
DTSTART;TZID=UTC:20300415T183000
DTEND;TZID=UTC:20300415T193000
DTSTAMP:20260421T134833
CREATED:20260209T105426Z
LAST-MODIFIED:20260209T105426Z
UID:10038282-1902508200-1902511800@discovercrewe.co.uk
SUMMARY:Monday Night Board Games
DESCRIPTION:Join the Lizards Lair Gaming Co on Monday evenings for a chilled board game or two. \nStarting at 6.30pm\, it promises to be casual fun for all to get involved in\, a selection of games will be available in shop. \nFor more information please visit here. \nImage (The Lizards Lair Gaming Co)
URL:https://discovercrewe.co.uk/event/monday-night-board-games/2030-04-15/
LOCATION:Lizards Lair\, 22 Victoria Centre\, Crewe\, CW1 2PU\, United Kingdom
CATEGORIES:Lizards Lair,Town Centre
ATTACH;FMTTYPE=image/jpeg:https://discovercrewe.co.uk/wp-content/uploads/2026/02/Monday-Evening-Board-Games.jpg
END:VEVENT
BEGIN:VEVENT
DTSTART;TZID=UTC:20300422T183000
DTEND;TZID=UTC:20300422T193000
DTSTAMP:20260421T134833
CREATED:20260209T105426Z
LAST-MODIFIED:20260209T105426Z
UID:10038283-1903113000-1903116600@discovercrewe.co.uk
SUMMARY:Monday Night Board Games
DESCRIPTION:Join the Lizards Lair Gaming Co on Monday evenings for a chilled board game or two. \nStarting at 6.30pm\, it promises to be casual fun for all to get involved in\, a selection of games will be available in shop. \nFor more information please visit here. \nImage (The Lizards Lair Gaming Co)
URL:https://discovercrewe.co.uk/event/monday-night-board-games/2030-04-22/
LOCATION:Lizards Lair\, 22 Victoria Centre\, Crewe\, CW1 2PU\, United Kingdom
CATEGORIES:Lizards Lair,Town Centre
ATTACH;FMTTYPE=image/jpeg:https://discovercrewe.co.uk/wp-content/uploads/2026/02/Monday-Evening-Board-Games.jpg
END:VEVENT
BEGIN:VEVENT
DTSTART;TZID=UTC:20300429T183000
DTEND;TZID=UTC:20300429T193000
DTSTAMP:20260421T134833
CREATED:20260209T105426Z
LAST-MODIFIED:20260209T105426Z
UID:10038284-1903717800-1903721400@discovercrewe.co.uk
SUMMARY:Monday Night Board Games
DESCRIPTION:Join the Lizards Lair Gaming Co on Monday evenings for a chilled board game or two. \nStarting at 6.30pm\, it promises to be casual fun for all to get involved in\, a selection of games will be available in shop. \nFor more information please visit here. \nImage (The Lizards Lair Gaming Co)
URL:https://discovercrewe.co.uk/event/monday-night-board-games/2030-04-29/
LOCATION:Lizards Lair\, 22 Victoria Centre\, Crewe\, CW1 2PU\, United Kingdom
CATEGORIES:Lizards Lair,Town Centre
ATTACH;FMTTYPE=image/jpeg:https://discovercrewe.co.uk/wp-content/uploads/2026/02/Monday-Evening-Board-Games.jpg
END:VEVENT
END:VCALENDAR