BEGIN:VCALENDAR
VERSION:2.0
PRODID:-//Discover Crewe - ECPv6.15.15//NONSGML v1.0//EN
CALSCALE:GREGORIAN
METHOD:PUBLISH
X-ORIGINAL-URL:https://discovercrewe.co.uk
X-WR-CALDESC:Events for Discover Crewe
REFRESH-INTERVAL;VALUE=DURATION:PT1H
X-Robots-Tag:noindex
X-PUBLISHED-TTL:PT1H
BEGIN:VTIMEZONE
TZID:UTC
BEGIN:STANDARD
TZOFFSETFROM:+0000
TZOFFSETTO:+0000
TZNAME:UTC
DTSTART:20250101T000000
END:STANDARD
END:VTIMEZONE
BEGIN:VEVENT
DTSTART;TZID=UTC:20260629T100000
DTEND;TZID=UTC:20260629T103000
DTSTAMP:20260424T004441
CREATED:20250721T154153Z
LAST-MODIFIED:20250721T154153Z
UID:10024086-1782727200-1782729000@discovercrewe.co.uk
SUMMARY:Stories and Songs
DESCRIPTION:A Monday Funday Interactive session. \nFrom 10am – 10.30am every Monday at Crewe Library\, there are sessions of stories\, singing\, movement\, games and activities. \nThey are free of charge and drop-in for under 5’s who must be accompanied by an adult. \nImage (Crewe Town Council)
URL:https://discovercrewe.co.uk/event/stories-and-songs/2026-06-29/
LOCATION:Crewe Library\, Lifestyle Centre\, Moss Square\, Crewe\, CW1 2BB
CATEGORIES:Events,Family Attractions,Town Centre
ATTACH;FMTTYPE=image/jpeg:https://discovercrewe.co.uk/wp-content/uploads/2025/07/Crewe-Library-storytime-e1753112480754.jpg
END:VEVENT
BEGIN:VEVENT
DTSTART;TZID=UTC:20260706T100000
DTEND;TZID=UTC:20260706T103000
DTSTAMP:20260424T004441
CREATED:20250721T154153Z
LAST-MODIFIED:20250721T154153Z
UID:10024087-1783332000-1783333800@discovercrewe.co.uk
SUMMARY:Stories and Songs
DESCRIPTION:A Monday Funday Interactive session. \nFrom 10am – 10.30am every Monday at Crewe Library\, there are sessions of stories\, singing\, movement\, games and activities. \nThey are free of charge and drop-in for under 5’s who must be accompanied by an adult. \nImage (Crewe Town Council)
URL:https://discovercrewe.co.uk/event/stories-and-songs/2026-07-06/
LOCATION:Crewe Library\, Lifestyle Centre\, Moss Square\, Crewe\, CW1 2BB
CATEGORIES:Events,Family Attractions,Town Centre
ATTACH;FMTTYPE=image/jpeg:https://discovercrewe.co.uk/wp-content/uploads/2025/07/Crewe-Library-storytime-e1753112480754.jpg
END:VEVENT
BEGIN:VEVENT
DTSTART;TZID=UTC:20260713T100000
DTEND;TZID=UTC:20260713T103000
DTSTAMP:20260424T004441
CREATED:20250721T154153Z
LAST-MODIFIED:20250721T154153Z
UID:10024088-1783936800-1783938600@discovercrewe.co.uk
SUMMARY:Stories and Songs
DESCRIPTION:A Monday Funday Interactive session. \nFrom 10am – 10.30am every Monday at Crewe Library\, there are sessions of stories\, singing\, movement\, games and activities. \nThey are free of charge and drop-in for under 5’s who must be accompanied by an adult. \nImage (Crewe Town Council)
URL:https://discovercrewe.co.uk/event/stories-and-songs/2026-07-13/
LOCATION:Crewe Library\, Lifestyle Centre\, Moss Square\, Crewe\, CW1 2BB
CATEGORIES:Events,Family Attractions,Town Centre
ATTACH;FMTTYPE=image/jpeg:https://discovercrewe.co.uk/wp-content/uploads/2025/07/Crewe-Library-storytime-e1753112480754.jpg
END:VEVENT
BEGIN:VEVENT
DTSTART;TZID=UTC:20260720T100000
DTEND;TZID=UTC:20260720T103000
DTSTAMP:20260424T004441
CREATED:20250721T154153Z
LAST-MODIFIED:20250721T154153Z
UID:10024089-1784541600-1784543400@discovercrewe.co.uk
SUMMARY:Stories and Songs
DESCRIPTION:A Monday Funday Interactive session. \nFrom 10am – 10.30am every Monday at Crewe Library\, there are sessions of stories\, singing\, movement\, games and activities. \nThey are free of charge and drop-in for under 5’s who must be accompanied by an adult. \nImage (Crewe Town Council)
URL:https://discovercrewe.co.uk/event/stories-and-songs/2026-07-20/
LOCATION:Crewe Library\, Lifestyle Centre\, Moss Square\, Crewe\, CW1 2BB
CATEGORIES:Events,Family Attractions,Town Centre
ATTACH;FMTTYPE=image/jpeg:https://discovercrewe.co.uk/wp-content/uploads/2025/07/Crewe-Library-storytime-e1753112480754.jpg
END:VEVENT
BEGIN:VEVENT
DTSTART;TZID=UTC:20260727T100000
DTEND;TZID=UTC:20260727T103000
DTSTAMP:20260424T004441
CREATED:20250721T154153Z
LAST-MODIFIED:20250721T154153Z
UID:10024090-1785146400-1785148200@discovercrewe.co.uk
SUMMARY:Stories and Songs
DESCRIPTION:A Monday Funday Interactive session. \nFrom 10am – 10.30am every Monday at Crewe Library\, there are sessions of stories\, singing\, movement\, games and activities. \nThey are free of charge and drop-in for under 5’s who must be accompanied by an adult. \nImage (Crewe Town Council)
URL:https://discovercrewe.co.uk/event/stories-and-songs/2026-07-27/
LOCATION:Crewe Library\, Lifestyle Centre\, Moss Square\, Crewe\, CW1 2BB
CATEGORIES:Events,Family Attractions,Town Centre
ATTACH;FMTTYPE=image/jpeg:https://discovercrewe.co.uk/wp-content/uploads/2025/07/Crewe-Library-storytime-e1753112480754.jpg
END:VEVENT
BEGIN:VEVENT
DTSTART;TZID=UTC:20260803T100000
DTEND;TZID=UTC:20260803T103000
DTSTAMP:20260424T004441
CREATED:20250721T154153Z
LAST-MODIFIED:20250721T154153Z
UID:10024091-1785751200-1785753000@discovercrewe.co.uk
SUMMARY:Stories and Songs
DESCRIPTION:A Monday Funday Interactive session. \nFrom 10am – 10.30am every Monday at Crewe Library\, there are sessions of stories\, singing\, movement\, games and activities. \nThey are free of charge and drop-in for under 5’s who must be accompanied by an adult. \nImage (Crewe Town Council)
URL:https://discovercrewe.co.uk/event/stories-and-songs/2026-08-03/
LOCATION:Crewe Library\, Lifestyle Centre\, Moss Square\, Crewe\, CW1 2BB
CATEGORIES:Events,Family Attractions,Town Centre
ATTACH;FMTTYPE=image/jpeg:https://discovercrewe.co.uk/wp-content/uploads/2025/07/Crewe-Library-storytime-e1753112480754.jpg
END:VEVENT
BEGIN:VEVENT
DTSTART;TZID=UTC:20260810T100000
DTEND;TZID=UTC:20260810T103000
DTSTAMP:20260424T004441
CREATED:20250721T154153Z
LAST-MODIFIED:20250721T154153Z
UID:10024092-1786356000-1786357800@discovercrewe.co.uk
SUMMARY:Stories and Songs
DESCRIPTION:A Monday Funday Interactive session. \nFrom 10am – 10.30am every Monday at Crewe Library\, there are sessions of stories\, singing\, movement\, games and activities. \nThey are free of charge and drop-in for under 5’s who must be accompanied by an adult. \nImage (Crewe Town Council)
URL:https://discovercrewe.co.uk/event/stories-and-songs/2026-08-10/
LOCATION:Crewe Library\, Lifestyle Centre\, Moss Square\, Crewe\, CW1 2BB
CATEGORIES:Events,Family Attractions,Town Centre
ATTACH;FMTTYPE=image/jpeg:https://discovercrewe.co.uk/wp-content/uploads/2025/07/Crewe-Library-storytime-e1753112480754.jpg
END:VEVENT
BEGIN:VEVENT
DTSTART;TZID=UTC:20260817T100000
DTEND;TZID=UTC:20260817T103000
DTSTAMP:20260424T004441
CREATED:20250721T154153Z
LAST-MODIFIED:20250721T154153Z
UID:10024093-1786960800-1786962600@discovercrewe.co.uk
SUMMARY:Stories and Songs
DESCRIPTION:A Monday Funday Interactive session. \nFrom 10am – 10.30am every Monday at Crewe Library\, there are sessions of stories\, singing\, movement\, games and activities. \nThey are free of charge and drop-in for under 5’s who must be accompanied by an adult. \nImage (Crewe Town Council)
URL:https://discovercrewe.co.uk/event/stories-and-songs/2026-08-17/
LOCATION:Crewe Library\, Lifestyle Centre\, Moss Square\, Crewe\, CW1 2BB
CATEGORIES:Events,Family Attractions,Town Centre
ATTACH;FMTTYPE=image/jpeg:https://discovercrewe.co.uk/wp-content/uploads/2025/07/Crewe-Library-storytime-e1753112480754.jpg
END:VEVENT
BEGIN:VEVENT
DTSTART;TZID=UTC:20260824T100000
DTEND;TZID=UTC:20260824T103000
DTSTAMP:20260424T004441
CREATED:20250721T154153Z
LAST-MODIFIED:20250721T154153Z
UID:10024094-1787565600-1787567400@discovercrewe.co.uk
SUMMARY:Stories and Songs
DESCRIPTION:A Monday Funday Interactive session. \nFrom 10am – 10.30am every Monday at Crewe Library\, there are sessions of stories\, singing\, movement\, games and activities. \nThey are free of charge and drop-in for under 5’s who must be accompanied by an adult. \nImage (Crewe Town Council)
URL:https://discovercrewe.co.uk/event/stories-and-songs/2026-08-24/
LOCATION:Crewe Library\, Lifestyle Centre\, Moss Square\, Crewe\, CW1 2BB
CATEGORIES:Events,Family Attractions,Town Centre
ATTACH;FMTTYPE=image/jpeg:https://discovercrewe.co.uk/wp-content/uploads/2025/07/Crewe-Library-storytime-e1753112480754.jpg
END:VEVENT
BEGIN:VEVENT
DTSTART;TZID=UTC:20260831T100000
DTEND;TZID=UTC:20260831T103000
DTSTAMP:20260424T004441
CREATED:20250721T154153Z
LAST-MODIFIED:20250721T154153Z
UID:10024095-1788170400-1788172200@discovercrewe.co.uk
SUMMARY:Stories and Songs
DESCRIPTION:A Monday Funday Interactive session. \nFrom 10am – 10.30am every Monday at Crewe Library\, there are sessions of stories\, singing\, movement\, games and activities. \nThey are free of charge and drop-in for under 5’s who must be accompanied by an adult. \nImage (Crewe Town Council)
URL:https://discovercrewe.co.uk/event/stories-and-songs/2026-08-31/
LOCATION:Crewe Library\, Lifestyle Centre\, Moss Square\, Crewe\, CW1 2BB
CATEGORIES:Events,Family Attractions,Town Centre
ATTACH;FMTTYPE=image/jpeg:https://discovercrewe.co.uk/wp-content/uploads/2025/07/Crewe-Library-storytime-e1753112480754.jpg
END:VEVENT
BEGIN:VEVENT
DTSTART;TZID=UTC:20260907T100000
DTEND;TZID=UTC:20260907T103000
DTSTAMP:20260424T004441
CREATED:20250721T154153Z
LAST-MODIFIED:20250721T154153Z
UID:10024096-1788775200-1788777000@discovercrewe.co.uk
SUMMARY:Stories and Songs
DESCRIPTION:A Monday Funday Interactive session. \nFrom 10am – 10.30am every Monday at Crewe Library\, there are sessions of stories\, singing\, movement\, games and activities. \nThey are free of charge and drop-in for under 5’s who must be accompanied by an adult. \nImage (Crewe Town Council)
URL:https://discovercrewe.co.uk/event/stories-and-songs/2026-09-07/
LOCATION:Crewe Library\, Lifestyle Centre\, Moss Square\, Crewe\, CW1 2BB
CATEGORIES:Events,Family Attractions,Town Centre
ATTACH;FMTTYPE=image/jpeg:https://discovercrewe.co.uk/wp-content/uploads/2025/07/Crewe-Library-storytime-e1753112480754.jpg
END:VEVENT
BEGIN:VEVENT
DTSTART;TZID=UTC:20260914T100000
DTEND;TZID=UTC:20260914T103000
DTSTAMP:20260424T004441
CREATED:20250721T154153Z
LAST-MODIFIED:20250721T154153Z
UID:10024097-1789380000-1789381800@discovercrewe.co.uk
SUMMARY:Stories and Songs
DESCRIPTION:A Monday Funday Interactive session. \nFrom 10am – 10.30am every Monday at Crewe Library\, there are sessions of stories\, singing\, movement\, games and activities. \nThey are free of charge and drop-in for under 5’s who must be accompanied by an adult. \nImage (Crewe Town Council)
URL:https://discovercrewe.co.uk/event/stories-and-songs/2026-09-14/
LOCATION:Crewe Library\, Lifestyle Centre\, Moss Square\, Crewe\, CW1 2BB
CATEGORIES:Events,Family Attractions,Town Centre
ATTACH;FMTTYPE=image/jpeg:https://discovercrewe.co.uk/wp-content/uploads/2025/07/Crewe-Library-storytime-e1753112480754.jpg
END:VEVENT
BEGIN:VEVENT
DTSTART;TZID=UTC:20260921T100000
DTEND;TZID=UTC:20260921T103000
DTSTAMP:20260424T004441
CREATED:20250721T154153Z
LAST-MODIFIED:20250721T154153Z
UID:10024098-1789984800-1789986600@discovercrewe.co.uk
SUMMARY:Stories and Songs
DESCRIPTION:A Monday Funday Interactive session. \nFrom 10am – 10.30am every Monday at Crewe Library\, there are sessions of stories\, singing\, movement\, games and activities. \nThey are free of charge and drop-in for under 5’s who must be accompanied by an adult. \nImage (Crewe Town Council)
URL:https://discovercrewe.co.uk/event/stories-and-songs/2026-09-21/
LOCATION:Crewe Library\, Lifestyle Centre\, Moss Square\, Crewe\, CW1 2BB
CATEGORIES:Events,Family Attractions,Town Centre
ATTACH;FMTTYPE=image/jpeg:https://discovercrewe.co.uk/wp-content/uploads/2025/07/Crewe-Library-storytime-e1753112480754.jpg
END:VEVENT
BEGIN:VEVENT
DTSTART;TZID=UTC:20260928T100000
DTEND;TZID=UTC:20260928T103000
DTSTAMP:20260424T004441
CREATED:20250721T154153Z
LAST-MODIFIED:20250721T154153Z
UID:10024099-1790589600-1790591400@discovercrewe.co.uk
SUMMARY:Stories and Songs
DESCRIPTION:A Monday Funday Interactive session. \nFrom 10am – 10.30am every Monday at Crewe Library\, there are sessions of stories\, singing\, movement\, games and activities. \nThey are free of charge and drop-in for under 5’s who must be accompanied by an adult. \nImage (Crewe Town Council)
URL:https://discovercrewe.co.uk/event/stories-and-songs/2026-09-28/
LOCATION:Crewe Library\, Lifestyle Centre\, Moss Square\, Crewe\, CW1 2BB
CATEGORIES:Events,Family Attractions,Town Centre
ATTACH;FMTTYPE=image/jpeg:https://discovercrewe.co.uk/wp-content/uploads/2025/07/Crewe-Library-storytime-e1753112480754.jpg
END:VEVENT
BEGIN:VEVENT
DTSTART;TZID=UTC:20261005T100000
DTEND;TZID=UTC:20261005T103000
DTSTAMP:20260424T004441
CREATED:20250721T154153Z
LAST-MODIFIED:20250721T154153Z
UID:10024100-1791194400-1791196200@discovercrewe.co.uk
SUMMARY:Stories and Songs
DESCRIPTION:A Monday Funday Interactive session. \nFrom 10am – 10.30am every Monday at Crewe Library\, there are sessions of stories\, singing\, movement\, games and activities. \nThey are free of charge and drop-in for under 5’s who must be accompanied by an adult. \nImage (Crewe Town Council)
URL:https://discovercrewe.co.uk/event/stories-and-songs/2026-10-05/
LOCATION:Crewe Library\, Lifestyle Centre\, Moss Square\, Crewe\, CW1 2BB
CATEGORIES:Events,Family Attractions,Town Centre
ATTACH;FMTTYPE=image/jpeg:https://discovercrewe.co.uk/wp-content/uploads/2025/07/Crewe-Library-storytime-e1753112480754.jpg
END:VEVENT
BEGIN:VEVENT
DTSTART;TZID=UTC:20261012T100000
DTEND;TZID=UTC:20261012T103000
DTSTAMP:20260424T004441
CREATED:20250721T154153Z
LAST-MODIFIED:20250721T154153Z
UID:10024101-1791799200-1791801000@discovercrewe.co.uk
SUMMARY:Stories and Songs
DESCRIPTION:A Monday Funday Interactive session. \nFrom 10am – 10.30am every Monday at Crewe Library\, there are sessions of stories\, singing\, movement\, games and activities. \nThey are free of charge and drop-in for under 5’s who must be accompanied by an adult. \nImage (Crewe Town Council)
URL:https://discovercrewe.co.uk/event/stories-and-songs/2026-10-12/
LOCATION:Crewe Library\, Lifestyle Centre\, Moss Square\, Crewe\, CW1 2BB
CATEGORIES:Events,Family Attractions,Town Centre
ATTACH;FMTTYPE=image/jpeg:https://discovercrewe.co.uk/wp-content/uploads/2025/07/Crewe-Library-storytime-e1753112480754.jpg
END:VEVENT
BEGIN:VEVENT
DTSTART;TZID=UTC:20261019T100000
DTEND;TZID=UTC:20261019T103000
DTSTAMP:20260424T004441
CREATED:20250721T154153Z
LAST-MODIFIED:20250721T154153Z
UID:10024102-1792404000-1792405800@discovercrewe.co.uk
SUMMARY:Stories and Songs
DESCRIPTION:A Monday Funday Interactive session. \nFrom 10am – 10.30am every Monday at Crewe Library\, there are sessions of stories\, singing\, movement\, games and activities. \nThey are free of charge and drop-in for under 5’s who must be accompanied by an adult. \nImage (Crewe Town Council)
URL:https://discovercrewe.co.uk/event/stories-and-songs/2026-10-19/
LOCATION:Crewe Library\, Lifestyle Centre\, Moss Square\, Crewe\, CW1 2BB
CATEGORIES:Events,Family Attractions,Town Centre
ATTACH;FMTTYPE=image/jpeg:https://discovercrewe.co.uk/wp-content/uploads/2025/07/Crewe-Library-storytime-e1753112480754.jpg
END:VEVENT
BEGIN:VEVENT
DTSTART;TZID=UTC:20261026T100000
DTEND;TZID=UTC:20261026T103000
DTSTAMP:20260424T004441
CREATED:20250721T154153Z
LAST-MODIFIED:20250721T154153Z
UID:10024103-1793008800-1793010600@discovercrewe.co.uk
SUMMARY:Stories and Songs
DESCRIPTION:A Monday Funday Interactive session. \nFrom 10am – 10.30am every Monday at Crewe Library\, there are sessions of stories\, singing\, movement\, games and activities. \nThey are free of charge and drop-in for under 5’s who must be accompanied by an adult. \nImage (Crewe Town Council)
URL:https://discovercrewe.co.uk/event/stories-and-songs/2026-10-26/
LOCATION:Crewe Library\, Lifestyle Centre\, Moss Square\, Crewe\, CW1 2BB
CATEGORIES:Events,Family Attractions,Town Centre
ATTACH;FMTTYPE=image/jpeg:https://discovercrewe.co.uk/wp-content/uploads/2025/07/Crewe-Library-storytime-e1753112480754.jpg
END:VEVENT
BEGIN:VEVENT
DTSTART;TZID=UTC:20261102T100000
DTEND;TZID=UTC:20261102T103000
DTSTAMP:20260424T004441
CREATED:20250721T154153Z
LAST-MODIFIED:20250721T154153Z
UID:10024104-1793613600-1793615400@discovercrewe.co.uk
SUMMARY:Stories and Songs
DESCRIPTION:A Monday Funday Interactive session. \nFrom 10am – 10.30am every Monday at Crewe Library\, there are sessions of stories\, singing\, movement\, games and activities. \nThey are free of charge and drop-in for under 5’s who must be accompanied by an adult. \nImage (Crewe Town Council)
URL:https://discovercrewe.co.uk/event/stories-and-songs/2026-11-02/
LOCATION:Crewe Library\, Lifestyle Centre\, Moss Square\, Crewe\, CW1 2BB
CATEGORIES:Events,Family Attractions,Town Centre
ATTACH;FMTTYPE=image/jpeg:https://discovercrewe.co.uk/wp-content/uploads/2025/07/Crewe-Library-storytime-e1753112480754.jpg
END:VEVENT
BEGIN:VEVENT
DTSTART;TZID=UTC:20261109T100000
DTEND;TZID=UTC:20261109T103000
DTSTAMP:20260424T004441
CREATED:20250721T154153Z
LAST-MODIFIED:20250721T154153Z
UID:10024105-1794218400-1794220200@discovercrewe.co.uk
SUMMARY:Stories and Songs
DESCRIPTION:A Monday Funday Interactive session. \nFrom 10am – 10.30am every Monday at Crewe Library\, there are sessions of stories\, singing\, movement\, games and activities. \nThey are free of charge and drop-in for under 5’s who must be accompanied by an adult. \nImage (Crewe Town Council)
URL:https://discovercrewe.co.uk/event/stories-and-songs/2026-11-09/
LOCATION:Crewe Library\, Lifestyle Centre\, Moss Square\, Crewe\, CW1 2BB
CATEGORIES:Events,Family Attractions,Town Centre
ATTACH;FMTTYPE=image/jpeg:https://discovercrewe.co.uk/wp-content/uploads/2025/07/Crewe-Library-storytime-e1753112480754.jpg
END:VEVENT
BEGIN:VEVENT
DTSTART;TZID=UTC:20261116T100000
DTEND;TZID=UTC:20261116T103000
DTSTAMP:20260424T004441
CREATED:20250721T154153Z
LAST-MODIFIED:20250721T154153Z
UID:10024106-1794823200-1794825000@discovercrewe.co.uk
SUMMARY:Stories and Songs
DESCRIPTION:A Monday Funday Interactive session. \nFrom 10am – 10.30am every Monday at Crewe Library\, there are sessions of stories\, singing\, movement\, games and activities. \nThey are free of charge and drop-in for under 5’s who must be accompanied by an adult. \nImage (Crewe Town Council)
URL:https://discovercrewe.co.uk/event/stories-and-songs/2026-11-16/
LOCATION:Crewe Library\, Lifestyle Centre\, Moss Square\, Crewe\, CW1 2BB
CATEGORIES:Events,Family Attractions,Town Centre
ATTACH;FMTTYPE=image/jpeg:https://discovercrewe.co.uk/wp-content/uploads/2025/07/Crewe-Library-storytime-e1753112480754.jpg
END:VEVENT
BEGIN:VEVENT
DTSTART;TZID=UTC:20261123T100000
DTEND;TZID=UTC:20261123T103000
DTSTAMP:20260424T004441
CREATED:20250721T154153Z
LAST-MODIFIED:20250721T154153Z
UID:10024107-1795428000-1795429800@discovercrewe.co.uk
SUMMARY:Stories and Songs
DESCRIPTION:A Monday Funday Interactive session. \nFrom 10am – 10.30am every Monday at Crewe Library\, there are sessions of stories\, singing\, movement\, games and activities. \nThey are free of charge and drop-in for under 5’s who must be accompanied by an adult. \nImage (Crewe Town Council)
URL:https://discovercrewe.co.uk/event/stories-and-songs/2026-11-23/
LOCATION:Crewe Library\, Lifestyle Centre\, Moss Square\, Crewe\, CW1 2BB
CATEGORIES:Events,Family Attractions,Town Centre
ATTACH;FMTTYPE=image/jpeg:https://discovercrewe.co.uk/wp-content/uploads/2025/07/Crewe-Library-storytime-e1753112480754.jpg
END:VEVENT
BEGIN:VEVENT
DTSTART;TZID=UTC:20261130T100000
DTEND;TZID=UTC:20261130T103000
DTSTAMP:20260424T004441
CREATED:20250721T154153Z
LAST-MODIFIED:20250721T154153Z
UID:10024108-1796032800-1796034600@discovercrewe.co.uk
SUMMARY:Stories and Songs
DESCRIPTION:A Monday Funday Interactive session. \nFrom 10am – 10.30am every Monday at Crewe Library\, there are sessions of stories\, singing\, movement\, games and activities. \nThey are free of charge and drop-in for under 5’s who must be accompanied by an adult. \nImage (Crewe Town Council)
URL:https://discovercrewe.co.uk/event/stories-and-songs/2026-11-30/
LOCATION:Crewe Library\, Lifestyle Centre\, Moss Square\, Crewe\, CW1 2BB
CATEGORIES:Events,Family Attractions,Town Centre
ATTACH;FMTTYPE=image/jpeg:https://discovercrewe.co.uk/wp-content/uploads/2025/07/Crewe-Library-storytime-e1753112480754.jpg
END:VEVENT
BEGIN:VEVENT
DTSTART;TZID=UTC:20261207T100000
DTEND;TZID=UTC:20261207T103000
DTSTAMP:20260424T004441
CREATED:20250721T154153Z
LAST-MODIFIED:20250721T154153Z
UID:10024109-1796637600-1796639400@discovercrewe.co.uk
SUMMARY:Stories and Songs
DESCRIPTION:A Monday Funday Interactive session. \nFrom 10am – 10.30am every Monday at Crewe Library\, there are sessions of stories\, singing\, movement\, games and activities. \nThey are free of charge and drop-in for under 5’s who must be accompanied by an adult. \nImage (Crewe Town Council)
URL:https://discovercrewe.co.uk/event/stories-and-songs/2026-12-07/
LOCATION:Crewe Library\, Lifestyle Centre\, Moss Square\, Crewe\, CW1 2BB
CATEGORIES:Events,Family Attractions,Town Centre
ATTACH;FMTTYPE=image/jpeg:https://discovercrewe.co.uk/wp-content/uploads/2025/07/Crewe-Library-storytime-e1753112480754.jpg
END:VEVENT
BEGIN:VEVENT
DTSTART;TZID=UTC:20261214T100000
DTEND;TZID=UTC:20261214T103000
DTSTAMP:20260424T004441
CREATED:20250721T154153Z
LAST-MODIFIED:20250721T154153Z
UID:10024110-1797242400-1797244200@discovercrewe.co.uk
SUMMARY:Stories and Songs
DESCRIPTION:A Monday Funday Interactive session. \nFrom 10am – 10.30am every Monday at Crewe Library\, there are sessions of stories\, singing\, movement\, games and activities. \nThey are free of charge and drop-in for under 5’s who must be accompanied by an adult. \nImage (Crewe Town Council)
URL:https://discovercrewe.co.uk/event/stories-and-songs/2026-12-14/
LOCATION:Crewe Library\, Lifestyle Centre\, Moss Square\, Crewe\, CW1 2BB
CATEGORIES:Events,Family Attractions,Town Centre
ATTACH;FMTTYPE=image/jpeg:https://discovercrewe.co.uk/wp-content/uploads/2025/07/Crewe-Library-storytime-e1753112480754.jpg
END:VEVENT
BEGIN:VEVENT
DTSTART;TZID=UTC:20261221T100000
DTEND;TZID=UTC:20261221T103000
DTSTAMP:20260424T004441
CREATED:20250721T154153Z
LAST-MODIFIED:20250721T154153Z
UID:10024111-1797847200-1797849000@discovercrewe.co.uk
SUMMARY:Stories and Songs
DESCRIPTION:A Monday Funday Interactive session. \nFrom 10am – 10.30am every Monday at Crewe Library\, there are sessions of stories\, singing\, movement\, games and activities. \nThey are free of charge and drop-in for under 5’s who must be accompanied by an adult. \nImage (Crewe Town Council)
URL:https://discovercrewe.co.uk/event/stories-and-songs/2026-12-21/
LOCATION:Crewe Library\, Lifestyle Centre\, Moss Square\, Crewe\, CW1 2BB
CATEGORIES:Events,Family Attractions,Town Centre
ATTACH;FMTTYPE=image/jpeg:https://discovercrewe.co.uk/wp-content/uploads/2025/07/Crewe-Library-storytime-e1753112480754.jpg
END:VEVENT
BEGIN:VEVENT
DTSTART;TZID=UTC:20261228T100000
DTEND;TZID=UTC:20261228T103000
DTSTAMP:20260424T004441
CREATED:20250721T154153Z
LAST-MODIFIED:20250721T154153Z
UID:10024112-1798452000-1798453800@discovercrewe.co.uk
SUMMARY:Stories and Songs
DESCRIPTION:A Monday Funday Interactive session. \nFrom 10am – 10.30am every Monday at Crewe Library\, there are sessions of stories\, singing\, movement\, games and activities. \nThey are free of charge and drop-in for under 5’s who must be accompanied by an adult. \nImage (Crewe Town Council)
URL:https://discovercrewe.co.uk/event/stories-and-songs/2026-12-28/
LOCATION:Crewe Library\, Lifestyle Centre\, Moss Square\, Crewe\, CW1 2BB
CATEGORIES:Events,Family Attractions,Town Centre
ATTACH;FMTTYPE=image/jpeg:https://discovercrewe.co.uk/wp-content/uploads/2025/07/Crewe-Library-storytime-e1753112480754.jpg
END:VEVENT
BEGIN:VEVENT
DTSTART;TZID=UTC:20270104T100000
DTEND;TZID=UTC:20270104T103000
DTSTAMP:20260424T004441
CREATED:20250721T154153Z
LAST-MODIFIED:20250721T154153Z
UID:10024113-1799056800-1799058600@discovercrewe.co.uk
SUMMARY:Stories and Songs
DESCRIPTION:A Monday Funday Interactive session. \nFrom 10am – 10.30am every Monday at Crewe Library\, there are sessions of stories\, singing\, movement\, games and activities. \nThey are free of charge and drop-in for under 5’s who must be accompanied by an adult. \nImage (Crewe Town Council)
URL:https://discovercrewe.co.uk/event/stories-and-songs/2027-01-04/
LOCATION:Crewe Library\, Lifestyle Centre\, Moss Square\, Crewe\, CW1 2BB
CATEGORIES:Events,Family Attractions,Town Centre
ATTACH;FMTTYPE=image/jpeg:https://discovercrewe.co.uk/wp-content/uploads/2025/07/Crewe-Library-storytime-e1753112480754.jpg
END:VEVENT
BEGIN:VEVENT
DTSTART;TZID=UTC:20270111T100000
DTEND;TZID=UTC:20270111T103000
DTSTAMP:20260424T004441
CREATED:20250721T154153Z
LAST-MODIFIED:20250721T154153Z
UID:10024114-1799661600-1799663400@discovercrewe.co.uk
SUMMARY:Stories and Songs
DESCRIPTION:A Monday Funday Interactive session. \nFrom 10am – 10.30am every Monday at Crewe Library\, there are sessions of stories\, singing\, movement\, games and activities. \nThey are free of charge and drop-in for under 5’s who must be accompanied by an adult. \nImage (Crewe Town Council)
URL:https://discovercrewe.co.uk/event/stories-and-songs/2027-01-11/
LOCATION:Crewe Library\, Lifestyle Centre\, Moss Square\, Crewe\, CW1 2BB
CATEGORIES:Events,Family Attractions,Town Centre
ATTACH;FMTTYPE=image/jpeg:https://discovercrewe.co.uk/wp-content/uploads/2025/07/Crewe-Library-storytime-e1753112480754.jpg
END:VEVENT
BEGIN:VEVENT
DTSTART;TZID=UTC:20270118T100000
DTEND;TZID=UTC:20270118T103000
DTSTAMP:20260424T004441
CREATED:20250721T154153Z
LAST-MODIFIED:20250721T154153Z
UID:10024115-1800266400-1800268200@discovercrewe.co.uk
SUMMARY:Stories and Songs
DESCRIPTION:A Monday Funday Interactive session. \nFrom 10am – 10.30am every Monday at Crewe Library\, there are sessions of stories\, singing\, movement\, games and activities. \nThey are free of charge and drop-in for under 5’s who must be accompanied by an adult. \nImage (Crewe Town Council)
URL:https://discovercrewe.co.uk/event/stories-and-songs/2027-01-18/
LOCATION:Crewe Library\, Lifestyle Centre\, Moss Square\, Crewe\, CW1 2BB
CATEGORIES:Events,Family Attractions,Town Centre
ATTACH;FMTTYPE=image/jpeg:https://discovercrewe.co.uk/wp-content/uploads/2025/07/Crewe-Library-storytime-e1753112480754.jpg
END:VEVENT
END:VCALENDAR