BEGIN:VCALENDAR
VERSION:2.0
PRODID:-//Discover Crewe - ECPv6.15.15//NONSGML v1.0//EN
CALSCALE:GREGORIAN
METHOD:PUBLISH
X-WR-CALNAME:Discover Crewe
X-ORIGINAL-URL:https://discovercrewe.co.uk
X-WR-CALDESC:Events for Discover Crewe
REFRESH-INTERVAL;VALUE=DURATION:PT1H
X-Robots-Tag:noindex
X-PUBLISHED-TTL:PT1H
BEGIN:VTIMEZONE
TZID:UTC
BEGIN:STANDARD
TZOFFSETFROM:+0000
TZOFFSETTO:+0000
TZNAME:UTC
DTSTART:20280101T000000
END:STANDARD
END:VTIMEZONE
BEGIN:VEVENT
DTSTART;TZID=UTC:20290604T183000
DTEND;TZID=UTC:20290604T193000
DTSTAMP:20260421T103105
CREATED:20260209T105426Z
LAST-MODIFIED:20260209T105426Z
UID:10038237-1875292200-1875295800@discovercrewe.co.uk
SUMMARY:Monday Night Board Games
DESCRIPTION:Join the Lizards Lair Gaming Co on Monday evenings for a chilled board game or two. \nStarting at 6.30pm\, it promises to be casual fun for all to get involved in\, a selection of games will be available in shop. \nFor more information please visit here. \nImage (The Lizards Lair Gaming Co)
URL:https://discovercrewe.co.uk/event/monday-night-board-games/2029-06-04/
LOCATION:Lizards Lair\, 22 Victoria Centre\, Crewe\, CW1 2PU\, United Kingdom
CATEGORIES:Lizards Lair,Town Centre
ATTACH;FMTTYPE=image/jpeg:https://discovercrewe.co.uk/wp-content/uploads/2026/02/Monday-Evening-Board-Games.jpg
END:VEVENT
BEGIN:VEVENT
DTSTART;TZID=UTC:20290611T183000
DTEND;TZID=UTC:20290611T193000
DTSTAMP:20260421T103105
CREATED:20260209T105426Z
LAST-MODIFIED:20260209T105426Z
UID:10038238-1875897000-1875900600@discovercrewe.co.uk
SUMMARY:Monday Night Board Games
DESCRIPTION:Join the Lizards Lair Gaming Co on Monday evenings for a chilled board game or two. \nStarting at 6.30pm\, it promises to be casual fun for all to get involved in\, a selection of games will be available in shop. \nFor more information please visit here. \nImage (The Lizards Lair Gaming Co)
URL:https://discovercrewe.co.uk/event/monday-night-board-games/2029-06-11/
LOCATION:Lizards Lair\, 22 Victoria Centre\, Crewe\, CW1 2PU\, United Kingdom
CATEGORIES:Lizards Lair,Town Centre
ATTACH;FMTTYPE=image/jpeg:https://discovercrewe.co.uk/wp-content/uploads/2026/02/Monday-Evening-Board-Games.jpg
END:VEVENT
BEGIN:VEVENT
DTSTART;TZID=UTC:20290618T183000
DTEND;TZID=UTC:20290618T193000
DTSTAMP:20260421T103105
CREATED:20260209T105426Z
LAST-MODIFIED:20260209T105426Z
UID:10038239-1876501800-1876505400@discovercrewe.co.uk
SUMMARY:Monday Night Board Games
DESCRIPTION:Join the Lizards Lair Gaming Co on Monday evenings for a chilled board game or two. \nStarting at 6.30pm\, it promises to be casual fun for all to get involved in\, a selection of games will be available in shop. \nFor more information please visit here. \nImage (The Lizards Lair Gaming Co)
URL:https://discovercrewe.co.uk/event/monday-night-board-games/2029-06-18/
LOCATION:Lizards Lair\, 22 Victoria Centre\, Crewe\, CW1 2PU\, United Kingdom
CATEGORIES:Lizards Lair,Town Centre
ATTACH;FMTTYPE=image/jpeg:https://discovercrewe.co.uk/wp-content/uploads/2026/02/Monday-Evening-Board-Games.jpg
END:VEVENT
BEGIN:VEVENT
DTSTART;TZID=UTC:20290625T183000
DTEND;TZID=UTC:20290625T193000
DTSTAMP:20260421T103105
CREATED:20260209T105426Z
LAST-MODIFIED:20260209T105426Z
UID:10038240-1877106600-1877110200@discovercrewe.co.uk
SUMMARY:Monday Night Board Games
DESCRIPTION:Join the Lizards Lair Gaming Co on Monday evenings for a chilled board game or two. \nStarting at 6.30pm\, it promises to be casual fun for all to get involved in\, a selection of games will be available in shop. \nFor more information please visit here. \nImage (The Lizards Lair Gaming Co)
URL:https://discovercrewe.co.uk/event/monday-night-board-games/2029-06-25/
LOCATION:Lizards Lair\, 22 Victoria Centre\, Crewe\, CW1 2PU\, United Kingdom
CATEGORIES:Lizards Lair,Town Centre
ATTACH;FMTTYPE=image/jpeg:https://discovercrewe.co.uk/wp-content/uploads/2026/02/Monday-Evening-Board-Games.jpg
END:VEVENT
BEGIN:VEVENT
DTSTART;TZID=UTC:20290702T183000
DTEND;TZID=UTC:20290702T193000
DTSTAMP:20260421T103105
CREATED:20260209T105426Z
LAST-MODIFIED:20260209T105426Z
UID:10038241-1877711400-1877715000@discovercrewe.co.uk
SUMMARY:Monday Night Board Games
DESCRIPTION:Join the Lizards Lair Gaming Co on Monday evenings for a chilled board game or two. \nStarting at 6.30pm\, it promises to be casual fun for all to get involved in\, a selection of games will be available in shop. \nFor more information please visit here. \nImage (The Lizards Lair Gaming Co)
URL:https://discovercrewe.co.uk/event/monday-night-board-games/2029-07-02/
LOCATION:Lizards Lair\, 22 Victoria Centre\, Crewe\, CW1 2PU\, United Kingdom
CATEGORIES:Lizards Lair,Town Centre
ATTACH;FMTTYPE=image/jpeg:https://discovercrewe.co.uk/wp-content/uploads/2026/02/Monday-Evening-Board-Games.jpg
END:VEVENT
BEGIN:VEVENT
DTSTART;TZID=UTC:20290709T183000
DTEND;TZID=UTC:20290709T193000
DTSTAMP:20260421T103105
CREATED:20260209T105426Z
LAST-MODIFIED:20260209T105426Z
UID:10038242-1878316200-1878319800@discovercrewe.co.uk
SUMMARY:Monday Night Board Games
DESCRIPTION:Join the Lizards Lair Gaming Co on Monday evenings for a chilled board game or two. \nStarting at 6.30pm\, it promises to be casual fun for all to get involved in\, a selection of games will be available in shop. \nFor more information please visit here. \nImage (The Lizards Lair Gaming Co)
URL:https://discovercrewe.co.uk/event/monday-night-board-games/2029-07-09/
LOCATION:Lizards Lair\, 22 Victoria Centre\, Crewe\, CW1 2PU\, United Kingdom
CATEGORIES:Lizards Lair,Town Centre
ATTACH;FMTTYPE=image/jpeg:https://discovercrewe.co.uk/wp-content/uploads/2026/02/Monday-Evening-Board-Games.jpg
END:VEVENT
BEGIN:VEVENT
DTSTART;TZID=UTC:20290716T183000
DTEND;TZID=UTC:20290716T193000
DTSTAMP:20260421T103105
CREATED:20260209T105426Z
LAST-MODIFIED:20260209T105426Z
UID:10038243-1878921000-1878924600@discovercrewe.co.uk
SUMMARY:Monday Night Board Games
DESCRIPTION:Join the Lizards Lair Gaming Co on Monday evenings for a chilled board game or two. \nStarting at 6.30pm\, it promises to be casual fun for all to get involved in\, a selection of games will be available in shop. \nFor more information please visit here. \nImage (The Lizards Lair Gaming Co)
URL:https://discovercrewe.co.uk/event/monday-night-board-games/2029-07-16/
LOCATION:Lizards Lair\, 22 Victoria Centre\, Crewe\, CW1 2PU\, United Kingdom
CATEGORIES:Lizards Lair,Town Centre
ATTACH;FMTTYPE=image/jpeg:https://discovercrewe.co.uk/wp-content/uploads/2026/02/Monday-Evening-Board-Games.jpg
END:VEVENT
BEGIN:VEVENT
DTSTART;TZID=UTC:20290723T183000
DTEND;TZID=UTC:20290723T193000
DTSTAMP:20260421T103105
CREATED:20260209T105426Z
LAST-MODIFIED:20260209T105426Z
UID:10038244-1879525800-1879529400@discovercrewe.co.uk
SUMMARY:Monday Night Board Games
DESCRIPTION:Join the Lizards Lair Gaming Co on Monday evenings for a chilled board game or two. \nStarting at 6.30pm\, it promises to be casual fun for all to get involved in\, a selection of games will be available in shop. \nFor more information please visit here. \nImage (The Lizards Lair Gaming Co)
URL:https://discovercrewe.co.uk/event/monday-night-board-games/2029-07-23/
LOCATION:Lizards Lair\, 22 Victoria Centre\, Crewe\, CW1 2PU\, United Kingdom
CATEGORIES:Lizards Lair,Town Centre
ATTACH;FMTTYPE=image/jpeg:https://discovercrewe.co.uk/wp-content/uploads/2026/02/Monday-Evening-Board-Games.jpg
END:VEVENT
BEGIN:VEVENT
DTSTART;TZID=UTC:20290730T183000
DTEND;TZID=UTC:20290730T193000
DTSTAMP:20260421T103105
CREATED:20260209T105426Z
LAST-MODIFIED:20260209T105426Z
UID:10038245-1880130600-1880134200@discovercrewe.co.uk
SUMMARY:Monday Night Board Games
DESCRIPTION:Join the Lizards Lair Gaming Co on Monday evenings for a chilled board game or two. \nStarting at 6.30pm\, it promises to be casual fun for all to get involved in\, a selection of games will be available in shop. \nFor more information please visit here. \nImage (The Lizards Lair Gaming Co)
URL:https://discovercrewe.co.uk/event/monday-night-board-games/2029-07-30/
LOCATION:Lizards Lair\, 22 Victoria Centre\, Crewe\, CW1 2PU\, United Kingdom
CATEGORIES:Lizards Lair,Town Centre
ATTACH;FMTTYPE=image/jpeg:https://discovercrewe.co.uk/wp-content/uploads/2026/02/Monday-Evening-Board-Games.jpg
END:VEVENT
BEGIN:VEVENT
DTSTART;TZID=UTC:20290806T183000
DTEND;TZID=UTC:20290806T193000
DTSTAMP:20260421T103105
CREATED:20260209T105426Z
LAST-MODIFIED:20260209T105426Z
UID:10038246-1880735400-1880739000@discovercrewe.co.uk
SUMMARY:Monday Night Board Games
DESCRIPTION:Join the Lizards Lair Gaming Co on Monday evenings for a chilled board game or two. \nStarting at 6.30pm\, it promises to be casual fun for all to get involved in\, a selection of games will be available in shop. \nFor more information please visit here. \nImage (The Lizards Lair Gaming Co)
URL:https://discovercrewe.co.uk/event/monday-night-board-games/2029-08-06/
LOCATION:Lizards Lair\, 22 Victoria Centre\, Crewe\, CW1 2PU\, United Kingdom
CATEGORIES:Lizards Lair,Town Centre
ATTACH;FMTTYPE=image/jpeg:https://discovercrewe.co.uk/wp-content/uploads/2026/02/Monday-Evening-Board-Games.jpg
END:VEVENT
BEGIN:VEVENT
DTSTART;TZID=UTC:20290813T183000
DTEND;TZID=UTC:20290813T193000
DTSTAMP:20260421T103105
CREATED:20260209T105426Z
LAST-MODIFIED:20260209T105426Z
UID:10038247-1881340200-1881343800@discovercrewe.co.uk
SUMMARY:Monday Night Board Games
DESCRIPTION:Join the Lizards Lair Gaming Co on Monday evenings for a chilled board game or two. \nStarting at 6.30pm\, it promises to be casual fun for all to get involved in\, a selection of games will be available in shop. \nFor more information please visit here. \nImage (The Lizards Lair Gaming Co)
URL:https://discovercrewe.co.uk/event/monday-night-board-games/2029-08-13/
LOCATION:Lizards Lair\, 22 Victoria Centre\, Crewe\, CW1 2PU\, United Kingdom
CATEGORIES:Lizards Lair,Town Centre
ATTACH;FMTTYPE=image/jpeg:https://discovercrewe.co.uk/wp-content/uploads/2026/02/Monday-Evening-Board-Games.jpg
END:VEVENT
BEGIN:VEVENT
DTSTART;TZID=UTC:20290820T183000
DTEND;TZID=UTC:20290820T193000
DTSTAMP:20260421T103105
CREATED:20260209T105426Z
LAST-MODIFIED:20260209T105426Z
UID:10038248-1881945000-1881948600@discovercrewe.co.uk
SUMMARY:Monday Night Board Games
DESCRIPTION:Join the Lizards Lair Gaming Co on Monday evenings for a chilled board game or two. \nStarting at 6.30pm\, it promises to be casual fun for all to get involved in\, a selection of games will be available in shop. \nFor more information please visit here. \nImage (The Lizards Lair Gaming Co)
URL:https://discovercrewe.co.uk/event/monday-night-board-games/2029-08-20/
LOCATION:Lizards Lair\, 22 Victoria Centre\, Crewe\, CW1 2PU\, United Kingdom
CATEGORIES:Lizards Lair,Town Centre
ATTACH;FMTTYPE=image/jpeg:https://discovercrewe.co.uk/wp-content/uploads/2026/02/Monday-Evening-Board-Games.jpg
END:VEVENT
BEGIN:VEVENT
DTSTART;TZID=UTC:20290827T183000
DTEND;TZID=UTC:20290827T193000
DTSTAMP:20260421T103105
CREATED:20260209T105426Z
LAST-MODIFIED:20260209T105426Z
UID:10038249-1882549800-1882553400@discovercrewe.co.uk
SUMMARY:Monday Night Board Games
DESCRIPTION:Join the Lizards Lair Gaming Co on Monday evenings for a chilled board game or two. \nStarting at 6.30pm\, it promises to be casual fun for all to get involved in\, a selection of games will be available in shop. \nFor more information please visit here. \nImage (The Lizards Lair Gaming Co)
URL:https://discovercrewe.co.uk/event/monday-night-board-games/2029-08-27/
LOCATION:Lizards Lair\, 22 Victoria Centre\, Crewe\, CW1 2PU\, United Kingdom
CATEGORIES:Lizards Lair,Town Centre
ATTACH;FMTTYPE=image/jpeg:https://discovercrewe.co.uk/wp-content/uploads/2026/02/Monday-Evening-Board-Games.jpg
END:VEVENT
BEGIN:VEVENT
DTSTART;TZID=UTC:20290903T183000
DTEND;TZID=UTC:20290903T193000
DTSTAMP:20260421T103105
CREATED:20260209T105426Z
LAST-MODIFIED:20260209T105426Z
UID:10038250-1883154600-1883158200@discovercrewe.co.uk
SUMMARY:Monday Night Board Games
DESCRIPTION:Join the Lizards Lair Gaming Co on Monday evenings for a chilled board game or two. \nStarting at 6.30pm\, it promises to be casual fun for all to get involved in\, a selection of games will be available in shop. \nFor more information please visit here. \nImage (The Lizards Lair Gaming Co)
URL:https://discovercrewe.co.uk/event/monday-night-board-games/2029-09-03/
LOCATION:Lizards Lair\, 22 Victoria Centre\, Crewe\, CW1 2PU\, United Kingdom
CATEGORIES:Lizards Lair,Town Centre
ATTACH;FMTTYPE=image/jpeg:https://discovercrewe.co.uk/wp-content/uploads/2026/02/Monday-Evening-Board-Games.jpg
END:VEVENT
BEGIN:VEVENT
DTSTART;TZID=UTC:20290910T183000
DTEND;TZID=UTC:20290910T193000
DTSTAMP:20260421T103105
CREATED:20260209T105426Z
LAST-MODIFIED:20260209T105426Z
UID:10038251-1883759400-1883763000@discovercrewe.co.uk
SUMMARY:Monday Night Board Games
DESCRIPTION:Join the Lizards Lair Gaming Co on Monday evenings for a chilled board game or two. \nStarting at 6.30pm\, it promises to be casual fun for all to get involved in\, a selection of games will be available in shop. \nFor more information please visit here. \nImage (The Lizards Lair Gaming Co)
URL:https://discovercrewe.co.uk/event/monday-night-board-games/2029-09-10/
LOCATION:Lizards Lair\, 22 Victoria Centre\, Crewe\, CW1 2PU\, United Kingdom
CATEGORIES:Lizards Lair,Town Centre
ATTACH;FMTTYPE=image/jpeg:https://discovercrewe.co.uk/wp-content/uploads/2026/02/Monday-Evening-Board-Games.jpg
END:VEVENT
BEGIN:VEVENT
DTSTART;TZID=UTC:20290917T183000
DTEND;TZID=UTC:20290917T193000
DTSTAMP:20260421T103105
CREATED:20260209T105426Z
LAST-MODIFIED:20260209T105426Z
UID:10038252-1884364200-1884367800@discovercrewe.co.uk
SUMMARY:Monday Night Board Games
DESCRIPTION:Join the Lizards Lair Gaming Co on Monday evenings for a chilled board game or two. \nStarting at 6.30pm\, it promises to be casual fun for all to get involved in\, a selection of games will be available in shop. \nFor more information please visit here. \nImage (The Lizards Lair Gaming Co)
URL:https://discovercrewe.co.uk/event/monday-night-board-games/2029-09-17/
LOCATION:Lizards Lair\, 22 Victoria Centre\, Crewe\, CW1 2PU\, United Kingdom
CATEGORIES:Lizards Lair,Town Centre
ATTACH;FMTTYPE=image/jpeg:https://discovercrewe.co.uk/wp-content/uploads/2026/02/Monday-Evening-Board-Games.jpg
END:VEVENT
BEGIN:VEVENT
DTSTART;TZID=UTC:20290924T183000
DTEND;TZID=UTC:20290924T193000
DTSTAMP:20260421T103105
CREATED:20260209T105426Z
LAST-MODIFIED:20260209T105426Z
UID:10038253-1884969000-1884972600@discovercrewe.co.uk
SUMMARY:Monday Night Board Games
DESCRIPTION:Join the Lizards Lair Gaming Co on Monday evenings for a chilled board game or two. \nStarting at 6.30pm\, it promises to be casual fun for all to get involved in\, a selection of games will be available in shop. \nFor more information please visit here. \nImage (The Lizards Lair Gaming Co)
URL:https://discovercrewe.co.uk/event/monday-night-board-games/2029-09-24/
LOCATION:Lizards Lair\, 22 Victoria Centre\, Crewe\, CW1 2PU\, United Kingdom
CATEGORIES:Lizards Lair,Town Centre
ATTACH;FMTTYPE=image/jpeg:https://discovercrewe.co.uk/wp-content/uploads/2026/02/Monday-Evening-Board-Games.jpg
END:VEVENT
BEGIN:VEVENT
DTSTART;TZID=UTC:20291001T183000
DTEND;TZID=UTC:20291001T193000
DTSTAMP:20260421T103105
CREATED:20260209T105426Z
LAST-MODIFIED:20260209T105426Z
UID:10038254-1885573800-1885577400@discovercrewe.co.uk
SUMMARY:Monday Night Board Games
DESCRIPTION:Join the Lizards Lair Gaming Co on Monday evenings for a chilled board game or two. \nStarting at 6.30pm\, it promises to be casual fun for all to get involved in\, a selection of games will be available in shop. \nFor more information please visit here. \nImage (The Lizards Lair Gaming Co)
URL:https://discovercrewe.co.uk/event/monday-night-board-games/2029-10-01/
LOCATION:Lizards Lair\, 22 Victoria Centre\, Crewe\, CW1 2PU\, United Kingdom
CATEGORIES:Lizards Lair,Town Centre
ATTACH;FMTTYPE=image/jpeg:https://discovercrewe.co.uk/wp-content/uploads/2026/02/Monday-Evening-Board-Games.jpg
END:VEVENT
BEGIN:VEVENT
DTSTART;TZID=UTC:20291008T183000
DTEND;TZID=UTC:20291008T193000
DTSTAMP:20260421T103105
CREATED:20260209T105426Z
LAST-MODIFIED:20260209T105426Z
UID:10038255-1886178600-1886182200@discovercrewe.co.uk
SUMMARY:Monday Night Board Games
DESCRIPTION:Join the Lizards Lair Gaming Co on Monday evenings for a chilled board game or two. \nStarting at 6.30pm\, it promises to be casual fun for all to get involved in\, a selection of games will be available in shop. \nFor more information please visit here. \nImage (The Lizards Lair Gaming Co)
URL:https://discovercrewe.co.uk/event/monday-night-board-games/2029-10-08/
LOCATION:Lizards Lair\, 22 Victoria Centre\, Crewe\, CW1 2PU\, United Kingdom
CATEGORIES:Lizards Lair,Town Centre
ATTACH;FMTTYPE=image/jpeg:https://discovercrewe.co.uk/wp-content/uploads/2026/02/Monday-Evening-Board-Games.jpg
END:VEVENT
BEGIN:VEVENT
DTSTART;TZID=UTC:20291015T183000
DTEND;TZID=UTC:20291015T193000
DTSTAMP:20260421T103105
CREATED:20260209T105426Z
LAST-MODIFIED:20260209T105426Z
UID:10038256-1886783400-1886787000@discovercrewe.co.uk
SUMMARY:Monday Night Board Games
DESCRIPTION:Join the Lizards Lair Gaming Co on Monday evenings for a chilled board game or two. \nStarting at 6.30pm\, it promises to be casual fun for all to get involved in\, a selection of games will be available in shop. \nFor more information please visit here. \nImage (The Lizards Lair Gaming Co)
URL:https://discovercrewe.co.uk/event/monday-night-board-games/2029-10-15/
LOCATION:Lizards Lair\, 22 Victoria Centre\, Crewe\, CW1 2PU\, United Kingdom
CATEGORIES:Lizards Lair,Town Centre
ATTACH;FMTTYPE=image/jpeg:https://discovercrewe.co.uk/wp-content/uploads/2026/02/Monday-Evening-Board-Games.jpg
END:VEVENT
BEGIN:VEVENT
DTSTART;TZID=UTC:20291022T183000
DTEND;TZID=UTC:20291022T193000
DTSTAMP:20260421T103105
CREATED:20260209T105426Z
LAST-MODIFIED:20260209T105426Z
UID:10038257-1887388200-1887391800@discovercrewe.co.uk
SUMMARY:Monday Night Board Games
DESCRIPTION:Join the Lizards Lair Gaming Co on Monday evenings for a chilled board game or two. \nStarting at 6.30pm\, it promises to be casual fun for all to get involved in\, a selection of games will be available in shop. \nFor more information please visit here. \nImage (The Lizards Lair Gaming Co)
URL:https://discovercrewe.co.uk/event/monday-night-board-games/2029-10-22/
LOCATION:Lizards Lair\, 22 Victoria Centre\, Crewe\, CW1 2PU\, United Kingdom
CATEGORIES:Lizards Lair,Town Centre
ATTACH;FMTTYPE=image/jpeg:https://discovercrewe.co.uk/wp-content/uploads/2026/02/Monday-Evening-Board-Games.jpg
END:VEVENT
BEGIN:VEVENT
DTSTART;TZID=UTC:20291029T183000
DTEND;TZID=UTC:20291029T193000
DTSTAMP:20260421T103105
CREATED:20260209T105426Z
LAST-MODIFIED:20260209T105426Z
UID:10038258-1887993000-1887996600@discovercrewe.co.uk
SUMMARY:Monday Night Board Games
DESCRIPTION:Join the Lizards Lair Gaming Co on Monday evenings for a chilled board game or two. \nStarting at 6.30pm\, it promises to be casual fun for all to get involved in\, a selection of games will be available in shop. \nFor more information please visit here. \nImage (The Lizards Lair Gaming Co)
URL:https://discovercrewe.co.uk/event/monday-night-board-games/2029-10-29/
LOCATION:Lizards Lair\, 22 Victoria Centre\, Crewe\, CW1 2PU\, United Kingdom
CATEGORIES:Lizards Lair,Town Centre
ATTACH;FMTTYPE=image/jpeg:https://discovercrewe.co.uk/wp-content/uploads/2026/02/Monday-Evening-Board-Games.jpg
END:VEVENT
BEGIN:VEVENT
DTSTART;TZID=UTC:20291105T183000
DTEND;TZID=UTC:20291105T193000
DTSTAMP:20260421T103105
CREATED:20260209T105426Z
LAST-MODIFIED:20260209T105426Z
UID:10038259-1888597800-1888601400@discovercrewe.co.uk
SUMMARY:Monday Night Board Games
DESCRIPTION:Join the Lizards Lair Gaming Co on Monday evenings for a chilled board game or two. \nStarting at 6.30pm\, it promises to be casual fun for all to get involved in\, a selection of games will be available in shop. \nFor more information please visit here. \nImage (The Lizards Lair Gaming Co)
URL:https://discovercrewe.co.uk/event/monday-night-board-games/2029-11-05/
LOCATION:Lizards Lair\, 22 Victoria Centre\, Crewe\, CW1 2PU\, United Kingdom
CATEGORIES:Lizards Lair,Town Centre
ATTACH;FMTTYPE=image/jpeg:https://discovercrewe.co.uk/wp-content/uploads/2026/02/Monday-Evening-Board-Games.jpg
END:VEVENT
BEGIN:VEVENT
DTSTART;TZID=UTC:20291112T183000
DTEND;TZID=UTC:20291112T193000
DTSTAMP:20260421T103105
CREATED:20260209T105426Z
LAST-MODIFIED:20260209T105426Z
UID:10038260-1889202600-1889206200@discovercrewe.co.uk
SUMMARY:Monday Night Board Games
DESCRIPTION:Join the Lizards Lair Gaming Co on Monday evenings for a chilled board game or two. \nStarting at 6.30pm\, it promises to be casual fun for all to get involved in\, a selection of games will be available in shop. \nFor more information please visit here. \nImage (The Lizards Lair Gaming Co)
URL:https://discovercrewe.co.uk/event/monday-night-board-games/2029-11-12/
LOCATION:Lizards Lair\, 22 Victoria Centre\, Crewe\, CW1 2PU\, United Kingdom
CATEGORIES:Lizards Lair,Town Centre
ATTACH;FMTTYPE=image/jpeg:https://discovercrewe.co.uk/wp-content/uploads/2026/02/Monday-Evening-Board-Games.jpg
END:VEVENT
BEGIN:VEVENT
DTSTART;TZID=UTC:20291119T183000
DTEND;TZID=UTC:20291119T193000
DTSTAMP:20260421T103105
CREATED:20260209T105426Z
LAST-MODIFIED:20260209T105426Z
UID:10038261-1889807400-1889811000@discovercrewe.co.uk
SUMMARY:Monday Night Board Games
DESCRIPTION:Join the Lizards Lair Gaming Co on Monday evenings for a chilled board game or two. \nStarting at 6.30pm\, it promises to be casual fun for all to get involved in\, a selection of games will be available in shop. \nFor more information please visit here. \nImage (The Lizards Lair Gaming Co)
URL:https://discovercrewe.co.uk/event/monday-night-board-games/2029-11-19/
LOCATION:Lizards Lair\, 22 Victoria Centre\, Crewe\, CW1 2PU\, United Kingdom
CATEGORIES:Lizards Lair,Town Centre
ATTACH;FMTTYPE=image/jpeg:https://discovercrewe.co.uk/wp-content/uploads/2026/02/Monday-Evening-Board-Games.jpg
END:VEVENT
BEGIN:VEVENT
DTSTART;TZID=UTC:20291126T183000
DTEND;TZID=UTC:20291126T193000
DTSTAMP:20260421T103105
CREATED:20260209T105426Z
LAST-MODIFIED:20260209T105426Z
UID:10038262-1890412200-1890415800@discovercrewe.co.uk
SUMMARY:Monday Night Board Games
DESCRIPTION:Join the Lizards Lair Gaming Co on Monday evenings for a chilled board game or two. \nStarting at 6.30pm\, it promises to be casual fun for all to get involved in\, a selection of games will be available in shop. \nFor more information please visit here. \nImage (The Lizards Lair Gaming Co)
URL:https://discovercrewe.co.uk/event/monday-night-board-games/2029-11-26/
LOCATION:Lizards Lair\, 22 Victoria Centre\, Crewe\, CW1 2PU\, United Kingdom
CATEGORIES:Lizards Lair,Town Centre
ATTACH;FMTTYPE=image/jpeg:https://discovercrewe.co.uk/wp-content/uploads/2026/02/Monday-Evening-Board-Games.jpg
END:VEVENT
BEGIN:VEVENT
DTSTART;TZID=UTC:20291203T183000
DTEND;TZID=UTC:20291203T193000
DTSTAMP:20260421T103105
CREATED:20260209T105426Z
LAST-MODIFIED:20260209T105426Z
UID:10038263-1891017000-1891020600@discovercrewe.co.uk
SUMMARY:Monday Night Board Games
DESCRIPTION:Join the Lizards Lair Gaming Co on Monday evenings for a chilled board game or two. \nStarting at 6.30pm\, it promises to be casual fun for all to get involved in\, a selection of games will be available in shop. \nFor more information please visit here. \nImage (The Lizards Lair Gaming Co)
URL:https://discovercrewe.co.uk/event/monday-night-board-games/2029-12-03/
LOCATION:Lizards Lair\, 22 Victoria Centre\, Crewe\, CW1 2PU\, United Kingdom
CATEGORIES:Lizards Lair,Town Centre
ATTACH;FMTTYPE=image/jpeg:https://discovercrewe.co.uk/wp-content/uploads/2026/02/Monday-Evening-Board-Games.jpg
END:VEVENT
BEGIN:VEVENT
DTSTART;TZID=UTC:20291210T183000
DTEND;TZID=UTC:20291210T193000
DTSTAMP:20260421T103105
CREATED:20260209T105426Z
LAST-MODIFIED:20260209T105426Z
UID:10038264-1891621800-1891625400@discovercrewe.co.uk
SUMMARY:Monday Night Board Games
DESCRIPTION:Join the Lizards Lair Gaming Co on Monday evenings for a chilled board game or two. \nStarting at 6.30pm\, it promises to be casual fun for all to get involved in\, a selection of games will be available in shop. \nFor more information please visit here. \nImage (The Lizards Lair Gaming Co)
URL:https://discovercrewe.co.uk/event/monday-night-board-games/2029-12-10/
LOCATION:Lizards Lair\, 22 Victoria Centre\, Crewe\, CW1 2PU\, United Kingdom
CATEGORIES:Lizards Lair,Town Centre
ATTACH;FMTTYPE=image/jpeg:https://discovercrewe.co.uk/wp-content/uploads/2026/02/Monday-Evening-Board-Games.jpg
END:VEVENT
BEGIN:VEVENT
DTSTART;TZID=UTC:20291217T183000
DTEND;TZID=UTC:20291217T193000
DTSTAMP:20260421T103105
CREATED:20260209T105426Z
LAST-MODIFIED:20260209T105426Z
UID:10038265-1892226600-1892230200@discovercrewe.co.uk
SUMMARY:Monday Night Board Games
DESCRIPTION:Join the Lizards Lair Gaming Co on Monday evenings for a chilled board game or two. \nStarting at 6.30pm\, it promises to be casual fun for all to get involved in\, a selection of games will be available in shop. \nFor more information please visit here. \nImage (The Lizards Lair Gaming Co)
URL:https://discovercrewe.co.uk/event/monday-night-board-games/2029-12-17/
LOCATION:Lizards Lair\, 22 Victoria Centre\, Crewe\, CW1 2PU\, United Kingdom
CATEGORIES:Lizards Lair,Town Centre
ATTACH;FMTTYPE=image/jpeg:https://discovercrewe.co.uk/wp-content/uploads/2026/02/Monday-Evening-Board-Games.jpg
END:VEVENT
BEGIN:VEVENT
DTSTART;TZID=UTC:20291224T183000
DTEND;TZID=UTC:20291224T193000
DTSTAMP:20260421T103105
CREATED:20260209T105426Z
LAST-MODIFIED:20260209T105426Z
UID:10038266-1892831400-1892835000@discovercrewe.co.uk
SUMMARY:Monday Night Board Games
DESCRIPTION:Join the Lizards Lair Gaming Co on Monday evenings for a chilled board game or two. \nStarting at 6.30pm\, it promises to be casual fun for all to get involved in\, a selection of games will be available in shop. \nFor more information please visit here. \nImage (The Lizards Lair Gaming Co)
URL:https://discovercrewe.co.uk/event/monday-night-board-games/2029-12-24/
LOCATION:Lizards Lair\, 22 Victoria Centre\, Crewe\, CW1 2PU\, United Kingdom
CATEGORIES:Lizards Lair,Town Centre
ATTACH;FMTTYPE=image/jpeg:https://discovercrewe.co.uk/wp-content/uploads/2026/02/Monday-Evening-Board-Games.jpg
END:VEVENT
END:VCALENDAR