BEGIN:VCALENDAR
VERSION:2.0
PRODID:-//Discover Crewe - ECPv6.15.15//NONSGML v1.0//EN
CALSCALE:GREGORIAN
METHOD:PUBLISH
X-ORIGINAL-URL:https://discovercrewe.co.uk
X-WR-CALDESC:Events for Discover Crewe
REFRESH-INTERVAL;VALUE=DURATION:PT1H
X-Robots-Tag:noindex
X-PUBLISHED-TTL:PT1H
BEGIN:VTIMEZONE
TZID:UTC
BEGIN:STANDARD
TZOFFSETFROM:+0000
TZOFFSETTO:+0000
TZNAME:UTC
DTSTART:20240101T000000
END:STANDARD
END:VTIMEZONE
BEGIN:VEVENT
DTSTART;TZID=UTC:20250504T103000
DTEND;TZID=UTC:20250504T160000
DTSTAMP:20260420T150431
CREATED:20250410T122719Z
LAST-MODIFIED:20250506T204941Z
UID:10016478-1746354600-1746374400@discovercrewe.co.uk
SUMMARY:Hit The North Record Fair
DESCRIPTION:Hit The North Record Fair – Vinyl Lovers Unite at Crewe Market Hall! \nCalling all music collectors\, vinyl enthusiasts\, and crate diggers – the Hit The North Record Fair is back at Crewe Market Hall! Whether you’re searching for rare collectables\, nostalgic classics\, or brand-new releases\, this event is a must-visit for anyone passionate about music. \nExpect a huge selection of traders selling quality new and preloved vinyl\, covering everything from rock and soul to jazz\, indie\, and electronic. Whether you’re hunting for a hidden gem or expanding your collection\, there’s something for every taste. \nThe event kicks off at 10:30 AM and runs until 4 PM\, so arrive early to browse the best finds and soak up the atmosphere. With great food and drink options available at Crewe Market Hall\, you can make a day of it while enjoying the buzz of the record fair. \nDon’t miss out – come and celebrate the magic of vinyl at Hit The North Record Fair! \nCost: As Many vinyl records as you can afford / your partner will allow you to buy
URL:https://discovercrewe.co.uk/event/hit-the-north-record-fair/
LOCATION:Crewe Market Hall\, Crewe Market Hall\, 27 Earle Street\, Crewe\, Cheshire\, CW1 2BL
CATEGORIES:Events,Market Hall,Town Centre
ATTACH;FMTTYPE=image/jpeg:https://discovercrewe.co.uk/wp-content/uploads/2025/04/hit-the-north-record-fair-crewe.jpg
END:VEVENT
BEGIN:VEVENT
DTSTART;TZID=UTC:20250502T193000
DTEND;TZID=UTC:20250502T213000
DTSTAMP:20260420T150431
CREATED:20250410T123020Z
LAST-MODIFIED:20250506T204957Z
UID:10016480-1746214200-1746221400@discovercrewe.co.uk
SUMMARY:Menopause The Musical 2
DESCRIPTION:Menopause The Musical 2 – Cruising Through Menopause at Crewe Lyceum \nGet ready for laughs\, music\, and a night of pure entertainment as Menopause The Musical 2 – Cruising Through Menopause arrives at Crewe Lyceum Theatre on Friday\, 2nd May 2025! \nThis hilarious sequel to the smash-hit Menopause The Musical® reunites four unforgettable characters as they embark on a high-seas adventure\, navigating the ups and downs of life\, love\, and friendship. Expect hot flushes\, mood swings\, memory lapses\, and plenty of feel-good moments\, all set to a soundtrack of parodied hits that will have you singing along. \nStarring Carli Norris (Doctors\, Hollyoaks\, EastEnders)\, Maureen Nolan (The Nolans)\, Rebecca Wheatley (Casualty)\, and Daniele Coombe (West End Star)\, this final UK tour promises an evening of laughter\, relatability\, and uplifting fun. \nRecommended for ages 16+\, this show is a celebration of life\, friendship\, and embracing every stage with humour and heart. \nDon’t miss out – book your tickets now for a night of joy\, music\, and menopause magic at Crewe Lyceum!
URL:https://discovercrewe.co.uk/event/menopause-the-musical-2/
LOCATION:Lyceum Theatre\, Lyceum Theatre\, Heath Street\, Crewe\, Cheshire\, CW1 2DA\, United Kingdom
CATEGORIES:Events,Market Hall,Town Centre
ATTACH;FMTTYPE=image/jpeg:https://discovercrewe.co.uk/wp-content/uploads/2025/04/Menopause-The-Musical-2.jpg
END:VEVENT
END:VCALENDAR