BEGIN:VCALENDAR
VERSION:2.0
PRODID:-//Discover Crewe - ECPv6.15.15//NONSGML v1.0//EN
CALSCALE:GREGORIAN
METHOD:PUBLISH
X-ORIGINAL-URL:https://discovercrewe.co.uk
X-WR-CALDESC:Events for Discover Crewe
REFRESH-INTERVAL;VALUE=DURATION:PT1H
X-Robots-Tag:noindex
X-PUBLISHED-TTL:PT1H
BEGIN:VTIMEZONE
TZID:UTC
BEGIN:STANDARD
TZOFFSETFROM:+0000
TZOFFSETTO:+0000
TZNAME:UTC
DTSTART:20250101T000000
END:STANDARD
END:VTIMEZONE
BEGIN:VEVENT
DTSTART;TZID=UTC:20260504T140000
DTEND;TZID=UTC:20260504T160000
DTSTAMP:20260423T095415
CREATED:20251010T153159Z
LAST-MODIFIED:20251010T153233Z
UID:10032149-1777903200-1777910400@discovercrewe.co.uk
SUMMARY:Creative HeARTs
DESCRIPTION:As part of their weekly schedule of activities\, Crewe Library host a creative heARTs session on a Monday. \nFrom 2pm to 4pm\, a relaxed and informal adult art group meet to dabble in painting\, drawing and colouring. \nMembers work includes watercolour and acrylic painting\, sketching\, mixed media and colouring. They can bring their own project or use the library’s range of paints and materials to create something new. \nLight refreshments are provided and any donations towards the cost of these are welcome\, but not required. \nThe sessions are drop in and free of charge. \nFor more information on all of the Crewe Library groups visit here.
URL:https://discovercrewe.co.uk/event/creative-hearts/2026-05-04/
LOCATION:Crewe Library\, Lifestyle Centre\, Moss Square\, Crewe\, CW1 2BB
CATEGORIES:Events,Library,Town Centre
ATTACH;FMTTYPE=image/jpeg:https://discovercrewe.co.uk/wp-content/uploads/2025/10/Photo-09-08-2025-12-18-12-scaled.jpg
END:VEVENT
BEGIN:VEVENT
DTSTART;TZID=UTC:20260504T183000
DTEND;TZID=UTC:20260504T193000
DTSTAMP:20260423T095415
CREATED:20260209T105426Z
LAST-MODIFIED:20260209T105426Z
UID:10038076-1777919400-1777923000@discovercrewe.co.uk
SUMMARY:Monday Night Board Games
DESCRIPTION:Join the Lizards Lair Gaming Co on Monday evenings for a chilled board game or two. \nStarting at 6.30pm\, it promises to be casual fun for all to get involved in\, a selection of games will be available in shop. \nFor more information please visit here. \nImage (The Lizards Lair Gaming Co)
URL:https://discovercrewe.co.uk/event/monday-night-board-games/2026-05-04/
LOCATION:Lizards Lair\, 22 Victoria Centre\, Crewe\, CW1 2PU\, United Kingdom
CATEGORIES:Lizards Lair,Town Centre
ATTACH;FMTTYPE=image/jpeg:https://discovercrewe.co.uk/wp-content/uploads/2026/02/Monday-Evening-Board-Games.jpg
END:VEVENT
BEGIN:VEVENT
DTSTART;TZID=UTC:20260512T110000
DTEND;TZID=UTC:20260512T120000
DTSTAMP:20260423T095415
CREATED:20250721T100247Z
LAST-MODIFIED:20250909T123303Z
UID:10023238-1778583600-1778587200@discovercrewe.co.uk
SUMMARY:Sling Library & Coffee Morning
DESCRIPTION:Expert sling fit checks to make sure parents carriers fit just right. \nOn the second Tuesday of every month\, Newbie & Me Baby Store in Crewe host a Sling Library & Coffee Morning. \nIn collaboration with the birth doula and antenatal & hypnobirthing educator\, Jade Lawrence\, these drop in sessions offer a welcoming space for parents to drop-in and meet other parents. \nParticipants will get an expert sling fit check\, with a variety of slings and carriers to try on to find the perfect fit for each person. Babywearing and feeding advice will be available with a relaxed and judgment free environment. \nAll slings and carriers will be on sale on the day for anyone who falls in love with their options.
URL:https://discovercrewe.co.uk/event/sling-library-coffee-morning/2026-05-12/
LOCATION:Newbie and Me Baby Store\, Longford Works\, Hope St\,\, Crewe\, CW2 7DR
CATEGORIES:Events,Nantwich Road,Shopping
ATTACH;FMTTYPE=image/jpeg:https://discovercrewe.co.uk/wp-content/uploads/2025/07/4E17606E-AD3D-4E4E-B2A2-238C07617246-1-scaled-e1753088049813.jpg
END:VEVENT
BEGIN:VEVENT
DTSTART;TZID=UTC:20260512T160000
DTEND;TZID=UTC:20260512T170000
DTSTAMP:20260423T095415
CREATED:20250721T150942Z
LAST-MODIFIED:20250721T151442Z
UID:10023926-1778601600-1778605200@discovercrewe.co.uk
SUMMARY:LEGO Building Club
DESCRIPTION:Fun\, themed\, LEGO building sessions for all ages. \nCrewe Library hosts these sessions with a huge selection of bricks and accessories\, plus Duplo for the little ones. \nNo bookings are required and there is no charge. They are available for all children but they must be accompanied by an adult. \nEvery other Tuesday from 4pm – 5pm. \nImage (Crewe Town Council)
URL:https://discovercrewe.co.uk/event/lego-building-club-2/2026-05-12/
LOCATION:Crewe Library\, Lifestyle Centre\, Moss Square\, Crewe\, CW1 2BB
CATEGORIES:Events,Family Attractions,Town Centre
ATTACH;FMTTYPE=image/jpeg:https://discovercrewe.co.uk/wp-content/uploads/2025/07/LEGO-Building-e1753110948289.jpg
END:VEVENT
BEGIN:VEVENT
DTSTART;TZID=UTC:20260515T080000
DTEND;TZID=UTC:20260515T170000
DTSTAMP:20260423T095415
CREATED:20251015T112211Z
LAST-MODIFIED:20251015T115507Z
UID:10032666-1778832000-1778864400@discovercrewe.co.uk
SUMMARY:Family History Group
DESCRIPTION:On every third Friday of each month\, Crewe Library hosts a family history group from 2pm to 4pm. \nThe sessions are free for adults to drop in to gain help and encouragements with researching their family history. Join a friendly and supporting group of likeminded people monthly to find out more about your past. \nThe local studies librarian will be on hand to offer advice and the library computers and other resources are available for free. \nLight refreshments are also on offer. \nTo find out more information and to see the full list of Crewe Library activities visit here.
URL:https://discovercrewe.co.uk/event/family-history-group/2026-05-15/
LOCATION:Crewe Library\, Lifestyle Centre\, Moss Square\, Crewe\, CW1 2BB
CATEGORIES:Events,Heritage,Town Centre
ATTACH;FMTTYPE=image/jpeg:https://discovercrewe.co.uk/wp-content/uploads/2025/10/Photo-09-08-2025-12-20-48-scaled-e1760529294236.jpg
END:VEVENT
BEGIN:VEVENT
DTSTART;TZID=UTC:20260515T190000
DTEND;TZID=UTC:20260515T200000
DTSTAMP:20260423T095415
CREATED:20260420T101306Z
LAST-MODIFIED:20260420T101306Z
UID:10042124-1778871600-1778875200@discovercrewe.co.uk
SUMMARY:Wrong Jovi\, Bon Jovi Tribute Night
DESCRIPTION:Wrong Jovi are bringing the hits\, the hair\, and the energy of Bon Jovi to The Arena Crewe on Friday 15 May. \nFrom ‘Livin’ on a Prayer’ to ‘Always’ they will be covering all the best music from the band. \nDate & time = Friday 15 May at 7pm \nTicket price = £12 ADV £15 OTD \nFor more information visit here. \nImage (The Arena)
URL:https://discovercrewe.co.uk/event/wrong-jovi-bon-jovi-tribute-night/
LOCATION:The Arena Crewe\, 39 High Street\, Crewe\, CW2 7BL\, United Kingdom
CATEGORIES:Live Music,The Arena,Town Centre
ATTACH;FMTTYPE=image/png:https://discovercrewe.co.uk/wp-content/uploads/2026/04/Screenshot-2026-04-20-110438.png
END:VEVENT
BEGIN:VEVENT
DTSTART;TZID=UTC:20260516T210000
DTEND;TZID=UTC:20260517T010000
DTSTAMP:20260423T095415
CREATED:20260407T152900Z
LAST-MODIFIED:20260407T152900Z
UID:10042120-1778965200-1778979600@discovercrewe.co.uk
SUMMARY:The Lads From Macc
DESCRIPTION:On Saturday 16 May\, The Cheese Hall will have The Lads From Macc performing from 9pm. \nThey will put on a tribute to Macclesfield legends ‘The Macc Lads’\, so get in early to secure a front row seat. \nFor more information and updates check out The Cheese Hall’s Facebook here. \nImage (The Cheese Hall & The Lads From Macc)
URL:https://discovercrewe.co.uk/event/the-lads-from-macc/
LOCATION:The Cheese Hall\, 15 Earle Street\, Crewe\, CW1 2BS\, United Kingdom
CATEGORIES:Live Music,Town Centre
ATTACH;FMTTYPE=image/png:https://discovercrewe.co.uk/wp-content/uploads/2026/04/Screenshot-2026-04-07-162502.png
END:VEVENT
BEGIN:VEVENT
DTSTART;TZID=UTC:20260519T173000
DTEND;TZID=UTC:20260519T190000
DTSTAMP:20260423T095415
CREATED:20260316T105513Z
LAST-MODIFIED:20260316T105513Z
UID:10041334-1779211800-1779217200@discovercrewe.co.uk
SUMMARY:Creative Writers
DESCRIPTION:Creative Writers \nNew members are welcome to this informal and friendly group who meet on every second Tuesday of the month. \nThere are monthly themes to inspire you to write\, or you can bring along whatever you are working on to the drop in sessions and gain feedback from other members. \nMembership is £1 per session to help cover the cost of light refreshments. \nTime: 5:30pm – 7pm \nImage (Crewe Library)
URL:https://discovercrewe.co.uk/event/creative-writers-2/2026-05-19/
LOCATION:Crewe Library\, Lifestyle Centre\, Moss Square\, Crewe\, CW1 2BB
CATEGORIES:Events,Library,Town Centre
ATTACH;FMTTYPE=image/jpeg:https://discovercrewe.co.uk/wp-content/uploads/2025/06/crewe-library.jpg
END:VEVENT
BEGIN:VEVENT
DTSTART;TZID=UTC:20260522T190000
DTEND;TZID=UTC:20260522T210000
DTSTAMP:20260423T095415
CREATED:20260420T102337Z
LAST-MODIFIED:20260420T102337Z
UID:10042125-1779476400-1779483600@discovercrewe.co.uk
SUMMARY:Dan Budd as Robbie Williams and Jon Fisher as Gary Barlow
DESCRIPTION:For all Take That fans\, Gary Barlow and Robbie Williams are reuniting at The Arena Crewe for a tribute night from Jon Fisher and Dan Budd. \nListen to all the hits and vocals in Gary & Robbie Live in Concert on Friday 22 May at 7pm. \nDate & time = Friday 22 May at 7pm \nTicket price = £15 \nFor more information visit here. \nImage (The Arena)
URL:https://discovercrewe.co.uk/event/dan-budd-as-robbie-williams-and-jon-fisher-as-gary-barlow/
LOCATION:The Arena Crewe\, 39 High Street\, Crewe\, CW2 7BL\, United Kingdom
CATEGORIES:Live Music,The Arena,Town Centre
ATTACH;FMTTYPE=image/png:https://discovercrewe.co.uk/wp-content/uploads/2026/04/Screenshot-2026-04-20-111534.png
END:VEVENT
BEGIN:VEVENT
DTSTART;VALUE=DATE:20260524
DTEND;VALUE=DATE:20260525
DTSTAMP:20260423T095415
CREATED:20251208T130635Z
LAST-MODIFIED:20260416T104134Z
UID:10037944-1779580800-1779667199@discovercrewe.co.uk
SUMMARY:Crewe Krazy Races
DESCRIPTION:For an adrenaline-filled day\, Krazy Races is returning to Crewe on Sunday\, May 24th for 2026. \nTeams will race downhill from Ford Lane\, taking on tight turns and speeding towards the finish line in front of up to 20’000 cheering spectators. \nThere will also be an event village at Brooklands that will be packed with local food\, family entertainment and a giant screen so all can spectate the intense competition. \nLocal businesses\, sponsors and charities are all invited to be a part of this unforgettable event and celebrate the very best of Crewe. \nThe brave amateur teams will compete for best performance\, best design and fastest kart with the top 10 racing head-to-head in a knockout finale to claim the winner’s trophy. \nFor more information please visit here. \nImage (Crewe Town Council)
URL:https://discovercrewe.co.uk/event/crewe-krazy-races-2/
LOCATION:Badger Park\, Badger Park\, Crewe\, Cheshire\, CW1 3JJ\, United Kingdom
CATEGORIES:Events,Sport,Town Centre
ATTACH;FMTTYPE=image/jpeg:https://discovercrewe.co.uk/wp-content/uploads/2025/09/Crewe-Krazy-Races-image-1-Peter-Robinson.jpg
END:VEVENT
BEGIN:VEVENT
DTSTART;TZID=UTC:20260603T120000
DTEND;TZID=UTC:20260603T133000
DTSTAMP:20260423T095415
CREATED:20260323T164521Z
LAST-MODIFIED:20260323T164521Z
UID:10041984-1780488000-1780493400@discovercrewe.co.uk
SUMMARY:Crewe Care Community Hub Crewe Market Hall
DESCRIPTION:On Wednesday 3 June\, Crewe Care Community Hub is back at Crewe Market Hall. \nOffering information\, friendly advice and support to all from 12pm until 1.30pm. \nFor more information visit here.
URL:https://discovercrewe.co.uk/event/crewe-care-community-hub-crewe-market-hall-2/
LOCATION:Crewe Market Hall\, Crewe Market Hall\, 27 Earle Street\, Crewe\, Cheshire\, CW1 2BL
CATEGORIES:Charity,Events,Town Centre
ATTACH;FMTTYPE=image/jpeg:https://discovercrewe.co.uk/wp-content/uploads/2025/06/Crewe-Market-Hall-scaled.jpg
END:VEVENT
BEGIN:VEVENT
DTSTART;VALUE=DATE:20260613
DTEND;VALUE=DATE:20260614
DTSTAMP:20260423T095415
CREATED:20260319T144305Z
LAST-MODIFIED:20260416T104545Z
UID:10041456-1781308800-1781395199@discovercrewe.co.uk
SUMMARY:Crewe Pride 2026
DESCRIPTION:This year\, Crewe Pride will return on Saturday 13 June 2026. \nIt promises to be their biggest celebration yet\, bringing the community together for a day of colour\, music\, performance and visibility. \nIt will be a day to celebrate LGBTQ+ lives across Cheshire and beyond. \nCrewe Pride are inviting sponsors\, stallholders and community supporters to be part of the day. Supporting helps create a welcoming event for everyone while showing clear commitment to equality\, inclusion and community pride. \nGet involved by becoming a Pride sponsor and support the event\, book a stall for an organisation\, group or business\, volunteer or support behind the scenes and help spread the word. \nFor more information and to get involved visit here.
URL:https://discovercrewe.co.uk/event/crewe-pride-2026-2/
LOCATION:Lyceum Square\, Lyceum Square\, Crewe\, Cheshire\, CW1 2DA\, United Kingdom
CATEGORIES:Events,Lyceum Square,Town Centre
ATTACH;FMTTYPE=image/jpeg:https://discovercrewe.co.uk/wp-content/uploads/2026/03/VEM00439-scaled.jpg
END:VEVENT
BEGIN:VEVENT
DTSTART;TZID=UTC:20260630T160000
DTEND;TZID=UTC:20260630T170000
DTSTAMP:20260423T095415
CREATED:20250721T150824Z
LAST-MODIFIED:20251023T092421Z
UID:10023879-1782835200-1782838800@discovercrewe.co.uk
SUMMARY:LEGO Building Club
DESCRIPTION:Fun\, themed\, LEGO building sessions for all ages. \nCrewe Library hosts these sessions with a huge selection of bricks and accessories\, plus Duplo for the little ones. \nNo bookings are required and there is no charge. They are available for all children but they must be accompanied by an adult. \nEvery other Tuesday from 4pm – 5pm. \nImage (Crewe Town Council)
URL:https://discovercrewe.co.uk/event/lego-building-club/2026-06-30/
LOCATION:Crewe Library\, Lifestyle Centre\, Moss Square\, Crewe\, CW1 2BB
CATEGORIES:Events,Family Attractions,Town Centre
ATTACH;FMTTYPE=image/jpeg:https://discovercrewe.co.uk/wp-content/uploads/2025/07/LEGO-Building-e1753110948289.jpg
END:VEVENT
BEGIN:VEVENT
DTSTART;TZID=UTC:20261025T090000
DTEND;TZID=UTC:20261025T110000
DTSTAMP:20260423T095415
CREATED:20260309T124639Z
LAST-MODIFIED:20260309T124813Z
UID:10041330-1792918800-1792926000@discovercrewe.co.uk
SUMMARY:Crewe 10k Presented by Mornflake
DESCRIPTION:Join RunThrough North for the Crewe 10k presented by Mornflake on Sunday 25 October\, supporting YMCA Cheshire. \nStarting and finishing in Crewe town centre\, it will be a closed-road 10k featuring a fast\, flat course to chase a PB or take on a new challenge. \nThe event village will be based at the brand-new Royal Arcade\, which will set the stage for a race-day atmosphere and offers easy access for participants and spectators alike. \nDate & time = Sunday 25 October at 9am – 11am \nEntry fee = £32 \nFor more information and to sign up visit here. \nImage (Run Through)
URL:https://discovercrewe.co.uk/event/crewe-10k-presented-by-mornflake/
LOCATION:29 Queensway\, 29 Queensway\, Crewe\, CW1 2JG\, United Kingdom
CATEGORIES:Charity,Events,Town Centre
ATTACH;FMTTYPE=image/png:https://discovercrewe.co.uk/wp-content/uploads/2026/03/Screenshot-2026-03-09-124331.png
END:VEVENT
END:VCALENDAR