BEGIN:VCALENDAR
VERSION:2.0
PRODID:-//Discover Crewe - ECPv6.15.15//NONSGML v1.0//EN
CALSCALE:GREGORIAN
METHOD:PUBLISH
X-ORIGINAL-URL:https://discovercrewe.co.uk
X-WR-CALDESC:Events for Discover Crewe
REFRESH-INTERVAL;VALUE=DURATION:PT1H
X-Robots-Tag:noindex
X-PUBLISHED-TTL:PT1H
BEGIN:VTIMEZONE
TZID:UTC
BEGIN:STANDARD
TZOFFSETFROM:+0000
TZOFFSETTO:+0000
TZNAME:UTC
DTSTART:20250101T000000
END:STANDARD
END:VTIMEZONE
BEGIN:VEVENT
DTSTART;TZID=UTC:20260324T190000
DTEND;TZID=UTC:20260324T210000
DTSTAMP:20260420T005715
CREATED:20260304T125021Z
LAST-MODIFIED:20260304T125021Z
UID:10041318-1774378800-1774386000@discovercrewe.co.uk
SUMMARY:Lyceum Collective: Adult Theatre Company
DESCRIPTION:The Crewe Lyceum Theatre is launching a brand-new Adult Theatre Company\, open to individuals 18 and over. \nThis initiative is designed for adults of all stages in theatre to come together and explore the world on stage. \nAs part of the Lyceum Collective\, participants will collaborate to develop original work that could be performed at the Crewe Lyceum Theatre and showcased at small regional venues and festivals. \nMembers will have the opportunity to: \n\nDevise and develop original theatrical pieces\nWrite and workshop scripts\nExplore a wide range of performance and production techniques\nBuild confidence and refine stagecraft in a supportive\, professional setting\n\n  \nThe full term is ten to 12 weeks and costs a total of £120. \nThe next date is Tuesday\, March 24th from 7pm until 9pm. \nFor more information please visit here.
URL:https://discovercrewe.co.uk/event/lyceum-collective-adult-theatre-company/
LOCATION:Lyceum Theatre\, Lyceum Theatre\, Heath Street\, Crewe\, Cheshire\, CW1 2DA\, United Kingdom
CATEGORIES:Lyceum,Theatre,Town Centre
ATTACH;FMTTYPE=image/png:https://discovercrewe.co.uk/wp-content/uploads/2026/03/Screenshot-2026-03-04-124600.png
END:VEVENT
BEGIN:VEVENT
DTSTART;TZID=UTC:20260328T133000
DTEND;TZID=UTC:20260328T153000
DTSTAMP:20260420T005715
CREATED:20260304T130507Z
LAST-MODIFIED:20260304T130642Z
UID:10041319-1774704600-1774711800@discovercrewe.co.uk
SUMMARY:Musical Theatre Masterclass: Featuring Songs From Heathers
DESCRIPTION:Do you love the songs from Heathers? Join the Crewe Lyceum Theatre for a Musical Theatre Masterclass and learn the moves behind your favourite numbers. \nSing\, dance\, and act like a true Westerburg High star in this musical theatre workshop. \nThis class is suitable for all dance levels and ages 14 to 18 and will be held on Saturday\, March 28th from 1.30pm to 3.30pm. \nTickets are £15\, it is Crewe Lyceum Theatre’s belief that the arts are for everyone\, and that no young person should miss out due to financial constraints. For this reason\, they offer a small number of bursaries of up to 50% off fees so that anybody can take part. If you would like to apply for a bursary\, please get in touch at getinvolved@crewelyceum.co.uk. \nFor the session\, it is recommended to wear comfortable clothing suitable for a dance workshop\, including dance shoes or trainers. If anyone attends in crocs\, they won’t be able to take part. As well\, bring a bottle of water\, this can be topped up at the theatre. \nAhead of the workshop\, a registration form will be sent out. It will need to be completed to finish the booking. \nFor more information please visit here.
URL:https://discovercrewe.co.uk/event/musical-theatre-masterclass-featuring-songs-from-heathers/
LOCATION:Lyceum Theatre\, Lyceum Theatre\, Heath Street\, Crewe\, Cheshire\, CW1 2DA\, United Kingdom
CATEGORIES:Lyceum,Theatre,Town Centre
ATTACH;FMTTYPE=image/png:https://discovercrewe.co.uk/wp-content/uploads/2026/03/Screenshot-2026-03-04-130223-e1772629590821.png
END:VEVENT
BEGIN:VEVENT
DTSTART;TZID=UTC:20260401T100000
DTEND;TZID=UTC:20260401T130000
DTSTAMP:20260420T005715
CREATED:20260331T145136Z
LAST-MODIFIED:20260331T145226Z
UID:10042104-1775037600-1775048400@discovercrewe.co.uk
SUMMARY:Broadway Bootcamp: Songs From Wicked
DESCRIPTION:Step into the world of Oz with Crewe Lyceum\, on Wednesday 1 April\, for a magical workshop learning the moves and performance techniques behind the songs of Wicked. \nIt is suitable for all dance levels\, and ages 10 to 18. There is no step-free access to the Studio Theatre\, for any access requirements\, please contact the Box Office. \nTo ensure no one misses out due to financial constraints\, there are a small number of bursaries of up to 50% off fees. To apply for a bursary\, get in touch with getinvolved@crewelyceum.co.uk. \nTime = 10am to 1pm \nTicket price = £18 \nFor more information visit here. \nImage (Crewe Lyceum)
URL:https://discovercrewe.co.uk/event/broadway-bootcamp-songs-from-wicked/
LOCATION:Lyceum Theatre\, Lyceum Theatre\, Heath Street\, Crewe\, Cheshire\, CW1 2DA\, United Kingdom
CATEGORIES:Family Attractions,Lyceum,Theatre
ATTACH;FMTTYPE=image/png:https://discovercrewe.co.uk/wp-content/uploads/2026/03/Screenshot-2026-03-31-154849-e1774968737829.png
END:VEVENT
BEGIN:VEVENT
DTSTART;TZID=UTC:20260408T140000
DTEND;TZID=UTC:20260408T160000
DTSTAMP:20260420T005715
CREATED:20260304T170424Z
LAST-MODIFIED:20260304T170424Z
UID:10041328-1775656800-1775664000@discovercrewe.co.uk
SUMMARY:Robin Hood - The Greatest Easter Pantomime Adventure
DESCRIPTION:Starring the fabulous Fanny Galore as the glittering Spirit of Sherwood\, Easter panto favourites Ben Parsley\, Rob Stevens\, Terry Burns and Katherine Hickmott\, Robin Hood is coming to Crewe Lyceum Theatre. \nJoin Robin Hood and his band of Merry Folk as they outwit the wicked Sheriff of Rottingham\, save the townsfolk\, and help our hero win the hand of the fair Maid Marion. \nThis production will be coming to the stage on Wednesday\, April 8th at 2pm. \nTicket price = £26 \nFor more information visit here.
URL:https://discovercrewe.co.uk/event/robin-hood-the-greatest-easter-pantomime-adventure/
LOCATION:Lyceum Theatre\, Lyceum Theatre\, Heath Street\, Crewe\, Cheshire\, CW1 2DA\, United Kingdom
CATEGORIES:Easter,Lyceum,Theatre
ATTACH;FMTTYPE=image/png:https://discovercrewe.co.uk/wp-content/uploads/2026/03/robin-hood.png
END:VEVENT
BEGIN:VEVENT
DTSTART;TZID=UTC:20260426T183000
DTEND;TZID=UTC:20260428T210000
DTSTAMP:20260420T005715
CREATED:20260407T120458Z
LAST-MODIFIED:20260407T120458Z
UID:10042109-1777228200-1777410000@discovercrewe.co.uk
SUMMARY:National Theatre Connections 2026
DESCRIPTION:Connections is the National Theatre’s annual\, nationwide youth theatre festival. The programme is 30 years old and has a history of championing the talent of young people from across the UK. \nEvery year\, the National Theatre commissions new plays for young people to perform. The programme brings together some of the UK’s most exciting writers with the theatre-makers of tomorrow. \nThis year\, Crewe Lyceum Theatre will be a partner for it’s fifth year\, welcoming six companies from across the North West to perform on its historic Main Stage. \nPerformances may contain strong language\, sexual references\, and discussion of mental health. \nPerformances include: \nSunday 26 April = Senior Company presents Macbeth Macbeth Macbeth Macbeth Macbeth by Kirsty Housle \nThe Boaty Theatre Company presents The Animals by Sean Buckley. \nMonday 27 April = The Power Project presents Ride or Die by Florence Espeut-Nickless \nTuesday 28 April = Queens Park High School presents Wildfire Road by Eve Leigh \nThe Grange Young Company presents Macbeth Macbeth Macbeth Macbeth Macbeth by Kirsty Housle \nTicket price = from £6.50 \nAge restriction = 10+ \nFor more information visit here.
URL:https://discovercrewe.co.uk/event/national-theatre-connections-2026/
LOCATION:Lyceum Theatre\, Lyceum Theatre\, Heath Street\, Crewe\, Cheshire\, CW1 2DA\, United Kingdom
CATEGORIES:Lyceum,Theatre,Town Centre
ATTACH;FMTTYPE=image/png:https://discovercrewe.co.uk/wp-content/uploads/2026/04/Screenshot-2026-04-07-125616-e1775563551184.png
END:VEVENT
BEGIN:VEVENT
DTSTART;TZID=UTC:20260430T193000
DTEND;TZID=UTC:20260430T220000
DTSTAMP:20260420T005715
CREATED:20260407T130220Z
LAST-MODIFIED:20260407T130220Z
UID:10042110-1777577400-1777586400@discovercrewe.co.uk
SUMMARY:The Makings of a Murderer - The Undercover Detective
DESCRIPTION:Join Peter Bleksley\, a founding member of Scotland Yard’s undercover unit and former star of Channel 4’s Hunted\, as he lifts the lid on the most dangerous and hidden aspects of murder investigations. \nFrom the gritty realities of infiltrating criminal gangs to his own terrifying experience of becoming the target of a murder plot\, Peter shares the untold stories of the most high-stakes cases. \nFor over a decade\, Peter worked undercover\, posing as everything from drug dealers to contract killers. His double life gave him access to the darkest corners of humanity\, uncovering secrets that would save lives – but at the cost of his own safety. \nForced into witness protection by an FBI-uncovered assassination plot\, his career as a detective came to an abrupt end\, leaving him with chilling memories of murderers and the justice system that hunts them. \nPrepare for an unforgettable evening of true crime as Peter Bleksley reveals the harrowing reality behind solving murders and battling the criminal underworld. This is crime-fighting as you’ve never seen it before. \nDate & time = Thursday 30 April at 7.30pm \nTicket price = from £34.50 \nAge restriction = 18+ \nFor more information visit here.
URL:https://discovercrewe.co.uk/event/the-makings-of-a-murderer-the-undercover-detective/
LOCATION:Lyceum Theatre\, Lyceum Theatre\, Heath Street\, Crewe\, Cheshire\, CW1 2DA\, United Kingdom
CATEGORIES:Lyceum,Theatre,Town Centre
ATTACH;FMTTYPE=image/png:https://discovercrewe.co.uk/wp-content/uploads/2026/04/Screenshot-2026-04-07-135632.png
END:VEVENT
END:VCALENDAR