BEGIN:VCALENDAR
VERSION:2.0
PRODID:-//Discover Crewe - ECPv6.15.15//NONSGML v1.0//EN
CALSCALE:GREGORIAN
METHOD:PUBLISH
X-ORIGINAL-URL:https://discovercrewe.co.uk
X-WR-CALDESC:Events for Discover Crewe
REFRESH-INTERVAL;VALUE=DURATION:PT1H
X-Robots-Tag:noindex
X-PUBLISHED-TTL:PT1H
BEGIN:VTIMEZONE
TZID:UTC
BEGIN:STANDARD
TZOFFSETFROM:+0000
TZOFFSETTO:+0000
TZNAME:UTC
DTSTART:20240101T000000
END:STANDARD
END:VTIMEZONE
BEGIN:VEVENT
DTSTART;VALUE=DATE:20250723
DTEND;VALUE=DATE:20250830
DTSTAMP:20260421T023810
CREATED:20250506T211509Z
LAST-MODIFIED:20250801T121859Z
UID:10020521-1753228800-1756511999@discovercrewe.co.uk
SUMMARY:Summer School Holidays
DESCRIPTION:Crewe is packed with lots to do while the kids are off school\, with Crewe Town Council’s Summer Festival of Fun there is never short of an activity or event. \nSpread around the whole town\, there are activities in Crewe Library\, Wishing Well Children & Families hub\, Lyceum Square\, Crewe Creates\, Christ Church and across all parks. \nPlus\, there is the market shopping centre for a summer browse or head to Queens park for a wholesome picnic. Lyceum theatre has many shows to choose from or visit the heritage centre on its free open days. \nThe Lifestyle centre is keeping the kids active with their activity days and the end of the summer will be rounded out with Discover-Crewe-On-Sea. A pop up beach in Lyceum Square.
URL:https://discovercrewe.co.uk/event/summer-school-holidays/
LOCATION:Crewe\, CW1\, CW2\, United Kingdom
CATEGORIES:School Holidays
ATTACH;FMTTYPE=image/jpeg:https://discovercrewe.co.uk/wp-content/uploads/2025/05/school-holidays-discover-crewe.jpg
END:VEVENT
BEGIN:VEVENT
DTSTART;TZID=UTC:20250806T100000
DTEND;TZID=UTC:20250806T163000
DTSTAMP:20260421T023810
CREATED:20250616T143832Z
LAST-MODIFIED:20250623T090737Z
UID:10022251-1754474400-1754497800@discovercrewe.co.uk
SUMMARY:FREE Entry for Operation Summer
DESCRIPTION:FREE Entry for Operation Summer \nVisit the Crewe Heritage Centre for a fun family day out. \nOperation Summer on Wednesday 28th May is a free entry day for all visitors to celebrate the school holidays\, supported by Crewe Town Council. \nExplore the Crewe at War Exhibition\, Signal Boxes\, Model Railways\, Miniature Railway\, café\, shop and much more. \nTime: 10am-4.30pm (last entry at 3.30pm) \nFind out more here. \nImage (Crewe Heritage Centre)
URL:https://discovercrewe.co.uk/event/free-entry-for-operation-summer/2025-08-06/
LOCATION:Crewe Heritage Centre\, Vernon Way\, Crewe\, CW1 2DB\, United Kingdom
CATEGORIES:Experience,Family Attractions,School Holidays
ATTACH;FMTTYPE=image/jpeg:https://discovercrewe.co.uk/wp-content/uploads/2025/06/operation-summer.jpg
END:VEVENT
BEGIN:VEVENT
DTSTART;VALUE=DATE:20260328
DTEND;VALUE=DATE:20260413
DTSTAMP:20260421T023810
CREATED:20260319T150943Z
LAST-MODIFIED:20260325T115538Z
UID:10041457-1774656000-1776038399@discovercrewe.co.uk
SUMMARY:Spring Festival of Fun 2026
DESCRIPTION:From Saturday 28 March until Sunday 12 April\, Crewe Town Council is hosting their Spring Festival of Fun with free Easter holiday activities. \nThere will be lots of events to keep children entertained over the school break including crafts\, sports\, trails and exploring the Crewe Heritage Centre. The full schedule includes: \nSaturday 28 March: Family art drop in session at Platform. Easter trail at Queens Park. \nSunday 29 March: Junior ParkRun at Queens Park. \nMonday 30 March: Monday Funday & Interactive story & crafting at Crewe Library. Wishing Well Holiday Club at The Hub & Wishing Well Park Session at Leighton Brook. \nTuesday 31 March: Little Garden Chimes at Crewe Library. Wishing Well Holiday Club at The Hub & Wishing Well Park Session at McLaren St Park. \nWednesday 1 April: Crewe Heritage Centre free entry for all & spring crafts. Wishing Well Holiday Club at The Hub & Wishing Well Park Session at Leighton Brook. \nThursday 2 April: Nature workshops at Crewe Library. Wishing Well Holiday Club at The Hub & Wishing Well Park Session at McLaren St Park. \nFriday 3 April: Crewe Heritage Centre. \nSaturday 4 April: Family art picnic at Platform. \nSunday 5 April: Junior ParkRun at Queens Park and Crewe Heritage Centre. \nMonday 6 April: Crewe Heritage Centre. \nTuesday 7 April: Lego Building Club at Crewe Library. \nWednesday 8 April: Crewe Heritage Centre open & butterfly & moth workshop. \nThursday 9 April: Nature workshops at Crewe Library. \nFriday 10 April: Rhymetime & Chess Club at Crewe Library. \nSaturday 11 April: Crewe Heritage Centre. \nSunday 12 April: Crewe Heritage Centre. Junior ParkRun at Queens Park. \nTo stay up to date visit here.
URL:https://discovercrewe.co.uk/event/spring-festival-of-fun-2026/
LOCATION:Crewe\, CW1\, CW2\, United Kingdom
CATEGORIES:Easter,Family Attractions,School Holidays
ATTACH;FMTTYPE=image/jpeg:https://discovercrewe.co.uk/wp-content/uploads/2025/06/heritage-centre-2-scaled.jpg
END:VEVENT
END:VCALENDAR