BEGIN:VCALENDAR
VERSION:2.0
PRODID:-//Discover Crewe - ECPv6.15.15//NONSGML v1.0//EN
CALSCALE:GREGORIAN
METHOD:PUBLISH
X-ORIGINAL-URL:https://discovercrewe.co.uk
X-WR-CALDESC:Events for Discover Crewe
REFRESH-INTERVAL;VALUE=DURATION:PT1H
X-Robots-Tag:noindex
X-PUBLISHED-TTL:PT1H
BEGIN:VTIMEZONE
TZID:UTC
BEGIN:STANDARD
TZOFFSETFROM:+0000
TZOFFSETTO:+0000
TZNAME:UTC
DTSTART:20240101T000000
END:STANDARD
END:VTIMEZONE
BEGIN:VEVENT
DTSTART;TZID=UTC:20250910T100000
DTEND;TZID=UTC:20250910T163000
DTSTAMP:20260420T171550
CREATED:20250616T143832Z
LAST-MODIFIED:20250623T090737Z
UID:10022256-1757498400-1757521800@discovercrewe.co.uk
SUMMARY:FREE Entry for Operation Summer
DESCRIPTION:FREE Entry for Operation Summer \nVisit the Crewe Heritage Centre for a fun family day out. \nOperation Summer on Wednesday 28th May is a free entry day for all visitors to celebrate the school holidays\, supported by Crewe Town Council. \nExplore the Crewe at War Exhibition\, Signal Boxes\, Model Railways\, Miniature Railway\, café\, shop and much more. \nTime: 10am-4.30pm (last entry at 3.30pm) \nFind out more here. \nImage (Crewe Heritage Centre)
URL:https://discovercrewe.co.uk/event/free-entry-for-operation-summer/2025-09-10/
LOCATION:Crewe Heritage Centre\, Vernon Way\, Crewe\, CW1 2DB\, United Kingdom
CATEGORIES:Experience,Family Attractions,School Holidays
ATTACH;FMTTYPE=image/jpeg:https://discovercrewe.co.uk/wp-content/uploads/2025/06/operation-summer.jpg
END:VEVENT
END:VCALENDAR