BEGIN:VCALENDAR
VERSION:2.0
PRODID:-//Discover Crewe - ECPv6.15.15//NONSGML v1.0//EN
CALSCALE:GREGORIAN
METHOD:PUBLISH
X-ORIGINAL-URL:https://discovercrewe.co.uk
X-WR-CALDESC:Events for Discover Crewe
REFRESH-INTERVAL;VALUE=DURATION:PT1H
X-Robots-Tag:noindex
X-PUBLISHED-TTL:PT1H
BEGIN:VTIMEZONE
TZID:UTC
BEGIN:STANDARD
TZOFFSETFROM:+0000
TZOFFSETTO:+0000
TZNAME:UTC
DTSTART:20250101T000000
END:STANDARD
END:VTIMEZONE
BEGIN:VEVENT
DTSTART;TZID=UTC:20260203T100000
DTEND;TZID=UTC:20260214T180000
DTSTAMP:20260424T073316
CREATED:20260209T115003Z
LAST-MODIFIED:20260209T115003Z
UID:10040151-1770112800-1771092000@discovercrewe.co.uk
SUMMARY:Customer Appreciation Day
DESCRIPTION:Repair World Direct\, on Nantwich Road\, are stretching Customer Appreciation Day into a fortnight. \nAll customers can claim a free £5 screen protector or a £5 discount from one of the dearer ones until Saturday\, February 14th. \nFor more information please visit here.
URL:https://discovercrewe.co.uk/event/customer-appreciation-day/
LOCATION:Repairworld Direct\, 109a Nantwich Road\, Crewe\, CW2 6BA\, United Kingdom
CATEGORIES:Nantwich Road
ATTACH;FMTTYPE=image/jpeg:https://discovercrewe.co.uk/wp-content/uploads/2025/11/Crewe-BID-13-scaled.jpg
END:VEVENT
BEGIN:VEVENT
DTSTART;VALUE=DATE:20260209
DTEND;VALUE=DATE:20260216
DTSTAMP:20260424T073316
CREATED:20260204T143945Z
LAST-MODIFIED:20260204T144756Z
UID:10038060-1770595200-1771199999@discovercrewe.co.uk
SUMMARY:Valentine's Specials at Giovanni's
DESCRIPTION:In celebration of Valentine’s Day this February\, Gio’s Italian restaurant on Nantwich road has curated a special menu that is available all week. \nFrom Monday\, February 9th to Sunday\, February 15th try their new smash beef burger\, strawberry cheesecake\, Disaronno velvet espresso martini and much more. \nAs well\, pre order a bottle of champagne to mark the occasion when you book your table. \nTo see the full menu please visit here.
URL:https://discovercrewe.co.uk/event/valentines-specials-at-giovannis/
LOCATION:Giovanni’s\, 23-25 Nantwich Road\, Crewe\, CW26AF\, United Kingdom
CATEGORIES:Food & Drink,Nantwich Road,Valentine's Day
ATTACH;FMTTYPE=image/png:https://discovercrewe.co.uk/wp-content/uploads/2025/07/Gios.png
END:VEVENT
BEGIN:VEVENT
DTSTART;TZID=UTC:20260214T120000
DTEND;TZID=UTC:20260214T180000
DTSTAMP:20260424T073316
CREATED:20251128T163530Z
LAST-MODIFIED:20251128T163530Z
UID:10037423-1771070400-1771092000@discovercrewe.co.uk
SUMMARY:Bottomless Lunch
DESCRIPTION:Every Saturday\, Gio’s does bottomless lunch between 12pm and 6pm. \nThe 90 minute session includes one main chosen out of hot sandwiches\, calzones\, pasta and pizza. Alongside one side chosen from doughballs\, cheesy/garlic bread\, rocket & parmesan salad and rosemary and sea salt chips. \nPlus choose from three drinks packages to complete the deal: \n\nBeer & Prosecco\, Spritzers & Spirits is £35pp\nCocktails is £42pp\nFor all options it is £46pp\n\n  \nFor more information and to book online visit here.
URL:https://discovercrewe.co.uk/event/bottomless-lunch/2026-02-14/
LOCATION:Giovanni’s\, 23-25 Nantwich Road\, Crewe\, CW26AF\, United Kingdom
CATEGORIES:Events,Food & Drink,Nantwich Road
ATTACH;FMTTYPE=image/png:https://discovercrewe.co.uk/wp-content/uploads/2025/07/Gios.png
END:VEVENT
BEGIN:VEVENT
DTSTART;TZID=UTC:20260214T120000
DTEND;TZID=UTC:20260214T210000
DTSTAMP:20260424T073316
CREATED:20260119T142736Z
LAST-MODIFIED:20260202T165641Z
UID:10038053-1771070400-1771102800@discovercrewe.co.uk
SUMMARY:Valentine's Day Special at Chill & Thrill
DESCRIPTION:This Valentines Day\, Chill & Thrill is inviting you for a special evening with them in store. \nBook a table now and you can get a glass of prosecco each on the house\, plus a one hour free ticket to their coinless arcade. \nThere is limited availability so make sure to book on soon\, there is a £10 booking fee that will be deducted from the final bill. \nTime = 12pm – 9pm \nFor more information and to book tickets please visit here.
URL:https://discovercrewe.co.uk/event/valentines-day-special-at-chill-thrill/
LOCATION:Chill & Thrill\, 53-55 Nantwich Road\, Crewe\, CW2 6AW\, United Kingdom
CATEGORIES:Events,Food & Drink,Nantwich Road
ATTACH;FMTTYPE=image/png:https://discovercrewe.co.uk/wp-content/uploads/2025/07/Chill-Thrill-3.png
END:VEVENT
BEGIN:VEVENT
DTSTART;TZID=UTC:20260214T173000
DTEND;TZID=UTC:20260214T223000
DTSTAMP:20260424T073316
CREATED:20260204T153333Z
LAST-MODIFIED:20260204T153712Z
UID:10038062-1771090200-1771108200@discovercrewe.co.uk
SUMMARY:Valentine's Day with Thai Corner
DESCRIPTION:Book a Valentine’s Day meal with Thai Corner on Nantwich Road on Saturday\, February 14th. \nChoose from two set menu’s\, which are catered for 2 people\, to enjoy delicious starters and mains tailored for the day. \nThe Cupid Kiss set is £30.95 per person including a special valentine’s mixed platter to start and the mains are Thai chicken green curry\, duck tammarine\, stir-fried king prawn and chicken Singapore noodles all served with a choice of steamed jasmine rice\, egg fried rice or coconut rice. \nThe Roses set is £29.95 per person\, with the special mixed vegetarian platter to start. For mains there is the Thai red curry with tofu and vegetables\, stir fried tofu and aubergine\, stir-fried vegetables and phad Thai noodles with vegetables\, all served with either steamed jasmine rice\, egg fried rice or coconut rice. \nTo book a table call up the restaurant on 01270 500 008 or visit their website here.
URL:https://discovercrewe.co.uk/event/valentines-day-with-thai-corner/
LOCATION:Thai Corner\, 107 Nantwich Rd\, Crewe\, CW2 6AW\, United Kingdom
CATEGORIES:Food & Drink,Nantwich Road,Valentine's Day
ATTACH;FMTTYPE=image/jpeg:https://discovercrewe.co.uk/wp-content/uploads/2025/06/Thai-Corner-scaled.jpg
END:VEVENT
BEGIN:VEVENT
DTSTART;TZID=UTC:20260310T110000
DTEND;TZID=UTC:20260310T120000
DTSTAMP:20260424T073316
CREATED:20250721T100247Z
LAST-MODIFIED:20250909T123303Z
UID:10023236-1773140400-1773144000@discovercrewe.co.uk
SUMMARY:Sling Library & Coffee Morning
DESCRIPTION:Expert sling fit checks to make sure parents carriers fit just right. \nOn the second Tuesday of every month\, Newbie & Me Baby Store in Crewe host a Sling Library & Coffee Morning. \nIn collaboration with the birth doula and antenatal & hypnobirthing educator\, Jade Lawrence\, these drop in sessions offer a welcoming space for parents to drop-in and meet other parents. \nParticipants will get an expert sling fit check\, with a variety of slings and carriers to try on to find the perfect fit for each person. Babywearing and feeding advice will be available with a relaxed and judgment free environment. \nAll slings and carriers will be on sale on the day for anyone who falls in love with their options.
URL:https://discovercrewe.co.uk/event/sling-library-coffee-morning/2026-03-10/
LOCATION:Newbie and Me Baby Store\, Longford Works\, Hope St\,\, Crewe\, CW2 7DR
CATEGORIES:Events,Nantwich Road,Shopping
ATTACH;FMTTYPE=image/jpeg:https://discovercrewe.co.uk/wp-content/uploads/2025/07/4E17606E-AD3D-4E4E-B2A2-238C07617246-1-scaled-e1753088049813.jpg
END:VEVENT
BEGIN:VEVENT
DTSTART;TZID=UTC:20260315T120000
DTEND;TZID=UTC:20260315T220000
DTSTAMP:20260424T073316
CREATED:20260304T135819Z
LAST-MODIFIED:20260304T135819Z
UID:10041321-1773576000-1773612000@discovercrewe.co.uk
SUMMARY:Mother's Day Special at Chill & Thrill
DESCRIPTION:Make Mum feel special on Sunday\, March 15th and take her to Chill & Thrill on Nantwich Road. \nJoin them for a celebration where Mum receives a free glass of wine and guests can enjoy 20% off their total bill. \nTheir menu includes drinks\, burgers\, hotdogs\, chicken\, fries\, nachos\, onion rings\, shakes\, cookie dough\, waffles\, sundaes and more desserts. \nPlus they have a collection of entertaining arcade games for all the family to join in. \nTo book a table visit here. \nImage (Chill & Thrill)
URL:https://discovercrewe.co.uk/event/mothers-day-special-at-chill-thrill/
LOCATION:Chill & Thrill\, 53-55 Nantwich Road\, Crewe\, CW2 6AW\, United Kingdom
CATEGORIES:Food & Drink,Mother's Day,Nantwich Road
ATTACH;FMTTYPE=image/jpeg:https://discovercrewe.co.uk/wp-content/uploads/2026/03/chill-thrill-mothers-day-special.jpg
END:VEVENT
BEGIN:VEVENT
DTSTART;TZID=UTC:20260317T180000
DTEND;TZID=UTC:20260317T210000
DTSTAMP:20260424T073316
CREATED:20260310T105544Z
LAST-MODIFIED:20260310T105544Z
UID:10041332-1773770400-1773781200@discovercrewe.co.uk
SUMMARY:Nantwich Road Action Group Public Meeting
DESCRIPTION:On Tuesday 17 March\, Nantwich Road Action Group (NRAG) will be meeting at Cheshire College – South & West\, Campus\, Dane Bank Ave\, Crewe CW2 8AB. \nThe meeting will take place at 6pm and is an opportunity for NRAG members and the public to come together to discuss issues and activities around the area. \nFind out what is happening in your local area and be a part of making it a better place. \nFor more information on NRAG\, join their Facebook here.
URL:https://discovercrewe.co.uk/event/nantwich-road-action-group-public-meeting-2/
LOCATION:Cheshire College\, Cheshire College - South & West\, Campus\, Dane Bank Ave\, Crewe\, CW2 8AB\, United Kingdom
CATEGORIES:Nantwich Road,Service
ATTACH;FMTTYPE=image/png:https://discovercrewe.co.uk/wp-content/uploads/2025/07/Screenshot-2025-07-15-121226.png
END:VEVENT
END:VCALENDAR