BEGIN:VCALENDAR
VERSION:2.0
PRODID:-//Discover Crewe - ECPv6.15.15//NONSGML v1.0//EN
CALSCALE:GREGORIAN
METHOD:PUBLISH
X-ORIGINAL-URL:https://discovercrewe.co.uk
X-WR-CALDESC:Events for Discover Crewe
REFRESH-INTERVAL;VALUE=DURATION:PT1H
X-Robots-Tag:noindex
X-PUBLISHED-TTL:PT1H
BEGIN:VTIMEZONE
TZID:UTC
BEGIN:STANDARD
TZOFFSETFROM:+0000
TZOFFSETTO:+0000
TZNAME:UTC
DTSTART:20250101T000000
END:STANDARD
END:VTIMEZONE
BEGIN:VEVENT
DTSTART;VALUE=DATE:20260101
DTEND;VALUE=DATE:20260201
DTSTAMP:20260424T040803
CREATED:20260107T155855Z
LAST-MODIFIED:20260107T155855Z
UID:10038024-1767225600-1769903999@discovercrewe.co.uk
SUMMARY:15% off at Chill & Thrill
DESCRIPTION:This January\, use the code Jan15 when booking a table online with Chill & Thrill for 15% off your total bill. \nYou will also be in with a chance of winning a coinless arcade ticket for a whole month in their retro arcade full of entertaining games for you to play. \nChill & Thrill is located at 53-55 Nantwich Road\, and has menu full of delicious bites like burgers\, nachos\, chicken wings\, sundaes and many cocktails to go alongside. Plus lots of kid friendly drinks too. \nFor more updates on Chill & Thrill please visit here.
URL:https://discovercrewe.co.uk/event/15-off-at-chill-thrill/
LOCATION:Chill & Thrill\, 53-55 Nantwich Road\, Crewe\, CW2 6AW\, United Kingdom
CATEGORIES:Food & Drink,Nantwich Road
ATTACH;FMTTYPE=image/png:https://discovercrewe.co.uk/wp-content/uploads/2025/07/Chill-Thrill-2.png
END:VEVENT
BEGIN:VEVENT
DTSTART;TZID=UTC:20260103T120000
DTEND;TZID=UTC:20260103T180000
DTSTAMP:20260424T040803
CREATED:20251128T163530Z
LAST-MODIFIED:20251128T163530Z
UID:10037417-1767441600-1767463200@discovercrewe.co.uk
SUMMARY:Bottomless Lunch
DESCRIPTION:Every Saturday\, Gio’s does bottomless lunch between 12pm and 6pm. \nThe 90 minute session includes one main chosen out of hot sandwiches\, calzones\, pasta and pizza. Alongside one side chosen from doughballs\, cheesy/garlic bread\, rocket & parmesan salad and rosemary and sea salt chips. \nPlus choose from three drinks packages to complete the deal: \n\nBeer & Prosecco\, Spritzers & Spirits is £35pp\nCocktails is £42pp\nFor all options it is £46pp\n\n  \nFor more information and to book online visit here.
URL:https://discovercrewe.co.uk/event/bottomless-lunch/2026-01-03/
LOCATION:Giovanni’s\, 23-25 Nantwich Road\, Crewe\, CW26AF\, United Kingdom
CATEGORIES:Events,Food & Drink,Nantwich Road
ATTACH;FMTTYPE=image/png:https://discovercrewe.co.uk/wp-content/uploads/2025/07/Gios.png
END:VEVENT
BEGIN:VEVENT
DTSTART;TZID=UTC:20260107T131700
DTEND;TZID=UTC:20260107T131700
DTSTAMP:20260424T040803
CREATED:20260107T132020Z
LAST-MODIFIED:20260107T132144Z
UID:10038021-1767791820-1767791820@discovercrewe.co.uk
SUMMARY:Railway200 Inspiration
DESCRIPTION:As part of the national campaign Railway200\, celebrating 200 years of the modern railway\, their nationally acclaimed exhibition train called Inspiration is coming to Crewe Station. \nIt is completely free to visit and hosts a unique experience where visitors can go on a journey through the past\, present and future of rail – a British innovation that transformed the world. \nMore than 45\,000 people have visited on it’s 60-stop tour of Britain. Now it’s your chance\, when it comes to Crewe Station from Thursday\, January 15th until Monday\, January 19th. \nRead about railway firsts\, take part in engaging hands-on activities of science and engineering and uncover some of the hidden roles in rail. You may even find your next career. \nAlthough the event is free\, you need to book in advance to secure your visit. Opening times are from 10am to 5pm with the last entry at 4pm. \nTo find our more information and to book please visit here. \nImage (Railway200)
URL:https://discovercrewe.co.uk/event/railway200-inspiration/
LOCATION:Crewe Train Station\, Crewe Train Station\, Crewe\, CW1 6AA\, United Kingdom
CATEGORIES:Events,Family Attractions,Nantwich Road
ATTACH;FMTTYPE=image/jpeg:https://discovercrewe.co.uk/wp-content/uploads/2026/01/Railway-200-2.jpg
END:VEVENT
BEGIN:VEVENT
DTSTART;TZID=UTC:20260110T120000
DTEND;TZID=UTC:20260110T180000
DTSTAMP:20260424T040803
CREATED:20251128T163530Z
LAST-MODIFIED:20251128T163530Z
UID:10037418-1768046400-1768068000@discovercrewe.co.uk
SUMMARY:Bottomless Lunch
DESCRIPTION:Every Saturday\, Gio’s does bottomless lunch between 12pm and 6pm. \nThe 90 minute session includes one main chosen out of hot sandwiches\, calzones\, pasta and pizza. Alongside one side chosen from doughballs\, cheesy/garlic bread\, rocket & parmesan salad and rosemary and sea salt chips. \nPlus choose from three drinks packages to complete the deal: \n\nBeer & Prosecco\, Spritzers & Spirits is £35pp\nCocktails is £42pp\nFor all options it is £46pp\n\n  \nFor more information and to book online visit here.
URL:https://discovercrewe.co.uk/event/bottomless-lunch/2026-01-10/
LOCATION:Giovanni’s\, 23-25 Nantwich Road\, Crewe\, CW26AF\, United Kingdom
CATEGORIES:Events,Food & Drink,Nantwich Road
ATTACH;FMTTYPE=image/png:https://discovercrewe.co.uk/wp-content/uploads/2025/07/Gios.png
END:VEVENT
BEGIN:VEVENT
DTSTART;TZID=UTC:20260113T110000
DTEND;TZID=UTC:20260113T120000
DTSTAMP:20260424T040803
CREATED:20250721T100247Z
LAST-MODIFIED:20250909T123303Z
UID:10023234-1768302000-1768305600@discovercrewe.co.uk
SUMMARY:Sling Library & Coffee Morning
DESCRIPTION:Expert sling fit checks to make sure parents carriers fit just right. \nOn the second Tuesday of every month\, Newbie & Me Baby Store in Crewe host a Sling Library & Coffee Morning. \nIn collaboration with the birth doula and antenatal & hypnobirthing educator\, Jade Lawrence\, these drop in sessions offer a welcoming space for parents to drop-in and meet other parents. \nParticipants will get an expert sling fit check\, with a variety of slings and carriers to try on to find the perfect fit for each person. Babywearing and feeding advice will be available with a relaxed and judgment free environment. \nAll slings and carriers will be on sale on the day for anyone who falls in love with their options.
URL:https://discovercrewe.co.uk/event/sling-library-coffee-morning/2026-01-13/
LOCATION:Newbie and Me Baby Store\, Longford Works\, Hope St\,\, Crewe\, CW2 7DR
CATEGORIES:Events,Nantwich Road,Shopping
ATTACH;FMTTYPE=image/jpeg:https://discovercrewe.co.uk/wp-content/uploads/2025/07/4E17606E-AD3D-4E4E-B2A2-238C07617246-1-scaled-e1753088049813.jpg
END:VEVENT
BEGIN:VEVENT
DTSTART;TZID=UTC:20260115T100000
DTEND;TZID=UTC:20260119T170000
DTSTAMP:20260424T040803
CREATED:20260107T132348Z
LAST-MODIFIED:20260107T132412Z
UID:10038022-1768471200-1768842000@discovercrewe.co.uk
SUMMARY:Railway200 Inspiration Exhibition Train
DESCRIPTION:As part of the national campaign Railway200\, celebrating 200 years of the modern railway\, their nationally acclaimed exhibition train called Inspiration is coming to Crewe Station. \nIt is completely free to visit and hosts a unique experience where visitors can go on a journey through the past\, present and future of rail – a British innovation that transformed the world. \nMore than 45\,000 people have visited on it’s 60-stop tour of Britain. Now it’s your chance\, when it comes to Crewe Station from Thursday\, January 15th until Monday\, January 19th. \nRead about railway firsts\, take part in engaging hands-on activities of science and engineering and uncover some of the hidden roles in rail. You may even find your next career. \nAlthough the event is free\, you need to book in advance to secure your visit. Opening times are from 10am to 5pm with the last entry at 4pm. \nTo find our more information and to book please visit here. \nImage (Railway200)
URL:https://discovercrewe.co.uk/event/railway200-inspiration-exhibition-train/
LOCATION:Crewe Train Station\, Crewe Train Station\, Crewe\, CW1 6AA\, United Kingdom
CATEGORIES:Events,Family Attractions,Nantwich Road
ATTACH;FMTTYPE=image/jpeg:https://discovercrewe.co.uk/wp-content/uploads/2026/01/Railway-200-2.jpg
END:VEVENT
BEGIN:VEVENT
DTSTART;TZID=UTC:20260117T120000
DTEND;TZID=UTC:20260117T180000
DTSTAMP:20260424T040803
CREATED:20251128T163530Z
LAST-MODIFIED:20251128T163530Z
UID:10037419-1768651200-1768672800@discovercrewe.co.uk
SUMMARY:Bottomless Lunch
DESCRIPTION:Every Saturday\, Gio’s does bottomless lunch between 12pm and 6pm. \nThe 90 minute session includes one main chosen out of hot sandwiches\, calzones\, pasta and pizza. Alongside one side chosen from doughballs\, cheesy/garlic bread\, rocket & parmesan salad and rosemary and sea salt chips. \nPlus choose from three drinks packages to complete the deal: \n\nBeer & Prosecco\, Spritzers & Spirits is £35pp\nCocktails is £42pp\nFor all options it is £46pp\n\n  \nFor more information and to book online visit here.
URL:https://discovercrewe.co.uk/event/bottomless-lunch/2026-01-17/
LOCATION:Giovanni’s\, 23-25 Nantwich Road\, Crewe\, CW26AF\, United Kingdom
CATEGORIES:Events,Food & Drink,Nantwich Road
ATTACH;FMTTYPE=image/png:https://discovercrewe.co.uk/wp-content/uploads/2025/07/Gios.png
END:VEVENT
BEGIN:VEVENT
DTSTART;TZID=UTC:20260124T120000
DTEND;TZID=UTC:20260124T180000
DTSTAMP:20260424T040803
CREATED:20251128T163530Z
LAST-MODIFIED:20251128T163530Z
UID:10037420-1769256000-1769277600@discovercrewe.co.uk
SUMMARY:Bottomless Lunch
DESCRIPTION:Every Saturday\, Gio’s does bottomless lunch between 12pm and 6pm. \nThe 90 minute session includes one main chosen out of hot sandwiches\, calzones\, pasta and pizza. Alongside one side chosen from doughballs\, cheesy/garlic bread\, rocket & parmesan salad and rosemary and sea salt chips. \nPlus choose from three drinks packages to complete the deal: \n\nBeer & Prosecco\, Spritzers & Spirits is £35pp\nCocktails is £42pp\nFor all options it is £46pp\n\n  \nFor more information and to book online visit here.
URL:https://discovercrewe.co.uk/event/bottomless-lunch/2026-01-24/
LOCATION:Giovanni’s\, 23-25 Nantwich Road\, Crewe\, CW26AF\, United Kingdom
CATEGORIES:Events,Food & Drink,Nantwich Road
ATTACH;FMTTYPE=image/png:https://discovercrewe.co.uk/wp-content/uploads/2025/07/Gios.png
END:VEVENT
BEGIN:VEVENT
DTSTART;TZID=UTC:20260131T120000
DTEND;TZID=UTC:20260131T180000
DTSTAMP:20260424T040803
CREATED:20251128T163530Z
LAST-MODIFIED:20251128T163530Z
UID:10037421-1769860800-1769882400@discovercrewe.co.uk
SUMMARY:Bottomless Lunch
DESCRIPTION:Every Saturday\, Gio’s does bottomless lunch between 12pm and 6pm. \nThe 90 minute session includes one main chosen out of hot sandwiches\, calzones\, pasta and pizza. Alongside one side chosen from doughballs\, cheesy/garlic bread\, rocket & parmesan salad and rosemary and sea salt chips. \nPlus choose from three drinks packages to complete the deal: \n\nBeer & Prosecco\, Spritzers & Spirits is £35pp\nCocktails is £42pp\nFor all options it is £46pp\n\n  \nFor more information and to book online visit here.
URL:https://discovercrewe.co.uk/event/bottomless-lunch/2026-01-31/
LOCATION:Giovanni’s\, 23-25 Nantwich Road\, Crewe\, CW26AF\, United Kingdom
CATEGORIES:Events,Food & Drink,Nantwich Road
ATTACH;FMTTYPE=image/png:https://discovercrewe.co.uk/wp-content/uploads/2025/07/Gios.png
END:VEVENT
END:VCALENDAR