BEGIN:VCALENDAR
VERSION:2.0
PRODID:-//Discover Crewe - ECPv6.15.15//NONSGML v1.0//EN
CALSCALE:GREGORIAN
METHOD:PUBLISH
X-ORIGINAL-URL:https://discovercrewe.co.uk
X-WR-CALDESC:Events for Discover Crewe
REFRESH-INTERVAL;VALUE=DURATION:PT1H
X-Robots-Tag:noindex
X-PUBLISHED-TTL:PT1H
BEGIN:VTIMEZONE
TZID:UTC
BEGIN:STANDARD
TZOFFSETFROM:+0000
TZOFFSETTO:+0000
TZNAME:UTC
DTSTART:20240101T000000
END:STANDARD
END:VTIMEZONE
BEGIN:VEVENT
DTSTART;VALUE=DATE:20251117
DTEND;VALUE=DATE:20251225
DTSTAMP:20260424T053952
CREATED:20251201T140421Z
LAST-MODIFIED:20251201T140421Z
UID:10037938-1763337600-1766620799@discovercrewe.co.uk
SUMMARY:FREE £5 Screen Protector Deal
DESCRIPTION:Repair World Crewe\, on Nantwich Road\, are giving away a FREE £5 screen protector with every Google review until Christmas. \nYou can either post your review at this link here\, or pop into the shop and tap to scan at the till. \nA free fitting is included with every screen protector. \nFor more information please visit here.
URL:https://discovercrewe.co.uk/event/free-5-screen-protector-deal/
LOCATION:Repairworld Direct\, 109a Nantwich Road\, Crewe\, CW2 6BA\, United Kingdom
CATEGORIES:Christmas,Nantwich Road,Service
ATTACH;FMTTYPE=image/jpeg:https://discovercrewe.co.uk/wp-content/uploads/2025/11/Crewe-BID-13-scaled.jpg
END:VEVENT
BEGIN:VEVENT
DTSTART;TZID=UTC:20251201T160000
DTEND;TZID=UTC:20251225T223000
DTSTAMP:20260424T053952
CREATED:20251128T103350Z
LAST-MODIFIED:20251128T103350Z
UID:10037411-1764604800-1766701800@discovercrewe.co.uk
SUMMARY:Gio's Christmas Menu
DESCRIPTION:From Monday\, December 1st enjoy a delicious menu filled with festive treats and seasonal flavours at Gio’s restaurant on Nantwich Road. \nThe full menu includes: \n\nHam Hoch and Pea Terrine\nWild Mushroom Arancini\nFig and Goat Cheese Bruschetta\nKing Prawn Cocktail\nPorchetta\nVeggie Festive Pizza\nMeaty Christmas Pizza\nButternut and Sage Risotto\nSalmon Fish Cake\nWinter Fruit Cobbler\nDark Chocolate Souffle\nFestive Panettone\nLotus Biscuit Cheesecake\nBlack Forest Gateau\n\n  \nFor more information and updates check out Gio’s Instagram here.
URL:https://discovercrewe.co.uk/event/gios-christmas-menu/
LOCATION:Giovanni’s\, 23-25 Nantwich Road\, Crewe\, CW26AF\, United Kingdom
CATEGORIES:Christmas,Food & Drink,Nantwich Road
ATTACH;FMTTYPE=image/png:https://discovercrewe.co.uk/wp-content/uploads/2025/07/Gios.png
END:VEVENT
BEGIN:VEVENT
DTSTART;TZID=UTC:20251206T120000
DTEND;TZID=UTC:20251206T180000
DTSTAMP:20260424T053952
CREATED:20251128T163530Z
LAST-MODIFIED:20251128T163530Z
UID:10037413-1765022400-1765044000@discovercrewe.co.uk
SUMMARY:Bottomless Lunch
DESCRIPTION:Every Saturday\, Gio’s does bottomless lunch between 12pm and 6pm. \nThe 90 minute session includes one main chosen out of hot sandwiches\, calzones\, pasta and pizza. Alongside one side chosen from doughballs\, cheesy/garlic bread\, rocket & parmesan salad and rosemary and sea salt chips. \nPlus choose from three drinks packages to complete the deal: \n\nBeer & Prosecco\, Spritzers & Spirits is £35pp\nCocktails is £42pp\nFor all options it is £46pp\n\n  \nFor more information and to book online visit here.
URL:https://discovercrewe.co.uk/event/bottomless-lunch/2025-12-06/
LOCATION:Giovanni’s\, 23-25 Nantwich Road\, Crewe\, CW26AF\, United Kingdom
CATEGORIES:Events,Food & Drink,Nantwich Road
ATTACH;FMTTYPE=image/png:https://discovercrewe.co.uk/wp-content/uploads/2025/07/Gios.png
END:VEVENT
BEGIN:VEVENT
DTSTART;TZID=UTC:20251209T110000
DTEND;TZID=UTC:20251209T120000
DTSTAMP:20260424T053952
CREATED:20250721T100247Z
LAST-MODIFIED:20250909T123303Z
UID:10023233-1765278000-1765281600@discovercrewe.co.uk
SUMMARY:Sling Library & Coffee Morning
DESCRIPTION:Expert sling fit checks to make sure parents carriers fit just right. \nOn the second Tuesday of every month\, Newbie & Me Baby Store in Crewe host a Sling Library & Coffee Morning. \nIn collaboration with the birth doula and antenatal & hypnobirthing educator\, Jade Lawrence\, these drop in sessions offer a welcoming space for parents to drop-in and meet other parents. \nParticipants will get an expert sling fit check\, with a variety of slings and carriers to try on to find the perfect fit for each person. Babywearing and feeding advice will be available with a relaxed and judgment free environment. \nAll slings and carriers will be on sale on the day for anyone who falls in love with their options.
URL:https://discovercrewe.co.uk/event/sling-library-coffee-morning/2025-12-09/
LOCATION:Newbie and Me Baby Store\, Longford Works\, Hope St\,\, Crewe\, CW2 7DR
CATEGORIES:Events,Nantwich Road,Shopping
ATTACH;FMTTYPE=image/jpeg:https://discovercrewe.co.uk/wp-content/uploads/2025/07/4E17606E-AD3D-4E4E-B2A2-238C07617246-1-scaled-e1753088049813.jpg
END:VEVENT
BEGIN:VEVENT
DTSTART;TZID=UTC:20251213T120000
DTEND;TZID=UTC:20251213T180000
DTSTAMP:20260424T053952
CREATED:20251128T163530Z
LAST-MODIFIED:20251128T163530Z
UID:10037414-1765627200-1765648800@discovercrewe.co.uk
SUMMARY:Bottomless Lunch
DESCRIPTION:Every Saturday\, Gio’s does bottomless lunch between 12pm and 6pm. \nThe 90 minute session includes one main chosen out of hot sandwiches\, calzones\, pasta and pizza. Alongside one side chosen from doughballs\, cheesy/garlic bread\, rocket & parmesan salad and rosemary and sea salt chips. \nPlus choose from three drinks packages to complete the deal: \n\nBeer & Prosecco\, Spritzers & Spirits is £35pp\nCocktails is £42pp\nFor all options it is £46pp\n\n  \nFor more information and to book online visit here.
URL:https://discovercrewe.co.uk/event/bottomless-lunch/2025-12-13/
LOCATION:Giovanni’s\, 23-25 Nantwich Road\, Crewe\, CW26AF\, United Kingdom
CATEGORIES:Events,Food & Drink,Nantwich Road
ATTACH;FMTTYPE=image/png:https://discovercrewe.co.uk/wp-content/uploads/2025/07/Gios.png
END:VEVENT
BEGIN:VEVENT
DTSTART;TZID=UTC:20251220T100000
DTEND;TZID=UTC:20251220T110000
DTSTAMP:20260424T053952
CREATED:20251120T162408Z
LAST-MODIFIED:20251217T131504Z
UID:10037407-1766224800-1766228400@discovercrewe.co.uk
SUMMARY:Father Christmas Visits Nantwich Road
DESCRIPTION:Have your Christmas wish list letters at the ready. \nThe Rotary Club of Crewe & Nantwich Weaver will escort Father Christmas and his elves along Nantwich Road around 10am on Saturday\, December 20th. \nThe event is organised by the Nantwich Road Action Group\, the Rotary Club of Crewe & Nantwich Weaver and sponsored by Crewe Business Improvement District.
URL:https://discovercrewe.co.uk/event/father-christmas-visits-nantwich-road/
LOCATION:Nantwich Road\, Nantwich Road\, Crewe\, CW2 6DF\, United Kingdom
CATEGORIES:Christmas,Family Attractions,Nantwich Road
ATTACH;FMTTYPE=image/jpeg:https://discovercrewe.co.uk/wp-content/uploads/2025/11/13.12.25-1.-NRAG-Christmas-Event-scaled-e1765894221288.jpg
END:VEVENT
BEGIN:VEVENT
DTSTART;TZID=UTC:20251220T120000
DTEND;TZID=UTC:20251220T180000
DTSTAMP:20260424T053952
CREATED:20251128T163530Z
LAST-MODIFIED:20251128T163530Z
UID:10037415-1766232000-1766253600@discovercrewe.co.uk
SUMMARY:Bottomless Lunch
DESCRIPTION:Every Saturday\, Gio’s does bottomless lunch between 12pm and 6pm. \nThe 90 minute session includes one main chosen out of hot sandwiches\, calzones\, pasta and pizza. Alongside one side chosen from doughballs\, cheesy/garlic bread\, rocket & parmesan salad and rosemary and sea salt chips. \nPlus choose from three drinks packages to complete the deal: \n\nBeer & Prosecco\, Spritzers & Spirits is £35pp\nCocktails is £42pp\nFor all options it is £46pp\n\n  \nFor more information and to book online visit here.
URL:https://discovercrewe.co.uk/event/bottomless-lunch/2025-12-20/
LOCATION:Giovanni’s\, 23-25 Nantwich Road\, Crewe\, CW26AF\, United Kingdom
CATEGORIES:Events,Food & Drink,Nantwich Road
ATTACH;FMTTYPE=image/png:https://discovercrewe.co.uk/wp-content/uploads/2025/07/Gios.png
END:VEVENT
BEGIN:VEVENT
DTSTART;TZID=UTC:20251227T120000
DTEND;TZID=UTC:20251227T180000
DTSTAMP:20260424T053952
CREATED:20251128T163530Z
LAST-MODIFIED:20251128T163530Z
UID:10037416-1766836800-1766858400@discovercrewe.co.uk
SUMMARY:Bottomless Lunch
DESCRIPTION:Every Saturday\, Gio’s does bottomless lunch between 12pm and 6pm. \nThe 90 minute session includes one main chosen out of hot sandwiches\, calzones\, pasta and pizza. Alongside one side chosen from doughballs\, cheesy/garlic bread\, rocket & parmesan salad and rosemary and sea salt chips. \nPlus choose from three drinks packages to complete the deal: \n\nBeer & Prosecco\, Spritzers & Spirits is £35pp\nCocktails is £42pp\nFor all options it is £46pp\n\n  \nFor more information and to book online visit here.
URL:https://discovercrewe.co.uk/event/bottomless-lunch/2025-12-27/
LOCATION:Giovanni’s\, 23-25 Nantwich Road\, Crewe\, CW26AF\, United Kingdom
CATEGORIES:Events,Food & Drink,Nantwich Road
ATTACH;FMTTYPE=image/png:https://discovercrewe.co.uk/wp-content/uploads/2025/07/Gios.png
END:VEVENT
END:VCALENDAR