BEGIN:VCALENDAR
VERSION:2.0
PRODID:-//Discover Crewe - ECPv6.15.15//NONSGML v1.0//EN
CALSCALE:GREGORIAN
METHOD:PUBLISH
X-WR-CALNAME:Discover Crewe
X-ORIGINAL-URL:https://discovercrewe.co.uk
X-WR-CALDESC:Events for Discover Crewe
REFRESH-INTERVAL;VALUE=DURATION:PT1H
X-Robots-Tag:noindex
X-PUBLISHED-TTL:PT1H
BEGIN:VTIMEZONE
TZID:UTC
BEGIN:STANDARD
TZOFFSETFROM:+0000
TZOFFSETTO:+0000
TZNAME:UTC
DTSTART:20240101T000000
END:STANDARD
END:VTIMEZONE
BEGIN:VEVENT
DTSTART;VALUE=DATE:20251018
DTEND;VALUE=DATE:20251102
DTSTAMP:20260424T071040
CREATED:20251003T093347Z
LAST-MODIFIED:20251023T092454Z
UID:10031823-1760745600-1762041599@discovercrewe.co.uk
SUMMARY:The Crewe Spooktacular Character Trail
DESCRIPTION:Take a treacherous journey through Nantwitch Road to find life-sized characters from comics and film in different businesses along the way. \nBusinesses involved include\, Domino’s\, Stephenson Browne\, Butter’s John Bee Estate Agents\, Repair World Direct\, United Carpets and Apparel. \nExplore the area to find life size statues of the likes of Superman\, Wonder Woman\, Spiderman\, Thor and Slimer. Take your picture with the super heroes\, share them on social media and tag @discovercrewe in your photo’s for a chance to win £100 to spend in any Crewe business. \nFollow the spooky map to guide you through the trail. \n \nFollow us on social media and sign up to our mailing list to keep updated. \nFor more information on all things Halloween in Crewe visit here.
URL:https://discovercrewe.co.uk/event/halloween-character-trail/
LOCATION:Nantwich Road\, Nantwich Road\, Crewe\, CW2 6DF\, United Kingdom
CATEGORIES:Events,Halloween,Nantwich Road
ATTACH;FMTTYPE=image/png:https://discovercrewe.co.uk/wp-content/uploads/2025/10/Screenshot-2025-10-03-103154.png
END:VEVENT
BEGIN:VEVENT
DTSTART;TZID=UTC:20251031T203000
DTEND;TZID=UTC:20251101T020000
DTSTAMP:20260424T071040
CREATED:20251007T121802Z
LAST-MODIFIED:20251007T121802Z
UID:10031839-1761942600-1761962400@discovercrewe.co.uk
SUMMARY:AC/DShe Halloween Party with Shio
DESCRIPTION:On Friday\, October 31st\, The Arena will be hosting the UK female fronted AC/DC tribute show\, AC/DShe\, in an incredible rock and roll show. \nTheir show includes the crushing riffs of ‘Back in Black’ to the fiery vocals of ‘Highway to Hell.’ Taking you on a nostalgic journey through rock history. \nThey will be supported by Shio\, covering the music of Ronnie James Dio from the early blues-rock of Elf\, through his run with Black Sabbath\, to his amazing solo era of Dio. \nIf you turn up in fancy dress\, you are guaranteed a free drink. \nTime = 7.30pm to 2pm \nTicket price = £10 \nFor more information and to book tickets visit here.
URL:https://discovercrewe.co.uk/event/ac-dshe-halloween-party-with-shio/
LOCATION:The Arena Crewe\, 39 High Street\, Crewe\, CW2 7BL\, United Kingdom
CATEGORIES:Events,Halloween,Nantwich Road
ATTACH;FMTTYPE=image/jpeg:https://discovercrewe.co.uk/wp-content/uploads/2025/10/AC-Dshe-and-shio-e1759839370204.jpg
END:VEVENT
BEGIN:VEVENT
DTSTART;TZID=UTC:20251111T110000
DTEND;TZID=UTC:20251111T120000
DTSTAMP:20260424T071040
CREATED:20250721T100247Z
LAST-MODIFIED:20250909T123303Z
UID:10023232-1762858800-1762862400@discovercrewe.co.uk
SUMMARY:Sling Library & Coffee Morning
DESCRIPTION:Expert sling fit checks to make sure parents carriers fit just right. \nOn the second Tuesday of every month\, Newbie & Me Baby Store in Crewe host a Sling Library & Coffee Morning. \nIn collaboration with the birth doula and antenatal & hypnobirthing educator\, Jade Lawrence\, these drop in sessions offer a welcoming space for parents to drop-in and meet other parents. \nParticipants will get an expert sling fit check\, with a variety of slings and carriers to try on to find the perfect fit for each person. Babywearing and feeding advice will be available with a relaxed and judgment free environment. \nAll slings and carriers will be on sale on the day for anyone who falls in love with their options.
URL:https://discovercrewe.co.uk/event/sling-library-coffee-morning/2025-11-11/
LOCATION:Newbie and Me Baby Store\, Longford Works\, Hope St\,\, Crewe\, CW2 7DR
CATEGORIES:Events,Nantwich Road,Shopping
ATTACH;FMTTYPE=image/jpeg:https://discovercrewe.co.uk/wp-content/uploads/2025/07/4E17606E-AD3D-4E4E-B2A2-238C07617246-1-scaled-e1753088049813.jpg
END:VEVENT
BEGIN:VEVENT
DTSTART;VALUE=DATE:20251117
DTEND;VALUE=DATE:20251225
DTSTAMP:20260424T071040
CREATED:20251201T140421Z
LAST-MODIFIED:20251201T140421Z
UID:10037938-1763337600-1766620799@discovercrewe.co.uk
SUMMARY:FREE £5 Screen Protector Deal
DESCRIPTION:Repair World Crewe\, on Nantwich Road\, are giving away a FREE £5 screen protector with every Google review until Christmas. \nYou can either post your review at this link here\, or pop into the shop and tap to scan at the till. \nA free fitting is included with every screen protector. \nFor more information please visit here.
URL:https://discovercrewe.co.uk/event/free-5-screen-protector-deal/
LOCATION:Repairworld Direct\, 109a Nantwich Road\, Crewe\, CW2 6BA\, United Kingdom
CATEGORIES:Christmas,Nantwich Road,Service
ATTACH;FMTTYPE=image/jpeg:https://discovercrewe.co.uk/wp-content/uploads/2025/11/Crewe-BID-13-scaled.jpg
END:VEVENT
BEGIN:VEVENT
DTSTART;TZID=UTC:20251124T180000
DTEND;TZID=UTC:20251124T190000
DTSTAMP:20260424T071040
CREATED:20250929T161645Z
LAST-MODIFIED:20250930T141510Z
UID:10031812-1764007200-1764010800@discovercrewe.co.uk
SUMMARY:Life Drawing Classes
DESCRIPTION:Led by established fine artist (BA Hons) Bryn Sutcliffe\, Ice and Fire Studios at 14 High Street will be hosting life drawing classes every last Monday of the month. \nBeginners and established artists alike can get involved to improve figurative drawing\, get advice and direction on artwork or just for fun. \nClasses are £15 per person\, all media is provided along with tea and coffee. \nAll sessions will be at 6pm. \nFor more information message @iceandfirestudios on Instagram.
URL:https://discovercrewe.co.uk/event/life-drawing-classes/2025-11-24/
LOCATION:Ice and Fire Studios\, 14 High St\, Crewe\, CW2 7BN
CATEGORIES:Events,Nantwich Road
ATTACH;FMTTYPE=image/jpeg:https://discovercrewe.co.uk/wp-content/uploads/2025/09/ice-and-fire-studios-life-drawing-e1759162482825.jpeg
END:VEVENT
BEGIN:VEVENT
DTSTART;TZID=UTC:20251129T120000
DTEND;TZID=UTC:20251129T180000
DTSTAMP:20260424T071040
CREATED:20251128T163530Z
LAST-MODIFIED:20251128T163530Z
UID:10037412-1764417600-1764439200@discovercrewe.co.uk
SUMMARY:Bottomless Lunch
DESCRIPTION:Every Saturday\, Gio’s does bottomless lunch between 12pm and 6pm. \nThe 90 minute session includes one main chosen out of hot sandwiches\, calzones\, pasta and pizza. Alongside one side chosen from doughballs\, cheesy/garlic bread\, rocket & parmesan salad and rosemary and sea salt chips. \nPlus choose from three drinks packages to complete the deal: \n\nBeer & Prosecco\, Spritzers & Spirits is £35pp\nCocktails is £42pp\nFor all options it is £46pp\n\n  \nFor more information and to book online visit here.
URL:https://discovercrewe.co.uk/event/bottomless-lunch/2025-11-29/
LOCATION:Giovanni’s\, 23-25 Nantwich Road\, Crewe\, CW26AF\, United Kingdom
CATEGORIES:Events,Food & Drink,Nantwich Road
ATTACH;FMTTYPE=image/png:https://discovercrewe.co.uk/wp-content/uploads/2025/07/Gios.png
END:VEVENT
END:VCALENDAR