BEGIN:VCALENDAR
VERSION:2.0
PRODID:-//Discover Crewe - ECPv6.15.15//NONSGML v1.0//EN
CALSCALE:GREGORIAN
METHOD:PUBLISH
X-ORIGINAL-URL:https://discovercrewe.co.uk
X-WR-CALDESC:Events for Discover Crewe
REFRESH-INTERVAL;VALUE=DURATION:PT1H
X-Robots-Tag:noindex
X-PUBLISHED-TTL:PT1H
BEGIN:VTIMEZONE
TZID:UTC
BEGIN:STANDARD
TZOFFSETFROM:+0000
TZOFFSETTO:+0000
TZNAME:UTC
DTSTART:20240101T000000
END:STANDARD
END:VTIMEZONE
BEGIN:VEVENT
DTSTART;TZID=UTC:20250909T110000
DTEND;TZID=UTC:20250909T120000
DTSTAMP:20260424T122055
CREATED:20250721T100247Z
LAST-MODIFIED:20250909T123303Z
UID:10023230-1757415600-1757419200@discovercrewe.co.uk
SUMMARY:Sling Library & Coffee Morning
DESCRIPTION:Expert sling fit checks to make sure parents carriers fit just right. \nOn the second Tuesday of every month\, Newbie & Me Baby Store in Crewe host a Sling Library & Coffee Morning. \nIn collaboration with the birth doula and antenatal & hypnobirthing educator\, Jade Lawrence\, these drop in sessions offer a welcoming space for parents to drop-in and meet other parents. \nParticipants will get an expert sling fit check\, with a variety of slings and carriers to try on to find the perfect fit for each person. Babywearing and feeding advice will be available with a relaxed and judgment free environment. \nAll slings and carriers will be on sale on the day for anyone who falls in love with their options.
URL:https://discovercrewe.co.uk/event/sling-library-coffee-morning/2025-09-09/
LOCATION:Newbie and Me Baby Store\, Longford Works\, Hope St\,\, Crewe\, CW2 7DR
CATEGORIES:Events,Nantwich Road,Shopping
ATTACH;FMTTYPE=image/jpeg:https://discovercrewe.co.uk/wp-content/uploads/2025/07/4E17606E-AD3D-4E4E-B2A2-238C07617246-1-scaled-e1753088049813.jpg
END:VEVENT
BEGIN:VEVENT
DTSTART;TZID=UTC:20250928T130000
DTEND;TZID=UTC:20250928T163000
DTSTAMP:20260424T122055
CREATED:20250829T155808Z
LAST-MODIFIED:20250915T110142Z
UID:10028130-1759064400-1759077000@discovercrewe.co.uk
SUMMARY:Bloom & Brunch
DESCRIPTION:Giovanni’s Crewe is teaming with The Bloom Edit to put on an exciting afternoon of tasty bites\, beautiful blooms and good vibes. \nLearn how to whip up a gorgeous hand-tied bouquet and then create your own masterpiece while their DJs bring great music. \nBook before Saturday\, September 6th to secure your place for £55 otherwise tickets are £60. \nCall in to The Bloom Edit during daytimes or purchase tickets through their website. Alternatively pop into Giovanni’s when they’re open. \nFor more information visit here.
URL:https://discovercrewe.co.uk/event/bloom-brunch/
LOCATION:Giovanni’s\, 23-25 Nantwich Road\, Crewe\, CW26AF\, United Kingdom
CATEGORIES:Experience,Food & Drink,Nantwich Road
ATTACH;FMTTYPE=image/png:https://discovercrewe.co.uk/wp-content/uploads/2025/07/Gios.png
END:VEVENT
BEGIN:VEVENT
DTSTART;TZID=UTC:20250929T180000
DTEND;TZID=UTC:20250929T190000
DTSTAMP:20260424T122055
CREATED:20250929T161645Z
LAST-MODIFIED:20250930T141510Z
UID:10031810-1759168800-1759172400@discovercrewe.co.uk
SUMMARY:Life Drawing Classes
DESCRIPTION:Led by established fine artist (BA Hons) Bryn Sutcliffe\, Ice and Fire Studios at 14 High Street will be hosting life drawing classes every last Monday of the month. \nBeginners and established artists alike can get involved to improve figurative drawing\, get advice and direction on artwork or just for fun. \nClasses are £15 per person\, all media is provided along with tea and coffee. \nAll sessions will be at 6pm. \nFor more information message @iceandfirestudios on Instagram.
URL:https://discovercrewe.co.uk/event/life-drawing-classes/2025-09-29/
LOCATION:Ice and Fire Studios\, 14 High St\, Crewe\, CW2 7BN
CATEGORIES:Events,Nantwich Road
ATTACH;FMTTYPE=image/jpeg:https://discovercrewe.co.uk/wp-content/uploads/2025/09/ice-and-fire-studios-life-drawing-e1759162482825.jpeg
END:VEVENT
END:VCALENDAR