BEGIN:VCALENDAR
VERSION:2.0
PRODID:-//Discover Crewe - ECPv6.15.15//NONSGML v1.0//EN
CALSCALE:GREGORIAN
METHOD:PUBLISH
X-ORIGINAL-URL:https://discovercrewe.co.uk
X-WR-CALDESC:Events for Discover Crewe
REFRESH-INTERVAL;VALUE=DURATION:PT1H
X-Robots-Tag:noindex
X-PUBLISHED-TTL:PT1H
BEGIN:VTIMEZONE
TZID:UTC
BEGIN:STANDARD
TZOFFSETFROM:+0000
TZOFFSETTO:+0000
TZNAME:UTC
DTSTART:20240101T000000
END:STANDARD
END:VTIMEZONE
BEGIN:VEVENT
DTSTART;VALUE=DATE:20250726
DTEND;VALUE=DATE:20250727
DTSTAMP:20260424T155033
CREATED:20250721T101226Z
LAST-MODIFIED:20250721T142254Z
UID:10023349-1753488000-1753574399@discovercrewe.co.uk
SUMMARY:iCandy Exclusive In-Store Event
DESCRIPTION:Join Newbie & Me and receive a complimentary goody bag with any iCandy purchase. \nIn all stores\, including the Nantwich Road shop\, there will be an exclusive event with special in-store offers on iCandy products. \nTo celebrate the brand\, the event will include expert demonstrations of prams and other products. Plus\, personalised advice for all your baby needs amongst a relaxed and family-friendly environment. \nThis event is for anyone prepping for a new baby’s arrival or thinking about upgrading to a new travel system. Drop-in store to see iCandy’s beautiful range\, meet the friendly staff and get some event-only perks on Saturday\, July 26th and Sunday\, July 27th.
URL:https://discovercrewe.co.uk/event/icandy-exclusive-in-store-event/2025-07-26/
LOCATION:Newbie and Me Baby Store\, Longford Works\, Hope St\,\, Crewe\, CW2 7DR
CATEGORIES:Events,Nantwich Road,Shopping
ATTACH;FMTTYPE=image/jpeg:https://discovercrewe.co.uk/wp-content/uploads/2025/07/4E17606E-AD3D-4E4E-B2A2-238C07617246-1-scaled-e1753088049813.jpg
END:VEVENT
BEGIN:VEVENT
DTSTART;VALUE=DATE:20250727
DTEND;VALUE=DATE:20250728
DTSTAMP:20260424T155033
CREATED:20250721T101226Z
LAST-MODIFIED:20250721T142254Z
UID:10023350-1753603200-1753635600@discovercrewe.co.uk
SUMMARY:iCandy Exclusive In-Store Event
DESCRIPTION:Join Newbie & Me and receive a complimentary goody bag with any iCandy purchase. \nIn all stores\, including the Nantwich Road shop\, there will be an exclusive event with special in-store offers on iCandy products. \nTo celebrate the brand\, the event will include expert demonstrations of prams and other products. Plus\, personalised advice for all your baby needs amongst a relaxed and family-friendly environment. \nThis event is for anyone prepping for a new baby’s arrival or thinking about upgrading to a new travel system. Drop-in store to see iCandy’s beautiful range\, meet the friendly staff and get some event-only perks on Saturday\, July 26th and Sunday\, July 27th.
URL:https://discovercrewe.co.uk/event/icandy-exclusive-in-store-event/2025-07-27/
LOCATION:Newbie and Me Baby Store\, Longford Works\, Hope St\,\, Crewe\, CW2 7DR
CATEGORIES:Events,Nantwich Road,Shopping
ATTACH;FMTTYPE=image/jpeg:https://discovercrewe.co.uk/wp-content/uploads/2025/07/4E17606E-AD3D-4E4E-B2A2-238C07617246-1-scaled-e1753088049813.jpg
END:VEVENT
END:VCALENDAR