BEGIN:VCALENDAR
VERSION:2.0
PRODID:-//Discover Crewe - ECPv6.15.15//NONSGML v1.0//EN
CALSCALE:GREGORIAN
METHOD:PUBLISH
X-ORIGINAL-URL:https://discovercrewe.co.uk
X-WR-CALDESC:Events for Discover Crewe
REFRESH-INTERVAL;VALUE=DURATION:PT1H
X-Robots-Tag:noindex
X-PUBLISHED-TTL:PT1H
BEGIN:VTIMEZONE
TZID:UTC
BEGIN:STANDARD
TZOFFSETFROM:+0000
TZOFFSETTO:+0000
TZNAME:UTC
DTSTART:20330101T000000
END:STANDARD
END:VTIMEZONE
BEGIN:VEVENT
DTSTART;TZID=UTC:20340104T110000
DTEND;TZID=UTC:20340104T193000
DTSTAMP:20260426T013331
CREATED:20251105T100210Z
LAST-MODIFIED:20251105T100235Z
UID:10036223-2019985200-2020015800@discovercrewe.co.uk
SUMMARY:Real Ale Club
DESCRIPTION:Every Wednesday from 11am to 7.30pm\, The Crewe Dog hosts their Real Ale Club where each pint is only £3. \nHead down to Crewe Market Hall to enjoy a delicious craft ale for a fraction of the price. \nFor more information and updates please visit the Crewe Market Hall Facebook page here.
URL:https://discovercrewe.co.uk/event/real-ale-club/2034-01-04/
LOCATION:Crewe Market Hall\, Crewe Market Hall\, 27 Earle Street\, Crewe\, Cheshire\, CW1 2BL
CATEGORIES:Events,Market Hall,Town Centre
ATTACH;FMTTYPE=image/png:https://discovercrewe.co.uk/wp-content/uploads/2025/07/The-Crewe-Dog-5-e1751984589610.png
END:VEVENT
BEGIN:VEVENT
DTSTART;TZID=UTC:20340105T180000
DTEND;TZID=UTC:20340105T210000
DTSTAMP:20260426T013331
CREATED:20260209T115940Z
LAST-MODIFIED:20260209T120234Z
UID:10040564-2020096800-2020107600@discovercrewe.co.uk
SUMMARY:Kill Team & Magic the Gathering
DESCRIPTION:Join Gumshoe Comics & Collectibles every Thursday at Big Mugs on Edleston Road for a games night. \nLearn how to play Warhammer Kill Team and Magic the Gathering or join the veteran gamers for friendly casual play. \nThe weekly event takes place from 6pm until 9pm. \nFor more information please visit here. \nImage (Gumshoe Comics & Collectibles)
URL:https://discovercrewe.co.uk/event/kill-team-magic-the-gathering/2034-01-05/
LOCATION:Big Mugs\, 251 Edleston Road\, Crewe\, CW2 7EA\, United Kingdom
CATEGORIES:Events,Market Hall,Town Centre
ATTACH;FMTTYPE=image/jpeg:https://discovercrewe.co.uk/wp-content/uploads/2026/02/warhammer-magic-the-gathering.jpg
END:VEVENT
BEGIN:VEVENT
DTSTART;TZID=UTC:20340105T190000
DTEND;TZID=UTC:20340105T220000
DTSTAMP:20260426T013331
CREATED:20251105T142950Z
LAST-MODIFIED:20251105T142950Z
UID:10036747-2020100400-2020111200@discovercrewe.co.uk
SUMMARY:Thursday Quiz Hosted by The Cat FM
DESCRIPTION:Every Thursday in Crewe Market Hall\, The Cat FM hosts a weekly quiz. \nIt starts at 7pm and is completely free to enter\, so if you fancy testing your knowledge against your neighbours then head down. \nFor more information keep an eye out on updates on the Crewe Market Hall Facebook here. \nImage (Crewe Market Hall)
URL:https://discovercrewe.co.uk/event/thursday-quiz-hosted-by-the-cat-fm/2034-01-05/
LOCATION:Crewe Market Hall\, Crewe Market Hall\, 27 Earle Street\, Crewe\, Cheshire\, CW1 2BL
CATEGORIES:Events,Market Hall,Town Centre
ATTACH;FMTTYPE=image/jpeg:https://discovercrewe.co.uk/wp-content/uploads/2025/11/the-cat-quiz-e1762352923139.jpg
END:VEVENT
BEGIN:VEVENT
DTSTART;TZID=UTC:20340107T103000
DTEND;TZID=UTC:20340107T150000
DTSTAMP:20260426T013331
CREATED:20251105T143530Z
LAST-MODIFIED:20260223T101406Z
UID:10037269-2020242600-2020258800@discovercrewe.co.uk
SUMMARY:Saturday Mini Market
DESCRIPTION:Every Saturday\, Crewe Market Hall has a Mini Market from 10.30am to 3pm. \nIts your chance to shop local and discover some gems from incredible independent traders. \nSupport your community and head down for a browse. \nFor more information\, keep an eye out for updates on the Crewe Market Hall Facebook here. \nImage (Crewe Market Hall)
URL:https://discovercrewe.co.uk/event/saturday-mini-market/2034-01-07/
LOCATION:Crewe Market Hall\, Crewe Market Hall\, 27 Earle Street\, Crewe\, Cheshire\, CW1 2BL
CATEGORIES:Events,Market Hall,Town Centre
ATTACH;FMTTYPE=image/jpeg:https://discovercrewe.co.uk/wp-content/uploads/2025/11/saturday-mini-market-e1762353277181.jpg
END:VEVENT
BEGIN:VEVENT
DTSTART;TZID=UTC:20340111T110000
DTEND;TZID=UTC:20340111T193000
DTSTAMP:20260426T013331
CREATED:20251105T100210Z
LAST-MODIFIED:20251105T100235Z
UID:10036224-2020590000-2020620600@discovercrewe.co.uk
SUMMARY:Real Ale Club
DESCRIPTION:Every Wednesday from 11am to 7.30pm\, The Crewe Dog hosts their Real Ale Club where each pint is only £3. \nHead down to Crewe Market Hall to enjoy a delicious craft ale for a fraction of the price. \nFor more information and updates please visit the Crewe Market Hall Facebook page here.
URL:https://discovercrewe.co.uk/event/real-ale-club/2034-01-11/
LOCATION:Crewe Market Hall\, Crewe Market Hall\, 27 Earle Street\, Crewe\, Cheshire\, CW1 2BL
CATEGORIES:Events,Market Hall,Town Centre
ATTACH;FMTTYPE=image/png:https://discovercrewe.co.uk/wp-content/uploads/2025/07/The-Crewe-Dog-5-e1751984589610.png
END:VEVENT
BEGIN:VEVENT
DTSTART;TZID=UTC:20340112T180000
DTEND;TZID=UTC:20340112T210000
DTSTAMP:20260426T013331
CREATED:20260209T115940Z
LAST-MODIFIED:20260209T120234Z
UID:10040565-2020701600-2020712400@discovercrewe.co.uk
SUMMARY:Kill Team & Magic the Gathering
DESCRIPTION:Join Gumshoe Comics & Collectibles every Thursday at Big Mugs on Edleston Road for a games night. \nLearn how to play Warhammer Kill Team and Magic the Gathering or join the veteran gamers for friendly casual play. \nThe weekly event takes place from 6pm until 9pm. \nFor more information please visit here. \nImage (Gumshoe Comics & Collectibles)
URL:https://discovercrewe.co.uk/event/kill-team-magic-the-gathering/2034-01-12/
LOCATION:Big Mugs\, 251 Edleston Road\, Crewe\, CW2 7EA\, United Kingdom
CATEGORIES:Events,Market Hall,Town Centre
ATTACH;FMTTYPE=image/jpeg:https://discovercrewe.co.uk/wp-content/uploads/2026/02/warhammer-magic-the-gathering.jpg
END:VEVENT
BEGIN:VEVENT
DTSTART;TZID=UTC:20340112T190000
DTEND;TZID=UTC:20340112T220000
DTSTAMP:20260426T013331
CREATED:20251105T142950Z
LAST-MODIFIED:20251105T142950Z
UID:10036748-2020705200-2020716000@discovercrewe.co.uk
SUMMARY:Thursday Quiz Hosted by The Cat FM
DESCRIPTION:Every Thursday in Crewe Market Hall\, The Cat FM hosts a weekly quiz. \nIt starts at 7pm and is completely free to enter\, so if you fancy testing your knowledge against your neighbours then head down. \nFor more information keep an eye out on updates on the Crewe Market Hall Facebook here. \nImage (Crewe Market Hall)
URL:https://discovercrewe.co.uk/event/thursday-quiz-hosted-by-the-cat-fm/2034-01-12/
LOCATION:Crewe Market Hall\, Crewe Market Hall\, 27 Earle Street\, Crewe\, Cheshire\, CW1 2BL
CATEGORIES:Events,Market Hall,Town Centre
ATTACH;FMTTYPE=image/jpeg:https://discovercrewe.co.uk/wp-content/uploads/2025/11/the-cat-quiz-e1762352923139.jpg
END:VEVENT
BEGIN:VEVENT
DTSTART;TZID=UTC:20340114T103000
DTEND;TZID=UTC:20340114T150000
DTSTAMP:20260426T013331
CREATED:20251105T143530Z
LAST-MODIFIED:20260223T101406Z
UID:10037270-2020847400-2020863600@discovercrewe.co.uk
SUMMARY:Saturday Mini Market
DESCRIPTION:Every Saturday\, Crewe Market Hall has a Mini Market from 10.30am to 3pm. \nIts your chance to shop local and discover some gems from incredible independent traders. \nSupport your community and head down for a browse. \nFor more information\, keep an eye out for updates on the Crewe Market Hall Facebook here. \nImage (Crewe Market Hall)
URL:https://discovercrewe.co.uk/event/saturday-mini-market/2034-01-14/
LOCATION:Crewe Market Hall\, Crewe Market Hall\, 27 Earle Street\, Crewe\, Cheshire\, CW1 2BL
CATEGORIES:Events,Market Hall,Town Centre
ATTACH;FMTTYPE=image/jpeg:https://discovercrewe.co.uk/wp-content/uploads/2025/11/saturday-mini-market-e1762353277181.jpg
END:VEVENT
BEGIN:VEVENT
DTSTART;TZID=UTC:20340118T110000
DTEND;TZID=UTC:20340118T193000
DTSTAMP:20260426T013331
CREATED:20251105T100210Z
LAST-MODIFIED:20251105T100235Z
UID:10036225-2021194800-2021225400@discovercrewe.co.uk
SUMMARY:Real Ale Club
DESCRIPTION:Every Wednesday from 11am to 7.30pm\, The Crewe Dog hosts their Real Ale Club where each pint is only £3. \nHead down to Crewe Market Hall to enjoy a delicious craft ale for a fraction of the price. \nFor more information and updates please visit the Crewe Market Hall Facebook page here.
URL:https://discovercrewe.co.uk/event/real-ale-club/2034-01-18/
LOCATION:Crewe Market Hall\, Crewe Market Hall\, 27 Earle Street\, Crewe\, Cheshire\, CW1 2BL
CATEGORIES:Events,Market Hall,Town Centre
ATTACH;FMTTYPE=image/png:https://discovercrewe.co.uk/wp-content/uploads/2025/07/The-Crewe-Dog-5-e1751984589610.png
END:VEVENT
BEGIN:VEVENT
DTSTART;TZID=UTC:20340119T180000
DTEND;TZID=UTC:20340119T210000
DTSTAMP:20260426T013331
CREATED:20260209T115940Z
LAST-MODIFIED:20260209T120234Z
UID:10040566-2021306400-2021317200@discovercrewe.co.uk
SUMMARY:Kill Team & Magic the Gathering
DESCRIPTION:Join Gumshoe Comics & Collectibles every Thursday at Big Mugs on Edleston Road for a games night. \nLearn how to play Warhammer Kill Team and Magic the Gathering or join the veteran gamers for friendly casual play. \nThe weekly event takes place from 6pm until 9pm. \nFor more information please visit here. \nImage (Gumshoe Comics & Collectibles)
URL:https://discovercrewe.co.uk/event/kill-team-magic-the-gathering/2034-01-19/
LOCATION:Big Mugs\, 251 Edleston Road\, Crewe\, CW2 7EA\, United Kingdom
CATEGORIES:Events,Market Hall,Town Centre
ATTACH;FMTTYPE=image/jpeg:https://discovercrewe.co.uk/wp-content/uploads/2026/02/warhammer-magic-the-gathering.jpg
END:VEVENT
BEGIN:VEVENT
DTSTART;TZID=UTC:20340119T190000
DTEND;TZID=UTC:20340119T220000
DTSTAMP:20260426T013331
CREATED:20251105T142950Z
LAST-MODIFIED:20251105T142950Z
UID:10036749-2021310000-2021320800@discovercrewe.co.uk
SUMMARY:Thursday Quiz Hosted by The Cat FM
DESCRIPTION:Every Thursday in Crewe Market Hall\, The Cat FM hosts a weekly quiz. \nIt starts at 7pm and is completely free to enter\, so if you fancy testing your knowledge against your neighbours then head down. \nFor more information keep an eye out on updates on the Crewe Market Hall Facebook here. \nImage (Crewe Market Hall)
URL:https://discovercrewe.co.uk/event/thursday-quiz-hosted-by-the-cat-fm/2034-01-19/
LOCATION:Crewe Market Hall\, Crewe Market Hall\, 27 Earle Street\, Crewe\, Cheshire\, CW1 2BL
CATEGORIES:Events,Market Hall,Town Centre
ATTACH;FMTTYPE=image/jpeg:https://discovercrewe.co.uk/wp-content/uploads/2025/11/the-cat-quiz-e1762352923139.jpg
END:VEVENT
BEGIN:VEVENT
DTSTART;TZID=UTC:20340121T103000
DTEND;TZID=UTC:20340121T150000
DTSTAMP:20260426T013331
CREATED:20251105T143530Z
LAST-MODIFIED:20260223T101406Z
UID:10037271-2021452200-2021468400@discovercrewe.co.uk
SUMMARY:Saturday Mini Market
DESCRIPTION:Every Saturday\, Crewe Market Hall has a Mini Market from 10.30am to 3pm. \nIts your chance to shop local and discover some gems from incredible independent traders. \nSupport your community and head down for a browse. \nFor more information\, keep an eye out for updates on the Crewe Market Hall Facebook here. \nImage (Crewe Market Hall)
URL:https://discovercrewe.co.uk/event/saturday-mini-market/2034-01-21/
LOCATION:Crewe Market Hall\, Crewe Market Hall\, 27 Earle Street\, Crewe\, Cheshire\, CW1 2BL
CATEGORIES:Events,Market Hall,Town Centre
ATTACH;FMTTYPE=image/jpeg:https://discovercrewe.co.uk/wp-content/uploads/2025/11/saturday-mini-market-e1762353277181.jpg
END:VEVENT
BEGIN:VEVENT
DTSTART;TZID=UTC:20340125T110000
DTEND;TZID=UTC:20340125T193000
DTSTAMP:20260426T013331
CREATED:20251105T100210Z
LAST-MODIFIED:20251105T100235Z
UID:10036226-2021799600-2021830200@discovercrewe.co.uk
SUMMARY:Real Ale Club
DESCRIPTION:Every Wednesday from 11am to 7.30pm\, The Crewe Dog hosts their Real Ale Club where each pint is only £3. \nHead down to Crewe Market Hall to enjoy a delicious craft ale for a fraction of the price. \nFor more information and updates please visit the Crewe Market Hall Facebook page here.
URL:https://discovercrewe.co.uk/event/real-ale-club/2034-01-25/
LOCATION:Crewe Market Hall\, Crewe Market Hall\, 27 Earle Street\, Crewe\, Cheshire\, CW1 2BL
CATEGORIES:Events,Market Hall,Town Centre
ATTACH;FMTTYPE=image/png:https://discovercrewe.co.uk/wp-content/uploads/2025/07/The-Crewe-Dog-5-e1751984589610.png
END:VEVENT
BEGIN:VEVENT
DTSTART;TZID=UTC:20340126T180000
DTEND;TZID=UTC:20340126T210000
DTSTAMP:20260426T013331
CREATED:20260209T115940Z
LAST-MODIFIED:20260209T120234Z
UID:10040567-2021911200-2021922000@discovercrewe.co.uk
SUMMARY:Kill Team & Magic the Gathering
DESCRIPTION:Join Gumshoe Comics & Collectibles every Thursday at Big Mugs on Edleston Road for a games night. \nLearn how to play Warhammer Kill Team and Magic the Gathering or join the veteran gamers for friendly casual play. \nThe weekly event takes place from 6pm until 9pm. \nFor more information please visit here. \nImage (Gumshoe Comics & Collectibles)
URL:https://discovercrewe.co.uk/event/kill-team-magic-the-gathering/2034-01-26/
LOCATION:Big Mugs\, 251 Edleston Road\, Crewe\, CW2 7EA\, United Kingdom
CATEGORIES:Events,Market Hall,Town Centre
ATTACH;FMTTYPE=image/jpeg:https://discovercrewe.co.uk/wp-content/uploads/2026/02/warhammer-magic-the-gathering.jpg
END:VEVENT
BEGIN:VEVENT
DTSTART;TZID=UTC:20340126T190000
DTEND;TZID=UTC:20340126T220000
DTSTAMP:20260426T013331
CREATED:20251105T142950Z
LAST-MODIFIED:20251105T142950Z
UID:10036750-2021914800-2021925600@discovercrewe.co.uk
SUMMARY:Thursday Quiz Hosted by The Cat FM
DESCRIPTION:Every Thursday in Crewe Market Hall\, The Cat FM hosts a weekly quiz. \nIt starts at 7pm and is completely free to enter\, so if you fancy testing your knowledge against your neighbours then head down. \nFor more information keep an eye out on updates on the Crewe Market Hall Facebook here. \nImage (Crewe Market Hall)
URL:https://discovercrewe.co.uk/event/thursday-quiz-hosted-by-the-cat-fm/2034-01-26/
LOCATION:Crewe Market Hall\, Crewe Market Hall\, 27 Earle Street\, Crewe\, Cheshire\, CW1 2BL
CATEGORIES:Events,Market Hall,Town Centre
ATTACH;FMTTYPE=image/jpeg:https://discovercrewe.co.uk/wp-content/uploads/2025/11/the-cat-quiz-e1762352923139.jpg
END:VEVENT
BEGIN:VEVENT
DTSTART;TZID=UTC:20340128T103000
DTEND;TZID=UTC:20340128T150000
DTSTAMP:20260426T013331
CREATED:20251105T143530Z
LAST-MODIFIED:20260223T101406Z
UID:10037272-2022057000-2022073200@discovercrewe.co.uk
SUMMARY:Saturday Mini Market
DESCRIPTION:Every Saturday\, Crewe Market Hall has a Mini Market from 10.30am to 3pm. \nIts your chance to shop local and discover some gems from incredible independent traders. \nSupport your community and head down for a browse. \nFor more information\, keep an eye out for updates on the Crewe Market Hall Facebook here. \nImage (Crewe Market Hall)
URL:https://discovercrewe.co.uk/event/saturday-mini-market/2034-01-28/
LOCATION:Crewe Market Hall\, Crewe Market Hall\, 27 Earle Street\, Crewe\, Cheshire\, CW1 2BL
CATEGORIES:Events,Market Hall,Town Centre
ATTACH;FMTTYPE=image/jpeg:https://discovercrewe.co.uk/wp-content/uploads/2025/11/saturday-mini-market-e1762353277181.jpg
END:VEVENT
END:VCALENDAR