BEGIN:VCALENDAR
VERSION:2.0
PRODID:-//Discover Crewe - ECPv6.15.15//NONSGML v1.0//EN
CALSCALE:GREGORIAN
METHOD:PUBLISH
X-ORIGINAL-URL:https://discovercrewe.co.uk
X-WR-CALDESC:Events for Discover Crewe
REFRESH-INTERVAL;VALUE=DURATION:PT1H
X-Robots-Tag:noindex
X-PUBLISHED-TTL:PT1H
BEGIN:VTIMEZONE
TZID:UTC
BEGIN:STANDARD
TZOFFSETFROM:+0000
TZOFFSETTO:+0000
TZNAME:UTC
DTSTART:20320101T000000
END:STANDARD
END:VTIMEZONE
BEGIN:VEVENT
DTSTART;TZID=UTC:20330901T180000
DTEND;TZID=UTC:20330901T210000
DTSTAMP:20260425T103139
CREATED:20260209T115940Z
LAST-MODIFIED:20260209T120234Z
UID:10040546-2009210400-2009221200@discovercrewe.co.uk
SUMMARY:Kill Team & Magic the Gathering
DESCRIPTION:Join Gumshoe Comics & Collectibles every Thursday at Big Mugs on Edleston Road for a games night. \nLearn how to play Warhammer Kill Team and Magic the Gathering or join the veteran gamers for friendly casual play. \nThe weekly event takes place from 6pm until 9pm. \nFor more information please visit here. \nImage (Gumshoe Comics & Collectibles)
URL:https://discovercrewe.co.uk/event/kill-team-magic-the-gathering/2033-09-01/
LOCATION:Big Mugs\, 251 Edleston Road\, Crewe\, CW2 7EA\, United Kingdom
CATEGORIES:Events,Market Hall,Town Centre
ATTACH;FMTTYPE=image/jpeg:https://discovercrewe.co.uk/wp-content/uploads/2026/02/warhammer-magic-the-gathering.jpg
END:VEVENT
BEGIN:VEVENT
DTSTART;TZID=UTC:20330901T190000
DTEND;TZID=UTC:20330901T220000
DTSTAMP:20260425T103139
CREATED:20251105T142950Z
LAST-MODIFIED:20251105T142950Z
UID:10036729-2009214000-2009224800@discovercrewe.co.uk
SUMMARY:Thursday Quiz Hosted by The Cat FM
DESCRIPTION:Every Thursday in Crewe Market Hall\, The Cat FM hosts a weekly quiz. \nIt starts at 7pm and is completely free to enter\, so if you fancy testing your knowledge against your neighbours then head down. \nFor more information keep an eye out on updates on the Crewe Market Hall Facebook here. \nImage (Crewe Market Hall)
URL:https://discovercrewe.co.uk/event/thursday-quiz-hosted-by-the-cat-fm/2033-09-01/
LOCATION:Crewe Market Hall\, Crewe Market Hall\, 27 Earle Street\, Crewe\, Cheshire\, CW1 2BL
CATEGORIES:Events,Market Hall,Town Centre
ATTACH;FMTTYPE=image/jpeg:https://discovercrewe.co.uk/wp-content/uploads/2025/11/the-cat-quiz-e1762352923139.jpg
END:VEVENT
BEGIN:VEVENT
DTSTART;TZID=UTC:20330903T103000
DTEND;TZID=UTC:20330903T150000
DTSTAMP:20260425T103139
CREATED:20251105T143530Z
LAST-MODIFIED:20260223T101406Z
UID:10037251-2009356200-2009372400@discovercrewe.co.uk
SUMMARY:Saturday Mini Market
DESCRIPTION:Every Saturday\, Crewe Market Hall has a Mini Market from 10.30am to 3pm. \nIts your chance to shop local and discover some gems from incredible independent traders. \nSupport your community and head down for a browse. \nFor more information\, keep an eye out for updates on the Crewe Market Hall Facebook here. \nImage (Crewe Market Hall)
URL:https://discovercrewe.co.uk/event/saturday-mini-market/2033-09-03/
LOCATION:Crewe Market Hall\, Crewe Market Hall\, 27 Earle Street\, Crewe\, Cheshire\, CW1 2BL
CATEGORIES:Events,Market Hall,Town Centre
ATTACH;FMTTYPE=image/jpeg:https://discovercrewe.co.uk/wp-content/uploads/2025/11/saturday-mini-market-e1762353277181.jpg
END:VEVENT
BEGIN:VEVENT
DTSTART;TZID=UTC:20330907T110000
DTEND;TZID=UTC:20330907T193000
DTSTAMP:20260425T103139
CREATED:20251105T100210Z
LAST-MODIFIED:20251105T100235Z
UID:10036206-2009703600-2009734200@discovercrewe.co.uk
SUMMARY:Real Ale Club
DESCRIPTION:Every Wednesday from 11am to 7.30pm\, The Crewe Dog hosts their Real Ale Club where each pint is only £3. \nHead down to Crewe Market Hall to enjoy a delicious craft ale for a fraction of the price. \nFor more information and updates please visit the Crewe Market Hall Facebook page here.
URL:https://discovercrewe.co.uk/event/real-ale-club/2033-09-07/
LOCATION:Crewe Market Hall\, Crewe Market Hall\, 27 Earle Street\, Crewe\, Cheshire\, CW1 2BL
CATEGORIES:Events,Market Hall,Town Centre
ATTACH;FMTTYPE=image/png:https://discovercrewe.co.uk/wp-content/uploads/2025/07/The-Crewe-Dog-5-e1751984589610.png
END:VEVENT
BEGIN:VEVENT
DTSTART;TZID=UTC:20330908T180000
DTEND;TZID=UTC:20330908T210000
DTSTAMP:20260425T103139
CREATED:20260209T115940Z
LAST-MODIFIED:20260209T120234Z
UID:10040547-2009815200-2009826000@discovercrewe.co.uk
SUMMARY:Kill Team & Magic the Gathering
DESCRIPTION:Join Gumshoe Comics & Collectibles every Thursday at Big Mugs on Edleston Road for a games night. \nLearn how to play Warhammer Kill Team and Magic the Gathering or join the veteran gamers for friendly casual play. \nThe weekly event takes place from 6pm until 9pm. \nFor more information please visit here. \nImage (Gumshoe Comics & Collectibles)
URL:https://discovercrewe.co.uk/event/kill-team-magic-the-gathering/2033-09-08/
LOCATION:Big Mugs\, 251 Edleston Road\, Crewe\, CW2 7EA\, United Kingdom
CATEGORIES:Events,Market Hall,Town Centre
ATTACH;FMTTYPE=image/jpeg:https://discovercrewe.co.uk/wp-content/uploads/2026/02/warhammer-magic-the-gathering.jpg
END:VEVENT
BEGIN:VEVENT
DTSTART;TZID=UTC:20330908T190000
DTEND;TZID=UTC:20330908T220000
DTSTAMP:20260425T103139
CREATED:20251105T142950Z
LAST-MODIFIED:20251105T142950Z
UID:10036730-2009818800-2009829600@discovercrewe.co.uk
SUMMARY:Thursday Quiz Hosted by The Cat FM
DESCRIPTION:Every Thursday in Crewe Market Hall\, The Cat FM hosts a weekly quiz. \nIt starts at 7pm and is completely free to enter\, so if you fancy testing your knowledge against your neighbours then head down. \nFor more information keep an eye out on updates on the Crewe Market Hall Facebook here. \nImage (Crewe Market Hall)
URL:https://discovercrewe.co.uk/event/thursday-quiz-hosted-by-the-cat-fm/2033-09-08/
LOCATION:Crewe Market Hall\, Crewe Market Hall\, 27 Earle Street\, Crewe\, Cheshire\, CW1 2BL
CATEGORIES:Events,Market Hall,Town Centre
ATTACH;FMTTYPE=image/jpeg:https://discovercrewe.co.uk/wp-content/uploads/2025/11/the-cat-quiz-e1762352923139.jpg
END:VEVENT
BEGIN:VEVENT
DTSTART;TZID=UTC:20330910T103000
DTEND;TZID=UTC:20330910T150000
DTSTAMP:20260425T103139
CREATED:20251105T143530Z
LAST-MODIFIED:20260223T101406Z
UID:10037252-2009961000-2009977200@discovercrewe.co.uk
SUMMARY:Saturday Mini Market
DESCRIPTION:Every Saturday\, Crewe Market Hall has a Mini Market from 10.30am to 3pm. \nIts your chance to shop local and discover some gems from incredible independent traders. \nSupport your community and head down for a browse. \nFor more information\, keep an eye out for updates on the Crewe Market Hall Facebook here. \nImage (Crewe Market Hall)
URL:https://discovercrewe.co.uk/event/saturday-mini-market/2033-09-10/
LOCATION:Crewe Market Hall\, Crewe Market Hall\, 27 Earle Street\, Crewe\, Cheshire\, CW1 2BL
CATEGORIES:Events,Market Hall,Town Centre
ATTACH;FMTTYPE=image/jpeg:https://discovercrewe.co.uk/wp-content/uploads/2025/11/saturday-mini-market-e1762353277181.jpg
END:VEVENT
BEGIN:VEVENT
DTSTART;TZID=UTC:20330914T110000
DTEND;TZID=UTC:20330914T193000
DTSTAMP:20260425T103139
CREATED:20251105T100210Z
LAST-MODIFIED:20251105T100235Z
UID:10036207-2010308400-2010339000@discovercrewe.co.uk
SUMMARY:Real Ale Club
DESCRIPTION:Every Wednesday from 11am to 7.30pm\, The Crewe Dog hosts their Real Ale Club where each pint is only £3. \nHead down to Crewe Market Hall to enjoy a delicious craft ale for a fraction of the price. \nFor more information and updates please visit the Crewe Market Hall Facebook page here.
URL:https://discovercrewe.co.uk/event/real-ale-club/2033-09-14/
LOCATION:Crewe Market Hall\, Crewe Market Hall\, 27 Earle Street\, Crewe\, Cheshire\, CW1 2BL
CATEGORIES:Events,Market Hall,Town Centre
ATTACH;FMTTYPE=image/png:https://discovercrewe.co.uk/wp-content/uploads/2025/07/The-Crewe-Dog-5-e1751984589610.png
END:VEVENT
BEGIN:VEVENT
DTSTART;TZID=UTC:20330915T180000
DTEND;TZID=UTC:20330915T210000
DTSTAMP:20260425T103139
CREATED:20260209T115940Z
LAST-MODIFIED:20260209T120234Z
UID:10040548-2010420000-2010430800@discovercrewe.co.uk
SUMMARY:Kill Team & Magic the Gathering
DESCRIPTION:Join Gumshoe Comics & Collectibles every Thursday at Big Mugs on Edleston Road for a games night. \nLearn how to play Warhammer Kill Team and Magic the Gathering or join the veteran gamers for friendly casual play. \nThe weekly event takes place from 6pm until 9pm. \nFor more information please visit here. \nImage (Gumshoe Comics & Collectibles)
URL:https://discovercrewe.co.uk/event/kill-team-magic-the-gathering/2033-09-15/
LOCATION:Big Mugs\, 251 Edleston Road\, Crewe\, CW2 7EA\, United Kingdom
CATEGORIES:Events,Market Hall,Town Centre
ATTACH;FMTTYPE=image/jpeg:https://discovercrewe.co.uk/wp-content/uploads/2026/02/warhammer-magic-the-gathering.jpg
END:VEVENT
BEGIN:VEVENT
DTSTART;TZID=UTC:20330915T190000
DTEND;TZID=UTC:20330915T220000
DTSTAMP:20260425T103139
CREATED:20251105T142950Z
LAST-MODIFIED:20251105T142950Z
UID:10036731-2010423600-2010434400@discovercrewe.co.uk
SUMMARY:Thursday Quiz Hosted by The Cat FM
DESCRIPTION:Every Thursday in Crewe Market Hall\, The Cat FM hosts a weekly quiz. \nIt starts at 7pm and is completely free to enter\, so if you fancy testing your knowledge against your neighbours then head down. \nFor more information keep an eye out on updates on the Crewe Market Hall Facebook here. \nImage (Crewe Market Hall)
URL:https://discovercrewe.co.uk/event/thursday-quiz-hosted-by-the-cat-fm/2033-09-15/
LOCATION:Crewe Market Hall\, Crewe Market Hall\, 27 Earle Street\, Crewe\, Cheshire\, CW1 2BL
CATEGORIES:Events,Market Hall,Town Centre
ATTACH;FMTTYPE=image/jpeg:https://discovercrewe.co.uk/wp-content/uploads/2025/11/the-cat-quiz-e1762352923139.jpg
END:VEVENT
BEGIN:VEVENT
DTSTART;TZID=UTC:20330917T103000
DTEND;TZID=UTC:20330917T150000
DTSTAMP:20260425T103139
CREATED:20251105T143530Z
LAST-MODIFIED:20260223T101406Z
UID:10037253-2010565800-2010582000@discovercrewe.co.uk
SUMMARY:Saturday Mini Market
DESCRIPTION:Every Saturday\, Crewe Market Hall has a Mini Market from 10.30am to 3pm. \nIts your chance to shop local and discover some gems from incredible independent traders. \nSupport your community and head down for a browse. \nFor more information\, keep an eye out for updates on the Crewe Market Hall Facebook here. \nImage (Crewe Market Hall)
URL:https://discovercrewe.co.uk/event/saturday-mini-market/2033-09-17/
LOCATION:Crewe Market Hall\, Crewe Market Hall\, 27 Earle Street\, Crewe\, Cheshire\, CW1 2BL
CATEGORIES:Events,Market Hall,Town Centre
ATTACH;FMTTYPE=image/jpeg:https://discovercrewe.co.uk/wp-content/uploads/2025/11/saturday-mini-market-e1762353277181.jpg
END:VEVENT
BEGIN:VEVENT
DTSTART;TZID=UTC:20330921T110000
DTEND;TZID=UTC:20330921T193000
DTSTAMP:20260425T103139
CREATED:20251105T100210Z
LAST-MODIFIED:20251105T100235Z
UID:10036208-2010913200-2010943800@discovercrewe.co.uk
SUMMARY:Real Ale Club
DESCRIPTION:Every Wednesday from 11am to 7.30pm\, The Crewe Dog hosts their Real Ale Club where each pint is only £3. \nHead down to Crewe Market Hall to enjoy a delicious craft ale for a fraction of the price. \nFor more information and updates please visit the Crewe Market Hall Facebook page here.
URL:https://discovercrewe.co.uk/event/real-ale-club/2033-09-21/
LOCATION:Crewe Market Hall\, Crewe Market Hall\, 27 Earle Street\, Crewe\, Cheshire\, CW1 2BL
CATEGORIES:Events,Market Hall,Town Centre
ATTACH;FMTTYPE=image/png:https://discovercrewe.co.uk/wp-content/uploads/2025/07/The-Crewe-Dog-5-e1751984589610.png
END:VEVENT
BEGIN:VEVENT
DTSTART;TZID=UTC:20330922T180000
DTEND;TZID=UTC:20330922T210000
DTSTAMP:20260425T103139
CREATED:20260209T115940Z
LAST-MODIFIED:20260209T120234Z
UID:10040549-2011024800-2011035600@discovercrewe.co.uk
SUMMARY:Kill Team & Magic the Gathering
DESCRIPTION:Join Gumshoe Comics & Collectibles every Thursday at Big Mugs on Edleston Road for a games night. \nLearn how to play Warhammer Kill Team and Magic the Gathering or join the veteran gamers for friendly casual play. \nThe weekly event takes place from 6pm until 9pm. \nFor more information please visit here. \nImage (Gumshoe Comics & Collectibles)
URL:https://discovercrewe.co.uk/event/kill-team-magic-the-gathering/2033-09-22/
LOCATION:Big Mugs\, 251 Edleston Road\, Crewe\, CW2 7EA\, United Kingdom
CATEGORIES:Events,Market Hall,Town Centre
ATTACH;FMTTYPE=image/jpeg:https://discovercrewe.co.uk/wp-content/uploads/2026/02/warhammer-magic-the-gathering.jpg
END:VEVENT
BEGIN:VEVENT
DTSTART;TZID=UTC:20330922T190000
DTEND;TZID=UTC:20330922T220000
DTSTAMP:20260425T103139
CREATED:20251105T142950Z
LAST-MODIFIED:20251105T142950Z
UID:10036732-2011028400-2011039200@discovercrewe.co.uk
SUMMARY:Thursday Quiz Hosted by The Cat FM
DESCRIPTION:Every Thursday in Crewe Market Hall\, The Cat FM hosts a weekly quiz. \nIt starts at 7pm and is completely free to enter\, so if you fancy testing your knowledge against your neighbours then head down. \nFor more information keep an eye out on updates on the Crewe Market Hall Facebook here. \nImage (Crewe Market Hall)
URL:https://discovercrewe.co.uk/event/thursday-quiz-hosted-by-the-cat-fm/2033-09-22/
LOCATION:Crewe Market Hall\, Crewe Market Hall\, 27 Earle Street\, Crewe\, Cheshire\, CW1 2BL
CATEGORIES:Events,Market Hall,Town Centre
ATTACH;FMTTYPE=image/jpeg:https://discovercrewe.co.uk/wp-content/uploads/2025/11/the-cat-quiz-e1762352923139.jpg
END:VEVENT
BEGIN:VEVENT
DTSTART;TZID=UTC:20330924T103000
DTEND;TZID=UTC:20330924T150000
DTSTAMP:20260425T103139
CREATED:20251105T143530Z
LAST-MODIFIED:20260223T101406Z
UID:10037254-2011170600-2011186800@discovercrewe.co.uk
SUMMARY:Saturday Mini Market
DESCRIPTION:Every Saturday\, Crewe Market Hall has a Mini Market from 10.30am to 3pm. \nIts your chance to shop local and discover some gems from incredible independent traders. \nSupport your community and head down for a browse. \nFor more information\, keep an eye out for updates on the Crewe Market Hall Facebook here. \nImage (Crewe Market Hall)
URL:https://discovercrewe.co.uk/event/saturday-mini-market/2033-09-24/
LOCATION:Crewe Market Hall\, Crewe Market Hall\, 27 Earle Street\, Crewe\, Cheshire\, CW1 2BL
CATEGORIES:Events,Market Hall,Town Centre
ATTACH;FMTTYPE=image/jpeg:https://discovercrewe.co.uk/wp-content/uploads/2025/11/saturday-mini-market-e1762353277181.jpg
END:VEVENT
BEGIN:VEVENT
DTSTART;TZID=UTC:20330928T110000
DTEND;TZID=UTC:20330928T193000
DTSTAMP:20260425T103139
CREATED:20251105T100210Z
LAST-MODIFIED:20251105T100235Z
UID:10036209-2011518000-2011548600@discovercrewe.co.uk
SUMMARY:Real Ale Club
DESCRIPTION:Every Wednesday from 11am to 7.30pm\, The Crewe Dog hosts their Real Ale Club where each pint is only £3. \nHead down to Crewe Market Hall to enjoy a delicious craft ale for a fraction of the price. \nFor more information and updates please visit the Crewe Market Hall Facebook page here.
URL:https://discovercrewe.co.uk/event/real-ale-club/2033-09-28/
LOCATION:Crewe Market Hall\, Crewe Market Hall\, 27 Earle Street\, Crewe\, Cheshire\, CW1 2BL
CATEGORIES:Events,Market Hall,Town Centre
ATTACH;FMTTYPE=image/png:https://discovercrewe.co.uk/wp-content/uploads/2025/07/The-Crewe-Dog-5-e1751984589610.png
END:VEVENT
BEGIN:VEVENT
DTSTART;TZID=UTC:20330929T180000
DTEND;TZID=UTC:20330929T210000
DTSTAMP:20260425T103139
CREATED:20260209T115940Z
LAST-MODIFIED:20260209T120234Z
UID:10040550-2011629600-2011640400@discovercrewe.co.uk
SUMMARY:Kill Team & Magic the Gathering
DESCRIPTION:Join Gumshoe Comics & Collectibles every Thursday at Big Mugs on Edleston Road for a games night. \nLearn how to play Warhammer Kill Team and Magic the Gathering or join the veteran gamers for friendly casual play. \nThe weekly event takes place from 6pm until 9pm. \nFor more information please visit here. \nImage (Gumshoe Comics & Collectibles)
URL:https://discovercrewe.co.uk/event/kill-team-magic-the-gathering/2033-09-29/
LOCATION:Big Mugs\, 251 Edleston Road\, Crewe\, CW2 7EA\, United Kingdom
CATEGORIES:Events,Market Hall,Town Centre
ATTACH;FMTTYPE=image/jpeg:https://discovercrewe.co.uk/wp-content/uploads/2026/02/warhammer-magic-the-gathering.jpg
END:VEVENT
BEGIN:VEVENT
DTSTART;TZID=UTC:20330929T190000
DTEND;TZID=UTC:20330929T220000
DTSTAMP:20260425T103139
CREATED:20251105T142950Z
LAST-MODIFIED:20251105T142950Z
UID:10036733-2011633200-2011644000@discovercrewe.co.uk
SUMMARY:Thursday Quiz Hosted by The Cat FM
DESCRIPTION:Every Thursday in Crewe Market Hall\, The Cat FM hosts a weekly quiz. \nIt starts at 7pm and is completely free to enter\, so if you fancy testing your knowledge against your neighbours then head down. \nFor more information keep an eye out on updates on the Crewe Market Hall Facebook here. \nImage (Crewe Market Hall)
URL:https://discovercrewe.co.uk/event/thursday-quiz-hosted-by-the-cat-fm/2033-09-29/
LOCATION:Crewe Market Hall\, Crewe Market Hall\, 27 Earle Street\, Crewe\, Cheshire\, CW1 2BL
CATEGORIES:Events,Market Hall,Town Centre
ATTACH;FMTTYPE=image/jpeg:https://discovercrewe.co.uk/wp-content/uploads/2025/11/the-cat-quiz-e1762352923139.jpg
END:VEVENT
END:VCALENDAR