BEGIN:VCALENDAR
VERSION:2.0
PRODID:-//Discover Crewe - ECPv6.15.15//NONSGML v1.0//EN
CALSCALE:GREGORIAN
METHOD:PUBLISH
X-WR-CALNAME:Discover Crewe
X-ORIGINAL-URL:https://discovercrewe.co.uk
X-WR-CALDESC:Events for Discover Crewe
REFRESH-INTERVAL;VALUE=DURATION:PT1H
X-Robots-Tag:noindex
X-PUBLISHED-TTL:PT1H
BEGIN:VTIMEZONE
TZID:UTC
BEGIN:STANDARD
TZOFFSETFROM:+0000
TZOFFSETTO:+0000
TZNAME:UTC
DTSTART:20300101T000000
END:STANDARD
END:VTIMEZONE
BEGIN:VEVENT
DTSTART;TZID=UTC:20310604T110000
DTEND;TZID=UTC:20310604T193000
DTSTAMP:20260422T003342
CREATED:20251105T100210Z
LAST-MODIFIED:20251105T100235Z
UID:10036088-1938337200-1938367800@discovercrewe.co.uk
SUMMARY:Real Ale Club
DESCRIPTION:Every Wednesday from 11am to 7.30pm\, The Crewe Dog hosts their Real Ale Club where each pint is only £3. \nHead down to Crewe Market Hall to enjoy a delicious craft ale for a fraction of the price. \nFor more information and updates please visit the Crewe Market Hall Facebook page here.
URL:https://discovercrewe.co.uk/event/real-ale-club/2031-06-04/
LOCATION:Crewe Market Hall\, Crewe Market Hall\, 27 Earle Street\, Crewe\, Cheshire\, CW1 2BL
CATEGORIES:Events,Market Hall,Town Centre
ATTACH;FMTTYPE=image/png:https://discovercrewe.co.uk/wp-content/uploads/2025/07/The-Crewe-Dog-5-e1751984589610.png
END:VEVENT
BEGIN:VEVENT
DTSTART;TZID=UTC:20310605T180000
DTEND;TZID=UTC:20310605T210000
DTSTAMP:20260422T003342
CREATED:20260209T115940Z
LAST-MODIFIED:20260209T120234Z
UID:10040429-1938448800-1938459600@discovercrewe.co.uk
SUMMARY:Kill Team & Magic the Gathering
DESCRIPTION:Join Gumshoe Comics & Collectibles every Thursday at Big Mugs on Edleston Road for a games night. \nLearn how to play Warhammer Kill Team and Magic the Gathering or join the veteran gamers for friendly casual play. \nThe weekly event takes place from 6pm until 9pm. \nFor more information please visit here. \nImage (Gumshoe Comics & Collectibles)
URL:https://discovercrewe.co.uk/event/kill-team-magic-the-gathering/2031-06-05/
LOCATION:Big Mugs\, 251 Edleston Road\, Crewe\, CW2 7EA\, United Kingdom
CATEGORIES:Events,Market Hall,Town Centre
ATTACH;FMTTYPE=image/jpeg:https://discovercrewe.co.uk/wp-content/uploads/2026/02/warhammer-magic-the-gathering.jpg
END:VEVENT
BEGIN:VEVENT
DTSTART;TZID=UTC:20310605T190000
DTEND;TZID=UTC:20310605T220000
DTSTAMP:20260422T003342
CREATED:20251105T142950Z
LAST-MODIFIED:20251105T142950Z
UID:10036612-1938452400-1938463200@discovercrewe.co.uk
SUMMARY:Thursday Quiz Hosted by The Cat FM
DESCRIPTION:Every Thursday in Crewe Market Hall\, The Cat FM hosts a weekly quiz. \nIt starts at 7pm and is completely free to enter\, so if you fancy testing your knowledge against your neighbours then head down. \nFor more information keep an eye out on updates on the Crewe Market Hall Facebook here. \nImage (Crewe Market Hall)
URL:https://discovercrewe.co.uk/event/thursday-quiz-hosted-by-the-cat-fm/2031-06-05/
LOCATION:Crewe Market Hall\, Crewe Market Hall\, 27 Earle Street\, Crewe\, Cheshire\, CW1 2BL
CATEGORIES:Events,Market Hall,Town Centre
ATTACH;FMTTYPE=image/jpeg:https://discovercrewe.co.uk/wp-content/uploads/2025/11/the-cat-quiz-e1762352923139.jpg
END:VEVENT
BEGIN:VEVENT
DTSTART;TZID=UTC:20310607T103000
DTEND;TZID=UTC:20310607T150000
DTSTAMP:20260422T003342
CREATED:20251105T143530Z
LAST-MODIFIED:20260223T101406Z
UID:10037134-1938594600-1938610800@discovercrewe.co.uk
SUMMARY:Saturday Mini Market
DESCRIPTION:Every Saturday\, Crewe Market Hall has a Mini Market from 10.30am to 3pm. \nIts your chance to shop local and discover some gems from incredible independent traders. \nSupport your community and head down for a browse. \nFor more information\, keep an eye out for updates on the Crewe Market Hall Facebook here. \nImage (Crewe Market Hall)
URL:https://discovercrewe.co.uk/event/saturday-mini-market/2031-06-07/
LOCATION:Crewe Market Hall\, Crewe Market Hall\, 27 Earle Street\, Crewe\, Cheshire\, CW1 2BL
CATEGORIES:Events,Market Hall,Town Centre
ATTACH;FMTTYPE=image/jpeg:https://discovercrewe.co.uk/wp-content/uploads/2025/11/saturday-mini-market-e1762353277181.jpg
END:VEVENT
BEGIN:VEVENT
DTSTART;TZID=UTC:20310611T110000
DTEND;TZID=UTC:20310611T193000
DTSTAMP:20260422T003342
CREATED:20251105T100210Z
LAST-MODIFIED:20251105T100235Z
UID:10036089-1938942000-1938972600@discovercrewe.co.uk
SUMMARY:Real Ale Club
DESCRIPTION:Every Wednesday from 11am to 7.30pm\, The Crewe Dog hosts their Real Ale Club where each pint is only £3. \nHead down to Crewe Market Hall to enjoy a delicious craft ale for a fraction of the price. \nFor more information and updates please visit the Crewe Market Hall Facebook page here.
URL:https://discovercrewe.co.uk/event/real-ale-club/2031-06-11/
LOCATION:Crewe Market Hall\, Crewe Market Hall\, 27 Earle Street\, Crewe\, Cheshire\, CW1 2BL
CATEGORIES:Events,Market Hall,Town Centre
ATTACH;FMTTYPE=image/png:https://discovercrewe.co.uk/wp-content/uploads/2025/07/The-Crewe-Dog-5-e1751984589610.png
END:VEVENT
BEGIN:VEVENT
DTSTART;TZID=UTC:20310612T180000
DTEND;TZID=UTC:20310612T210000
DTSTAMP:20260422T003342
CREATED:20260209T115940Z
LAST-MODIFIED:20260209T120234Z
UID:10040430-1939053600-1939064400@discovercrewe.co.uk
SUMMARY:Kill Team & Magic the Gathering
DESCRIPTION:Join Gumshoe Comics & Collectibles every Thursday at Big Mugs on Edleston Road for a games night. \nLearn how to play Warhammer Kill Team and Magic the Gathering or join the veteran gamers for friendly casual play. \nThe weekly event takes place from 6pm until 9pm. \nFor more information please visit here. \nImage (Gumshoe Comics & Collectibles)
URL:https://discovercrewe.co.uk/event/kill-team-magic-the-gathering/2031-06-12/
LOCATION:Big Mugs\, 251 Edleston Road\, Crewe\, CW2 7EA\, United Kingdom
CATEGORIES:Events,Market Hall,Town Centre
ATTACH;FMTTYPE=image/jpeg:https://discovercrewe.co.uk/wp-content/uploads/2026/02/warhammer-magic-the-gathering.jpg
END:VEVENT
BEGIN:VEVENT
DTSTART;TZID=UTC:20310612T190000
DTEND;TZID=UTC:20310612T220000
DTSTAMP:20260422T003342
CREATED:20251105T142950Z
LAST-MODIFIED:20251105T142950Z
UID:10036613-1939057200-1939068000@discovercrewe.co.uk
SUMMARY:Thursday Quiz Hosted by The Cat FM
DESCRIPTION:Every Thursday in Crewe Market Hall\, The Cat FM hosts a weekly quiz. \nIt starts at 7pm and is completely free to enter\, so if you fancy testing your knowledge against your neighbours then head down. \nFor more information keep an eye out on updates on the Crewe Market Hall Facebook here. \nImage (Crewe Market Hall)
URL:https://discovercrewe.co.uk/event/thursday-quiz-hosted-by-the-cat-fm/2031-06-12/
LOCATION:Crewe Market Hall\, Crewe Market Hall\, 27 Earle Street\, Crewe\, Cheshire\, CW1 2BL
CATEGORIES:Events,Market Hall,Town Centre
ATTACH;FMTTYPE=image/jpeg:https://discovercrewe.co.uk/wp-content/uploads/2025/11/the-cat-quiz-e1762352923139.jpg
END:VEVENT
BEGIN:VEVENT
DTSTART;TZID=UTC:20310614T103000
DTEND;TZID=UTC:20310614T150000
DTSTAMP:20260422T003342
CREATED:20251105T143530Z
LAST-MODIFIED:20260223T101406Z
UID:10037135-1939199400-1939215600@discovercrewe.co.uk
SUMMARY:Saturday Mini Market
DESCRIPTION:Every Saturday\, Crewe Market Hall has a Mini Market from 10.30am to 3pm. \nIts your chance to shop local and discover some gems from incredible independent traders. \nSupport your community and head down for a browse. \nFor more information\, keep an eye out for updates on the Crewe Market Hall Facebook here. \nImage (Crewe Market Hall)
URL:https://discovercrewe.co.uk/event/saturday-mini-market/2031-06-14/
LOCATION:Crewe Market Hall\, Crewe Market Hall\, 27 Earle Street\, Crewe\, Cheshire\, CW1 2BL
CATEGORIES:Events,Market Hall,Town Centre
ATTACH;FMTTYPE=image/jpeg:https://discovercrewe.co.uk/wp-content/uploads/2025/11/saturday-mini-market-e1762353277181.jpg
END:VEVENT
BEGIN:VEVENT
DTSTART;TZID=UTC:20310618T110000
DTEND;TZID=UTC:20310618T193000
DTSTAMP:20260422T003342
CREATED:20251105T100210Z
LAST-MODIFIED:20251105T100235Z
UID:10036090-1939546800-1939577400@discovercrewe.co.uk
SUMMARY:Real Ale Club
DESCRIPTION:Every Wednesday from 11am to 7.30pm\, The Crewe Dog hosts their Real Ale Club where each pint is only £3. \nHead down to Crewe Market Hall to enjoy a delicious craft ale for a fraction of the price. \nFor more information and updates please visit the Crewe Market Hall Facebook page here.
URL:https://discovercrewe.co.uk/event/real-ale-club/2031-06-18/
LOCATION:Crewe Market Hall\, Crewe Market Hall\, 27 Earle Street\, Crewe\, Cheshire\, CW1 2BL
CATEGORIES:Events,Market Hall,Town Centre
ATTACH;FMTTYPE=image/png:https://discovercrewe.co.uk/wp-content/uploads/2025/07/The-Crewe-Dog-5-e1751984589610.png
END:VEVENT
BEGIN:VEVENT
DTSTART;TZID=UTC:20310619T180000
DTEND;TZID=UTC:20310619T210000
DTSTAMP:20260422T003342
CREATED:20260209T115940Z
LAST-MODIFIED:20260209T120234Z
UID:10040431-1939658400-1939669200@discovercrewe.co.uk
SUMMARY:Kill Team & Magic the Gathering
DESCRIPTION:Join Gumshoe Comics & Collectibles every Thursday at Big Mugs on Edleston Road for a games night. \nLearn how to play Warhammer Kill Team and Magic the Gathering or join the veteran gamers for friendly casual play. \nThe weekly event takes place from 6pm until 9pm. \nFor more information please visit here. \nImage (Gumshoe Comics & Collectibles)
URL:https://discovercrewe.co.uk/event/kill-team-magic-the-gathering/2031-06-19/
LOCATION:Big Mugs\, 251 Edleston Road\, Crewe\, CW2 7EA\, United Kingdom
CATEGORIES:Events,Market Hall,Town Centre
ATTACH;FMTTYPE=image/jpeg:https://discovercrewe.co.uk/wp-content/uploads/2026/02/warhammer-magic-the-gathering.jpg
END:VEVENT
BEGIN:VEVENT
DTSTART;TZID=UTC:20310619T190000
DTEND;TZID=UTC:20310619T220000
DTSTAMP:20260422T003342
CREATED:20251105T142950Z
LAST-MODIFIED:20251105T142950Z
UID:10036614-1939662000-1939672800@discovercrewe.co.uk
SUMMARY:Thursday Quiz Hosted by The Cat FM
DESCRIPTION:Every Thursday in Crewe Market Hall\, The Cat FM hosts a weekly quiz. \nIt starts at 7pm and is completely free to enter\, so if you fancy testing your knowledge against your neighbours then head down. \nFor more information keep an eye out on updates on the Crewe Market Hall Facebook here. \nImage (Crewe Market Hall)
URL:https://discovercrewe.co.uk/event/thursday-quiz-hosted-by-the-cat-fm/2031-06-19/
LOCATION:Crewe Market Hall\, Crewe Market Hall\, 27 Earle Street\, Crewe\, Cheshire\, CW1 2BL
CATEGORIES:Events,Market Hall,Town Centre
ATTACH;FMTTYPE=image/jpeg:https://discovercrewe.co.uk/wp-content/uploads/2025/11/the-cat-quiz-e1762352923139.jpg
END:VEVENT
BEGIN:VEVENT
DTSTART;TZID=UTC:20310621T103000
DTEND;TZID=UTC:20310621T150000
DTSTAMP:20260422T003342
CREATED:20251105T143530Z
LAST-MODIFIED:20260223T101406Z
UID:10037136-1939804200-1939820400@discovercrewe.co.uk
SUMMARY:Saturday Mini Market
DESCRIPTION:Every Saturday\, Crewe Market Hall has a Mini Market from 10.30am to 3pm. \nIts your chance to shop local and discover some gems from incredible independent traders. \nSupport your community and head down for a browse. \nFor more information\, keep an eye out for updates on the Crewe Market Hall Facebook here. \nImage (Crewe Market Hall)
URL:https://discovercrewe.co.uk/event/saturday-mini-market/2031-06-21/
LOCATION:Crewe Market Hall\, Crewe Market Hall\, 27 Earle Street\, Crewe\, Cheshire\, CW1 2BL
CATEGORIES:Events,Market Hall,Town Centre
ATTACH;FMTTYPE=image/jpeg:https://discovercrewe.co.uk/wp-content/uploads/2025/11/saturday-mini-market-e1762353277181.jpg
END:VEVENT
BEGIN:VEVENT
DTSTART;TZID=UTC:20310625T110000
DTEND;TZID=UTC:20310625T193000
DTSTAMP:20260422T003342
CREATED:20251105T100210Z
LAST-MODIFIED:20251105T100235Z
UID:10036091-1940151600-1940182200@discovercrewe.co.uk
SUMMARY:Real Ale Club
DESCRIPTION:Every Wednesday from 11am to 7.30pm\, The Crewe Dog hosts their Real Ale Club where each pint is only £3. \nHead down to Crewe Market Hall to enjoy a delicious craft ale for a fraction of the price. \nFor more information and updates please visit the Crewe Market Hall Facebook page here.
URL:https://discovercrewe.co.uk/event/real-ale-club/2031-06-25/
LOCATION:Crewe Market Hall\, Crewe Market Hall\, 27 Earle Street\, Crewe\, Cheshire\, CW1 2BL
CATEGORIES:Events,Market Hall,Town Centre
ATTACH;FMTTYPE=image/png:https://discovercrewe.co.uk/wp-content/uploads/2025/07/The-Crewe-Dog-5-e1751984589610.png
END:VEVENT
BEGIN:VEVENT
DTSTART;TZID=UTC:20310626T180000
DTEND;TZID=UTC:20310626T210000
DTSTAMP:20260422T003342
CREATED:20260209T115940Z
LAST-MODIFIED:20260209T120234Z
UID:10040432-1940263200-1940274000@discovercrewe.co.uk
SUMMARY:Kill Team & Magic the Gathering
DESCRIPTION:Join Gumshoe Comics & Collectibles every Thursday at Big Mugs on Edleston Road for a games night. \nLearn how to play Warhammer Kill Team and Magic the Gathering or join the veteran gamers for friendly casual play. \nThe weekly event takes place from 6pm until 9pm. \nFor more information please visit here. \nImage (Gumshoe Comics & Collectibles)
URL:https://discovercrewe.co.uk/event/kill-team-magic-the-gathering/2031-06-26/
LOCATION:Big Mugs\, 251 Edleston Road\, Crewe\, CW2 7EA\, United Kingdom
CATEGORIES:Events,Market Hall,Town Centre
ATTACH;FMTTYPE=image/jpeg:https://discovercrewe.co.uk/wp-content/uploads/2026/02/warhammer-magic-the-gathering.jpg
END:VEVENT
BEGIN:VEVENT
DTSTART;TZID=UTC:20310626T190000
DTEND;TZID=UTC:20310626T220000
DTSTAMP:20260422T003342
CREATED:20251105T142950Z
LAST-MODIFIED:20251105T142950Z
UID:10036615-1940266800-1940277600@discovercrewe.co.uk
SUMMARY:Thursday Quiz Hosted by The Cat FM
DESCRIPTION:Every Thursday in Crewe Market Hall\, The Cat FM hosts a weekly quiz. \nIt starts at 7pm and is completely free to enter\, so if you fancy testing your knowledge against your neighbours then head down. \nFor more information keep an eye out on updates on the Crewe Market Hall Facebook here. \nImage (Crewe Market Hall)
URL:https://discovercrewe.co.uk/event/thursday-quiz-hosted-by-the-cat-fm/2031-06-26/
LOCATION:Crewe Market Hall\, Crewe Market Hall\, 27 Earle Street\, Crewe\, Cheshire\, CW1 2BL
CATEGORIES:Events,Market Hall,Town Centre
ATTACH;FMTTYPE=image/jpeg:https://discovercrewe.co.uk/wp-content/uploads/2025/11/the-cat-quiz-e1762352923139.jpg
END:VEVENT
BEGIN:VEVENT
DTSTART;TZID=UTC:20310628T103000
DTEND;TZID=UTC:20310628T150000
DTSTAMP:20260422T003342
CREATED:20251105T143530Z
LAST-MODIFIED:20260223T101406Z
UID:10037137-1940409000-1940425200@discovercrewe.co.uk
SUMMARY:Saturday Mini Market
DESCRIPTION:Every Saturday\, Crewe Market Hall has a Mini Market from 10.30am to 3pm. \nIts your chance to shop local and discover some gems from incredible independent traders. \nSupport your community and head down for a browse. \nFor more information\, keep an eye out for updates on the Crewe Market Hall Facebook here. \nImage (Crewe Market Hall)
URL:https://discovercrewe.co.uk/event/saturday-mini-market/2031-06-28/
LOCATION:Crewe Market Hall\, Crewe Market Hall\, 27 Earle Street\, Crewe\, Cheshire\, CW1 2BL
CATEGORIES:Events,Market Hall,Town Centre
ATTACH;FMTTYPE=image/jpeg:https://discovercrewe.co.uk/wp-content/uploads/2025/11/saturday-mini-market-e1762353277181.jpg
END:VEVENT
END:VCALENDAR