BEGIN:VCALENDAR
VERSION:2.0
PRODID:-//Discover Crewe - ECPv6.15.15//NONSGML v1.0//EN
CALSCALE:GREGORIAN
METHOD:PUBLISH
X-ORIGINAL-URL:https://discovercrewe.co.uk
X-WR-CALDESC:Events for Discover Crewe
REFRESH-INTERVAL;VALUE=DURATION:PT1H
X-Robots-Tag:noindex
X-PUBLISHED-TTL:PT1H
BEGIN:VTIMEZONE
TZID:UTC
BEGIN:STANDARD
TZOFFSETFROM:+0000
TZOFFSETTO:+0000
TZNAME:UTC
DTSTART:20290101T000000
END:STANDARD
END:VTIMEZONE
BEGIN:VEVENT
DTSTART;TZID=UTC:20301204T110000
DTEND;TZID=UTC:20301204T193000
DTSTAMP:20260421T110818
CREATED:20251105T100210Z
LAST-MODIFIED:20251105T100235Z
UID:10036062-1922612400-1922643000@discovercrewe.co.uk
SUMMARY:Real Ale Club
DESCRIPTION:Every Wednesday from 11am to 7.30pm\, The Crewe Dog hosts their Real Ale Club where each pint is only £3. \nHead down to Crewe Market Hall to enjoy a delicious craft ale for a fraction of the price. \nFor more information and updates please visit the Crewe Market Hall Facebook page here.
URL:https://discovercrewe.co.uk/event/real-ale-club/2030-12-04/
LOCATION:Crewe Market Hall\, Crewe Market Hall\, 27 Earle Street\, Crewe\, Cheshire\, CW1 2BL
CATEGORIES:Events,Market Hall,Town Centre
ATTACH;FMTTYPE=image/png:https://discovercrewe.co.uk/wp-content/uploads/2025/07/The-Crewe-Dog-5-e1751984589610.png
END:VEVENT
BEGIN:VEVENT
DTSTART;TZID=UTC:20301205T180000
DTEND;TZID=UTC:20301205T210000
DTSTAMP:20260421T110818
CREATED:20260209T115940Z
LAST-MODIFIED:20260209T120234Z
UID:10040403-1922724000-1922734800@discovercrewe.co.uk
SUMMARY:Kill Team & Magic the Gathering
DESCRIPTION:Join Gumshoe Comics & Collectibles every Thursday at Big Mugs on Edleston Road for a games night. \nLearn how to play Warhammer Kill Team and Magic the Gathering or join the veteran gamers for friendly casual play. \nThe weekly event takes place from 6pm until 9pm. \nFor more information please visit here. \nImage (Gumshoe Comics & Collectibles)
URL:https://discovercrewe.co.uk/event/kill-team-magic-the-gathering/2030-12-05/
LOCATION:Big Mugs\, 251 Edleston Road\, Crewe\, CW2 7EA\, United Kingdom
CATEGORIES:Events,Market Hall,Town Centre
ATTACH;FMTTYPE=image/jpeg:https://discovercrewe.co.uk/wp-content/uploads/2026/02/warhammer-magic-the-gathering.jpg
END:VEVENT
BEGIN:VEVENT
DTSTART;TZID=UTC:20301205T190000
DTEND;TZID=UTC:20301205T220000
DTSTAMP:20260421T110818
CREATED:20251105T142950Z
LAST-MODIFIED:20251105T142950Z
UID:10036586-1922727600-1922738400@discovercrewe.co.uk
SUMMARY:Thursday Quiz Hosted by The Cat FM
DESCRIPTION:Every Thursday in Crewe Market Hall\, The Cat FM hosts a weekly quiz. \nIt starts at 7pm and is completely free to enter\, so if you fancy testing your knowledge against your neighbours then head down. \nFor more information keep an eye out on updates on the Crewe Market Hall Facebook here. \nImage (Crewe Market Hall)
URL:https://discovercrewe.co.uk/event/thursday-quiz-hosted-by-the-cat-fm/2030-12-05/
LOCATION:Crewe Market Hall\, Crewe Market Hall\, 27 Earle Street\, Crewe\, Cheshire\, CW1 2BL
CATEGORIES:Events,Market Hall,Town Centre
ATTACH;FMTTYPE=image/jpeg:https://discovercrewe.co.uk/wp-content/uploads/2025/11/the-cat-quiz-e1762352923139.jpg
END:VEVENT
BEGIN:VEVENT
DTSTART;TZID=UTC:20301207T103000
DTEND;TZID=UTC:20301207T150000
DTSTAMP:20260421T110818
CREATED:20251105T143530Z
LAST-MODIFIED:20260223T101406Z
UID:10037108-1922869800-1922886000@discovercrewe.co.uk
SUMMARY:Saturday Mini Market
DESCRIPTION:Every Saturday\, Crewe Market Hall has a Mini Market from 10.30am to 3pm. \nIts your chance to shop local and discover some gems from incredible independent traders. \nSupport your community and head down for a browse. \nFor more information\, keep an eye out for updates on the Crewe Market Hall Facebook here. \nImage (Crewe Market Hall)
URL:https://discovercrewe.co.uk/event/saturday-mini-market/2030-12-07/
LOCATION:Crewe Market Hall\, Crewe Market Hall\, 27 Earle Street\, Crewe\, Cheshire\, CW1 2BL
CATEGORIES:Events,Market Hall,Town Centre
ATTACH;FMTTYPE=image/jpeg:https://discovercrewe.co.uk/wp-content/uploads/2025/11/saturday-mini-market-e1762353277181.jpg
END:VEVENT
BEGIN:VEVENT
DTSTART;TZID=UTC:20301211T110000
DTEND;TZID=UTC:20301211T193000
DTSTAMP:20260421T110818
CREATED:20251105T100210Z
LAST-MODIFIED:20251105T100235Z
UID:10036063-1923217200-1923247800@discovercrewe.co.uk
SUMMARY:Real Ale Club
DESCRIPTION:Every Wednesday from 11am to 7.30pm\, The Crewe Dog hosts their Real Ale Club where each pint is only £3. \nHead down to Crewe Market Hall to enjoy a delicious craft ale for a fraction of the price. \nFor more information and updates please visit the Crewe Market Hall Facebook page here.
URL:https://discovercrewe.co.uk/event/real-ale-club/2030-12-11/
LOCATION:Crewe Market Hall\, Crewe Market Hall\, 27 Earle Street\, Crewe\, Cheshire\, CW1 2BL
CATEGORIES:Events,Market Hall,Town Centre
ATTACH;FMTTYPE=image/png:https://discovercrewe.co.uk/wp-content/uploads/2025/07/The-Crewe-Dog-5-e1751984589610.png
END:VEVENT
BEGIN:VEVENT
DTSTART;TZID=UTC:20301212T180000
DTEND;TZID=UTC:20301212T210000
DTSTAMP:20260421T110818
CREATED:20260209T115940Z
LAST-MODIFIED:20260209T120234Z
UID:10040404-1923328800-1923339600@discovercrewe.co.uk
SUMMARY:Kill Team & Magic the Gathering
DESCRIPTION:Join Gumshoe Comics & Collectibles every Thursday at Big Mugs on Edleston Road for a games night. \nLearn how to play Warhammer Kill Team and Magic the Gathering or join the veteran gamers for friendly casual play. \nThe weekly event takes place from 6pm until 9pm. \nFor more information please visit here. \nImage (Gumshoe Comics & Collectibles)
URL:https://discovercrewe.co.uk/event/kill-team-magic-the-gathering/2030-12-12/
LOCATION:Big Mugs\, 251 Edleston Road\, Crewe\, CW2 7EA\, United Kingdom
CATEGORIES:Events,Market Hall,Town Centre
ATTACH;FMTTYPE=image/jpeg:https://discovercrewe.co.uk/wp-content/uploads/2026/02/warhammer-magic-the-gathering.jpg
END:VEVENT
BEGIN:VEVENT
DTSTART;TZID=UTC:20301212T190000
DTEND;TZID=UTC:20301212T220000
DTSTAMP:20260421T110818
CREATED:20251105T142950Z
LAST-MODIFIED:20251105T142950Z
UID:10036587-1923332400-1923343200@discovercrewe.co.uk
SUMMARY:Thursday Quiz Hosted by The Cat FM
DESCRIPTION:Every Thursday in Crewe Market Hall\, The Cat FM hosts a weekly quiz. \nIt starts at 7pm and is completely free to enter\, so if you fancy testing your knowledge against your neighbours then head down. \nFor more information keep an eye out on updates on the Crewe Market Hall Facebook here. \nImage (Crewe Market Hall)
URL:https://discovercrewe.co.uk/event/thursday-quiz-hosted-by-the-cat-fm/2030-12-12/
LOCATION:Crewe Market Hall\, Crewe Market Hall\, 27 Earle Street\, Crewe\, Cheshire\, CW1 2BL
CATEGORIES:Events,Market Hall,Town Centre
ATTACH;FMTTYPE=image/jpeg:https://discovercrewe.co.uk/wp-content/uploads/2025/11/the-cat-quiz-e1762352923139.jpg
END:VEVENT
BEGIN:VEVENT
DTSTART;TZID=UTC:20301214T103000
DTEND;TZID=UTC:20301214T150000
DTSTAMP:20260421T110818
CREATED:20251105T143530Z
LAST-MODIFIED:20260223T101406Z
UID:10037109-1923474600-1923490800@discovercrewe.co.uk
SUMMARY:Saturday Mini Market
DESCRIPTION:Every Saturday\, Crewe Market Hall has a Mini Market from 10.30am to 3pm. \nIts your chance to shop local and discover some gems from incredible independent traders. \nSupport your community and head down for a browse. \nFor more information\, keep an eye out for updates on the Crewe Market Hall Facebook here. \nImage (Crewe Market Hall)
URL:https://discovercrewe.co.uk/event/saturday-mini-market/2030-12-14/
LOCATION:Crewe Market Hall\, Crewe Market Hall\, 27 Earle Street\, Crewe\, Cheshire\, CW1 2BL
CATEGORIES:Events,Market Hall,Town Centre
ATTACH;FMTTYPE=image/jpeg:https://discovercrewe.co.uk/wp-content/uploads/2025/11/saturday-mini-market-e1762353277181.jpg
END:VEVENT
BEGIN:VEVENT
DTSTART;TZID=UTC:20301218T110000
DTEND;TZID=UTC:20301218T193000
DTSTAMP:20260421T110818
CREATED:20251105T100210Z
LAST-MODIFIED:20251105T100235Z
UID:10036064-1923822000-1923852600@discovercrewe.co.uk
SUMMARY:Real Ale Club
DESCRIPTION:Every Wednesday from 11am to 7.30pm\, The Crewe Dog hosts their Real Ale Club where each pint is only £3. \nHead down to Crewe Market Hall to enjoy a delicious craft ale for a fraction of the price. \nFor more information and updates please visit the Crewe Market Hall Facebook page here.
URL:https://discovercrewe.co.uk/event/real-ale-club/2030-12-18/
LOCATION:Crewe Market Hall\, Crewe Market Hall\, 27 Earle Street\, Crewe\, Cheshire\, CW1 2BL
CATEGORIES:Events,Market Hall,Town Centre
ATTACH;FMTTYPE=image/png:https://discovercrewe.co.uk/wp-content/uploads/2025/07/The-Crewe-Dog-5-e1751984589610.png
END:VEVENT
BEGIN:VEVENT
DTSTART;TZID=UTC:20301219T180000
DTEND;TZID=UTC:20301219T210000
DTSTAMP:20260421T110818
CREATED:20260209T115940Z
LAST-MODIFIED:20260209T120234Z
UID:10040405-1923933600-1923944400@discovercrewe.co.uk
SUMMARY:Kill Team & Magic the Gathering
DESCRIPTION:Join Gumshoe Comics & Collectibles every Thursday at Big Mugs on Edleston Road for a games night. \nLearn how to play Warhammer Kill Team and Magic the Gathering or join the veteran gamers for friendly casual play. \nThe weekly event takes place from 6pm until 9pm. \nFor more information please visit here. \nImage (Gumshoe Comics & Collectibles)
URL:https://discovercrewe.co.uk/event/kill-team-magic-the-gathering/2030-12-19/
LOCATION:Big Mugs\, 251 Edleston Road\, Crewe\, CW2 7EA\, United Kingdom
CATEGORIES:Events,Market Hall,Town Centre
ATTACH;FMTTYPE=image/jpeg:https://discovercrewe.co.uk/wp-content/uploads/2026/02/warhammer-magic-the-gathering.jpg
END:VEVENT
BEGIN:VEVENT
DTSTART;TZID=UTC:20301219T190000
DTEND;TZID=UTC:20301219T220000
DTSTAMP:20260421T110818
CREATED:20251105T142950Z
LAST-MODIFIED:20251105T142950Z
UID:10036588-1923937200-1923948000@discovercrewe.co.uk
SUMMARY:Thursday Quiz Hosted by The Cat FM
DESCRIPTION:Every Thursday in Crewe Market Hall\, The Cat FM hosts a weekly quiz. \nIt starts at 7pm and is completely free to enter\, so if you fancy testing your knowledge against your neighbours then head down. \nFor more information keep an eye out on updates on the Crewe Market Hall Facebook here. \nImage (Crewe Market Hall)
URL:https://discovercrewe.co.uk/event/thursday-quiz-hosted-by-the-cat-fm/2030-12-19/
LOCATION:Crewe Market Hall\, Crewe Market Hall\, 27 Earle Street\, Crewe\, Cheshire\, CW1 2BL
CATEGORIES:Events,Market Hall,Town Centre
ATTACH;FMTTYPE=image/jpeg:https://discovercrewe.co.uk/wp-content/uploads/2025/11/the-cat-quiz-e1762352923139.jpg
END:VEVENT
BEGIN:VEVENT
DTSTART;TZID=UTC:20301221T103000
DTEND;TZID=UTC:20301221T150000
DTSTAMP:20260421T110818
CREATED:20251105T143530Z
LAST-MODIFIED:20260223T101406Z
UID:10037110-1924079400-1924095600@discovercrewe.co.uk
SUMMARY:Saturday Mini Market
DESCRIPTION:Every Saturday\, Crewe Market Hall has a Mini Market from 10.30am to 3pm. \nIts your chance to shop local and discover some gems from incredible independent traders. \nSupport your community and head down for a browse. \nFor more information\, keep an eye out for updates on the Crewe Market Hall Facebook here. \nImage (Crewe Market Hall)
URL:https://discovercrewe.co.uk/event/saturday-mini-market/2030-12-21/
LOCATION:Crewe Market Hall\, Crewe Market Hall\, 27 Earle Street\, Crewe\, Cheshire\, CW1 2BL
CATEGORIES:Events,Market Hall,Town Centre
ATTACH;FMTTYPE=image/jpeg:https://discovercrewe.co.uk/wp-content/uploads/2025/11/saturday-mini-market-e1762353277181.jpg
END:VEVENT
BEGIN:VEVENT
DTSTART;TZID=UTC:20301225T110000
DTEND;TZID=UTC:20301225T193000
DTSTAMP:20260421T110818
CREATED:20251105T100210Z
LAST-MODIFIED:20251105T100235Z
UID:10036065-1924426800-1924457400@discovercrewe.co.uk
SUMMARY:Real Ale Club
DESCRIPTION:Every Wednesday from 11am to 7.30pm\, The Crewe Dog hosts their Real Ale Club where each pint is only £3. \nHead down to Crewe Market Hall to enjoy a delicious craft ale for a fraction of the price. \nFor more information and updates please visit the Crewe Market Hall Facebook page here.
URL:https://discovercrewe.co.uk/event/real-ale-club/2030-12-25/
LOCATION:Crewe Market Hall\, Crewe Market Hall\, 27 Earle Street\, Crewe\, Cheshire\, CW1 2BL
CATEGORIES:Events,Market Hall,Town Centre
ATTACH;FMTTYPE=image/png:https://discovercrewe.co.uk/wp-content/uploads/2025/07/The-Crewe-Dog-5-e1751984589610.png
END:VEVENT
BEGIN:VEVENT
DTSTART;TZID=UTC:20301226T180000
DTEND;TZID=UTC:20301226T210000
DTSTAMP:20260421T110818
CREATED:20260209T115940Z
LAST-MODIFIED:20260209T120234Z
UID:10040406-1924538400-1924549200@discovercrewe.co.uk
SUMMARY:Kill Team & Magic the Gathering
DESCRIPTION:Join Gumshoe Comics & Collectibles every Thursday at Big Mugs on Edleston Road for a games night. \nLearn how to play Warhammer Kill Team and Magic the Gathering or join the veteran gamers for friendly casual play. \nThe weekly event takes place from 6pm until 9pm. \nFor more information please visit here. \nImage (Gumshoe Comics & Collectibles)
URL:https://discovercrewe.co.uk/event/kill-team-magic-the-gathering/2030-12-26/
LOCATION:Big Mugs\, 251 Edleston Road\, Crewe\, CW2 7EA\, United Kingdom
CATEGORIES:Events,Market Hall,Town Centre
ATTACH;FMTTYPE=image/jpeg:https://discovercrewe.co.uk/wp-content/uploads/2026/02/warhammer-magic-the-gathering.jpg
END:VEVENT
BEGIN:VEVENT
DTSTART;TZID=UTC:20301226T190000
DTEND;TZID=UTC:20301226T220000
DTSTAMP:20260421T110818
CREATED:20251105T142950Z
LAST-MODIFIED:20251105T142950Z
UID:10036589-1924542000-1924552800@discovercrewe.co.uk
SUMMARY:Thursday Quiz Hosted by The Cat FM
DESCRIPTION:Every Thursday in Crewe Market Hall\, The Cat FM hosts a weekly quiz. \nIt starts at 7pm and is completely free to enter\, so if you fancy testing your knowledge against your neighbours then head down. \nFor more information keep an eye out on updates on the Crewe Market Hall Facebook here. \nImage (Crewe Market Hall)
URL:https://discovercrewe.co.uk/event/thursday-quiz-hosted-by-the-cat-fm/2030-12-26/
LOCATION:Crewe Market Hall\, Crewe Market Hall\, 27 Earle Street\, Crewe\, Cheshire\, CW1 2BL
CATEGORIES:Events,Market Hall,Town Centre
ATTACH;FMTTYPE=image/jpeg:https://discovercrewe.co.uk/wp-content/uploads/2025/11/the-cat-quiz-e1762352923139.jpg
END:VEVENT
BEGIN:VEVENT
DTSTART;TZID=UTC:20301228T103000
DTEND;TZID=UTC:20301228T150000
DTSTAMP:20260421T110818
CREATED:20251105T143530Z
LAST-MODIFIED:20260223T101406Z
UID:10037111-1924684200-1924700400@discovercrewe.co.uk
SUMMARY:Saturday Mini Market
DESCRIPTION:Every Saturday\, Crewe Market Hall has a Mini Market from 10.30am to 3pm. \nIts your chance to shop local and discover some gems from incredible independent traders. \nSupport your community and head down for a browse. \nFor more information\, keep an eye out for updates on the Crewe Market Hall Facebook here. \nImage (Crewe Market Hall)
URL:https://discovercrewe.co.uk/event/saturday-mini-market/2030-12-28/
LOCATION:Crewe Market Hall\, Crewe Market Hall\, 27 Earle Street\, Crewe\, Cheshire\, CW1 2BL
CATEGORIES:Events,Market Hall,Town Centre
ATTACH;FMTTYPE=image/jpeg:https://discovercrewe.co.uk/wp-content/uploads/2025/11/saturday-mini-market-e1762353277181.jpg
END:VEVENT
END:VCALENDAR