BEGIN:VCALENDAR
VERSION:2.0
PRODID:-//Discover Crewe - ECPv6.15.15//NONSGML v1.0//EN
CALSCALE:GREGORIAN
METHOD:PUBLISH
X-WR-CALNAME:Discover Crewe
X-ORIGINAL-URL:https://discovercrewe.co.uk
X-WR-CALDESC:Events for Discover Crewe
REFRESH-INTERVAL;VALUE=DURATION:PT1H
X-Robots-Tag:noindex
X-PUBLISHED-TTL:PT1H
BEGIN:VTIMEZONE
TZID:UTC
BEGIN:STANDARD
TZOFFSETFROM:+0000
TZOFFSETTO:+0000
TZNAME:UTC
DTSTART:20290101T000000
END:STANDARD
END:VTIMEZONE
BEGIN:VEVENT
DTSTART;TZID=UTC:20300601T103000
DTEND;TZID=UTC:20300601T150000
DTSTAMP:20260420T075457
CREATED:20251105T143530Z
LAST-MODIFIED:20260223T101406Z
UID:10037081-1906540200-1906556400@discovercrewe.co.uk
SUMMARY:Saturday Mini Market
DESCRIPTION:Every Saturday\, Crewe Market Hall has a Mini Market from 10.30am to 3pm. \nIts your chance to shop local and discover some gems from incredible independent traders. \nSupport your community and head down for a browse. \nFor more information\, keep an eye out for updates on the Crewe Market Hall Facebook here. \nImage (Crewe Market Hall)
URL:https://discovercrewe.co.uk/event/saturday-mini-market/2030-06-01/
LOCATION:Crewe Market Hall\, Crewe Market Hall\, 27 Earle Street\, Crewe\, Cheshire\, CW1 2BL
CATEGORIES:Events,Market Hall,Town Centre
ATTACH;FMTTYPE=image/jpeg:https://discovercrewe.co.uk/wp-content/uploads/2025/11/saturday-mini-market-e1762353277181.jpg
END:VEVENT
BEGIN:VEVENT
DTSTART;TZID=UTC:20300605T110000
DTEND;TZID=UTC:20300605T193000
DTSTAMP:20260420T075457
CREATED:20251105T100210Z
LAST-MODIFIED:20251105T100235Z
UID:10036036-1906887600-1906918200@discovercrewe.co.uk
SUMMARY:Real Ale Club
DESCRIPTION:Every Wednesday from 11am to 7.30pm\, The Crewe Dog hosts their Real Ale Club where each pint is only £3. \nHead down to Crewe Market Hall to enjoy a delicious craft ale for a fraction of the price. \nFor more information and updates please visit the Crewe Market Hall Facebook page here.
URL:https://discovercrewe.co.uk/event/real-ale-club/2030-06-05/
LOCATION:Crewe Market Hall\, Crewe Market Hall\, 27 Earle Street\, Crewe\, Cheshire\, CW1 2BL
CATEGORIES:Events,Market Hall,Town Centre
ATTACH;FMTTYPE=image/png:https://discovercrewe.co.uk/wp-content/uploads/2025/07/The-Crewe-Dog-5-e1751984589610.png
END:VEVENT
BEGIN:VEVENT
DTSTART;TZID=UTC:20300606T180000
DTEND;TZID=UTC:20300606T210000
DTSTAMP:20260420T075457
CREATED:20260209T115940Z
LAST-MODIFIED:20260209T120234Z
UID:10040377-1906999200-1907010000@discovercrewe.co.uk
SUMMARY:Kill Team & Magic the Gathering
DESCRIPTION:Join Gumshoe Comics & Collectibles every Thursday at Big Mugs on Edleston Road for a games night. \nLearn how to play Warhammer Kill Team and Magic the Gathering or join the veteran gamers for friendly casual play. \nThe weekly event takes place from 6pm until 9pm. \nFor more information please visit here. \nImage (Gumshoe Comics & Collectibles)
URL:https://discovercrewe.co.uk/event/kill-team-magic-the-gathering/2030-06-06/
LOCATION:Big Mugs\, 251 Edleston Road\, Crewe\, CW2 7EA\, United Kingdom
CATEGORIES:Events,Market Hall,Town Centre
ATTACH;FMTTYPE=image/jpeg:https://discovercrewe.co.uk/wp-content/uploads/2026/02/warhammer-magic-the-gathering.jpg
END:VEVENT
BEGIN:VEVENT
DTSTART;TZID=UTC:20300606T190000
DTEND;TZID=UTC:20300606T220000
DTSTAMP:20260420T075457
CREATED:20251105T142950Z
LAST-MODIFIED:20251105T142950Z
UID:10036560-1907002800-1907013600@discovercrewe.co.uk
SUMMARY:Thursday Quiz Hosted by The Cat FM
DESCRIPTION:Every Thursday in Crewe Market Hall\, The Cat FM hosts a weekly quiz. \nIt starts at 7pm and is completely free to enter\, so if you fancy testing your knowledge against your neighbours then head down. \nFor more information keep an eye out on updates on the Crewe Market Hall Facebook here. \nImage (Crewe Market Hall)
URL:https://discovercrewe.co.uk/event/thursday-quiz-hosted-by-the-cat-fm/2030-06-06/
LOCATION:Crewe Market Hall\, Crewe Market Hall\, 27 Earle Street\, Crewe\, Cheshire\, CW1 2BL
CATEGORIES:Events,Market Hall,Town Centre
ATTACH;FMTTYPE=image/jpeg:https://discovercrewe.co.uk/wp-content/uploads/2025/11/the-cat-quiz-e1762352923139.jpg
END:VEVENT
BEGIN:VEVENT
DTSTART;TZID=UTC:20300608T103000
DTEND;TZID=UTC:20300608T150000
DTSTAMP:20260420T075457
CREATED:20251105T143530Z
LAST-MODIFIED:20260223T101406Z
UID:10037082-1907145000-1907161200@discovercrewe.co.uk
SUMMARY:Saturday Mini Market
DESCRIPTION:Every Saturday\, Crewe Market Hall has a Mini Market from 10.30am to 3pm. \nIts your chance to shop local and discover some gems from incredible independent traders. \nSupport your community and head down for a browse. \nFor more information\, keep an eye out for updates on the Crewe Market Hall Facebook here. \nImage (Crewe Market Hall)
URL:https://discovercrewe.co.uk/event/saturday-mini-market/2030-06-08/
LOCATION:Crewe Market Hall\, Crewe Market Hall\, 27 Earle Street\, Crewe\, Cheshire\, CW1 2BL
CATEGORIES:Events,Market Hall,Town Centre
ATTACH;FMTTYPE=image/jpeg:https://discovercrewe.co.uk/wp-content/uploads/2025/11/saturday-mini-market-e1762353277181.jpg
END:VEVENT
BEGIN:VEVENT
DTSTART;TZID=UTC:20300612T110000
DTEND;TZID=UTC:20300612T193000
DTSTAMP:20260420T075457
CREATED:20251105T100210Z
LAST-MODIFIED:20251105T100235Z
UID:10036037-1907492400-1907523000@discovercrewe.co.uk
SUMMARY:Real Ale Club
DESCRIPTION:Every Wednesday from 11am to 7.30pm\, The Crewe Dog hosts their Real Ale Club where each pint is only £3. \nHead down to Crewe Market Hall to enjoy a delicious craft ale for a fraction of the price. \nFor more information and updates please visit the Crewe Market Hall Facebook page here.
URL:https://discovercrewe.co.uk/event/real-ale-club/2030-06-12/
LOCATION:Crewe Market Hall\, Crewe Market Hall\, 27 Earle Street\, Crewe\, Cheshire\, CW1 2BL
CATEGORIES:Events,Market Hall,Town Centre
ATTACH;FMTTYPE=image/png:https://discovercrewe.co.uk/wp-content/uploads/2025/07/The-Crewe-Dog-5-e1751984589610.png
END:VEVENT
BEGIN:VEVENT
DTSTART;TZID=UTC:20300613T180000
DTEND;TZID=UTC:20300613T210000
DTSTAMP:20260420T075457
CREATED:20260209T115940Z
LAST-MODIFIED:20260209T120234Z
UID:10040378-1907604000-1907614800@discovercrewe.co.uk
SUMMARY:Kill Team & Magic the Gathering
DESCRIPTION:Join Gumshoe Comics & Collectibles every Thursday at Big Mugs on Edleston Road for a games night. \nLearn how to play Warhammer Kill Team and Magic the Gathering or join the veteran gamers for friendly casual play. \nThe weekly event takes place from 6pm until 9pm. \nFor more information please visit here. \nImage (Gumshoe Comics & Collectibles)
URL:https://discovercrewe.co.uk/event/kill-team-magic-the-gathering/2030-06-13/
LOCATION:Big Mugs\, 251 Edleston Road\, Crewe\, CW2 7EA\, United Kingdom
CATEGORIES:Events,Market Hall,Town Centre
ATTACH;FMTTYPE=image/jpeg:https://discovercrewe.co.uk/wp-content/uploads/2026/02/warhammer-magic-the-gathering.jpg
END:VEVENT
BEGIN:VEVENT
DTSTART;TZID=UTC:20300613T190000
DTEND;TZID=UTC:20300613T220000
DTSTAMP:20260420T075457
CREATED:20251105T142950Z
LAST-MODIFIED:20251105T142950Z
UID:10036561-1907607600-1907618400@discovercrewe.co.uk
SUMMARY:Thursday Quiz Hosted by The Cat FM
DESCRIPTION:Every Thursday in Crewe Market Hall\, The Cat FM hosts a weekly quiz. \nIt starts at 7pm and is completely free to enter\, so if you fancy testing your knowledge against your neighbours then head down. \nFor more information keep an eye out on updates on the Crewe Market Hall Facebook here. \nImage (Crewe Market Hall)
URL:https://discovercrewe.co.uk/event/thursday-quiz-hosted-by-the-cat-fm/2030-06-13/
LOCATION:Crewe Market Hall\, Crewe Market Hall\, 27 Earle Street\, Crewe\, Cheshire\, CW1 2BL
CATEGORIES:Events,Market Hall,Town Centre
ATTACH;FMTTYPE=image/jpeg:https://discovercrewe.co.uk/wp-content/uploads/2025/11/the-cat-quiz-e1762352923139.jpg
END:VEVENT
BEGIN:VEVENT
DTSTART;TZID=UTC:20300615T103000
DTEND;TZID=UTC:20300615T150000
DTSTAMP:20260420T075457
CREATED:20251105T143530Z
LAST-MODIFIED:20260223T101406Z
UID:10037083-1907749800-1907766000@discovercrewe.co.uk
SUMMARY:Saturday Mini Market
DESCRIPTION:Every Saturday\, Crewe Market Hall has a Mini Market from 10.30am to 3pm. \nIts your chance to shop local and discover some gems from incredible independent traders. \nSupport your community and head down for a browse. \nFor more information\, keep an eye out for updates on the Crewe Market Hall Facebook here. \nImage (Crewe Market Hall)
URL:https://discovercrewe.co.uk/event/saturday-mini-market/2030-06-15/
LOCATION:Crewe Market Hall\, Crewe Market Hall\, 27 Earle Street\, Crewe\, Cheshire\, CW1 2BL
CATEGORIES:Events,Market Hall,Town Centre
ATTACH;FMTTYPE=image/jpeg:https://discovercrewe.co.uk/wp-content/uploads/2025/11/saturday-mini-market-e1762353277181.jpg
END:VEVENT
BEGIN:VEVENT
DTSTART;TZID=UTC:20300619T110000
DTEND;TZID=UTC:20300619T193000
DTSTAMP:20260420T075457
CREATED:20251105T100210Z
LAST-MODIFIED:20251105T100235Z
UID:10036038-1908097200-1908127800@discovercrewe.co.uk
SUMMARY:Real Ale Club
DESCRIPTION:Every Wednesday from 11am to 7.30pm\, The Crewe Dog hosts their Real Ale Club where each pint is only £3. \nHead down to Crewe Market Hall to enjoy a delicious craft ale for a fraction of the price. \nFor more information and updates please visit the Crewe Market Hall Facebook page here.
URL:https://discovercrewe.co.uk/event/real-ale-club/2030-06-19/
LOCATION:Crewe Market Hall\, Crewe Market Hall\, 27 Earle Street\, Crewe\, Cheshire\, CW1 2BL
CATEGORIES:Events,Market Hall,Town Centre
ATTACH;FMTTYPE=image/png:https://discovercrewe.co.uk/wp-content/uploads/2025/07/The-Crewe-Dog-5-e1751984589610.png
END:VEVENT
BEGIN:VEVENT
DTSTART;TZID=UTC:20300620T180000
DTEND;TZID=UTC:20300620T210000
DTSTAMP:20260420T075457
CREATED:20260209T115940Z
LAST-MODIFIED:20260209T120234Z
UID:10040379-1908208800-1908219600@discovercrewe.co.uk
SUMMARY:Kill Team & Magic the Gathering
DESCRIPTION:Join Gumshoe Comics & Collectibles every Thursday at Big Mugs on Edleston Road for a games night. \nLearn how to play Warhammer Kill Team and Magic the Gathering or join the veteran gamers for friendly casual play. \nThe weekly event takes place from 6pm until 9pm. \nFor more information please visit here. \nImage (Gumshoe Comics & Collectibles)
URL:https://discovercrewe.co.uk/event/kill-team-magic-the-gathering/2030-06-20/
LOCATION:Big Mugs\, 251 Edleston Road\, Crewe\, CW2 7EA\, United Kingdom
CATEGORIES:Events,Market Hall,Town Centre
ATTACH;FMTTYPE=image/jpeg:https://discovercrewe.co.uk/wp-content/uploads/2026/02/warhammer-magic-the-gathering.jpg
END:VEVENT
BEGIN:VEVENT
DTSTART;TZID=UTC:20300620T190000
DTEND;TZID=UTC:20300620T220000
DTSTAMP:20260420T075457
CREATED:20251105T142950Z
LAST-MODIFIED:20251105T142950Z
UID:10036562-1908212400-1908223200@discovercrewe.co.uk
SUMMARY:Thursday Quiz Hosted by The Cat FM
DESCRIPTION:Every Thursday in Crewe Market Hall\, The Cat FM hosts a weekly quiz. \nIt starts at 7pm and is completely free to enter\, so if you fancy testing your knowledge against your neighbours then head down. \nFor more information keep an eye out on updates on the Crewe Market Hall Facebook here. \nImage (Crewe Market Hall)
URL:https://discovercrewe.co.uk/event/thursday-quiz-hosted-by-the-cat-fm/2030-06-20/
LOCATION:Crewe Market Hall\, Crewe Market Hall\, 27 Earle Street\, Crewe\, Cheshire\, CW1 2BL
CATEGORIES:Events,Market Hall,Town Centre
ATTACH;FMTTYPE=image/jpeg:https://discovercrewe.co.uk/wp-content/uploads/2025/11/the-cat-quiz-e1762352923139.jpg
END:VEVENT
BEGIN:VEVENT
DTSTART;TZID=UTC:20300622T103000
DTEND;TZID=UTC:20300622T150000
DTSTAMP:20260420T075457
CREATED:20251105T143530Z
LAST-MODIFIED:20260223T101406Z
UID:10037084-1908354600-1908370800@discovercrewe.co.uk
SUMMARY:Saturday Mini Market
DESCRIPTION:Every Saturday\, Crewe Market Hall has a Mini Market from 10.30am to 3pm. \nIts your chance to shop local and discover some gems from incredible independent traders. \nSupport your community and head down for a browse. \nFor more information\, keep an eye out for updates on the Crewe Market Hall Facebook here. \nImage (Crewe Market Hall)
URL:https://discovercrewe.co.uk/event/saturday-mini-market/2030-06-22/
LOCATION:Crewe Market Hall\, Crewe Market Hall\, 27 Earle Street\, Crewe\, Cheshire\, CW1 2BL
CATEGORIES:Events,Market Hall,Town Centre
ATTACH;FMTTYPE=image/jpeg:https://discovercrewe.co.uk/wp-content/uploads/2025/11/saturday-mini-market-e1762353277181.jpg
END:VEVENT
BEGIN:VEVENT
DTSTART;TZID=UTC:20300626T110000
DTEND;TZID=UTC:20300626T193000
DTSTAMP:20260420T075457
CREATED:20251105T100210Z
LAST-MODIFIED:20251105T100235Z
UID:10036039-1908702000-1908732600@discovercrewe.co.uk
SUMMARY:Real Ale Club
DESCRIPTION:Every Wednesday from 11am to 7.30pm\, The Crewe Dog hosts their Real Ale Club where each pint is only £3. \nHead down to Crewe Market Hall to enjoy a delicious craft ale for a fraction of the price. \nFor more information and updates please visit the Crewe Market Hall Facebook page here.
URL:https://discovercrewe.co.uk/event/real-ale-club/2030-06-26/
LOCATION:Crewe Market Hall\, Crewe Market Hall\, 27 Earle Street\, Crewe\, Cheshire\, CW1 2BL
CATEGORIES:Events,Market Hall,Town Centre
ATTACH;FMTTYPE=image/png:https://discovercrewe.co.uk/wp-content/uploads/2025/07/The-Crewe-Dog-5-e1751984589610.png
END:VEVENT
BEGIN:VEVENT
DTSTART;TZID=UTC:20300627T180000
DTEND;TZID=UTC:20300627T210000
DTSTAMP:20260420T075457
CREATED:20260209T115940Z
LAST-MODIFIED:20260209T120234Z
UID:10040380-1908813600-1908824400@discovercrewe.co.uk
SUMMARY:Kill Team & Magic the Gathering
DESCRIPTION:Join Gumshoe Comics & Collectibles every Thursday at Big Mugs on Edleston Road for a games night. \nLearn how to play Warhammer Kill Team and Magic the Gathering or join the veteran gamers for friendly casual play. \nThe weekly event takes place from 6pm until 9pm. \nFor more information please visit here. \nImage (Gumshoe Comics & Collectibles)
URL:https://discovercrewe.co.uk/event/kill-team-magic-the-gathering/2030-06-27/
LOCATION:Big Mugs\, 251 Edleston Road\, Crewe\, CW2 7EA\, United Kingdom
CATEGORIES:Events,Market Hall,Town Centre
ATTACH;FMTTYPE=image/jpeg:https://discovercrewe.co.uk/wp-content/uploads/2026/02/warhammer-magic-the-gathering.jpg
END:VEVENT
BEGIN:VEVENT
DTSTART;TZID=UTC:20300627T190000
DTEND;TZID=UTC:20300627T220000
DTSTAMP:20260420T075457
CREATED:20251105T142950Z
LAST-MODIFIED:20251105T142950Z
UID:10036563-1908817200-1908828000@discovercrewe.co.uk
SUMMARY:Thursday Quiz Hosted by The Cat FM
DESCRIPTION:Every Thursday in Crewe Market Hall\, The Cat FM hosts a weekly quiz. \nIt starts at 7pm and is completely free to enter\, so if you fancy testing your knowledge against your neighbours then head down. \nFor more information keep an eye out on updates on the Crewe Market Hall Facebook here. \nImage (Crewe Market Hall)
URL:https://discovercrewe.co.uk/event/thursday-quiz-hosted-by-the-cat-fm/2030-06-27/
LOCATION:Crewe Market Hall\, Crewe Market Hall\, 27 Earle Street\, Crewe\, Cheshire\, CW1 2BL
CATEGORIES:Events,Market Hall,Town Centre
ATTACH;FMTTYPE=image/jpeg:https://discovercrewe.co.uk/wp-content/uploads/2025/11/the-cat-quiz-e1762352923139.jpg
END:VEVENT
BEGIN:VEVENT
DTSTART;TZID=UTC:20300629T103000
DTEND;TZID=UTC:20300629T150000
DTSTAMP:20260420T075457
CREATED:20251105T143530Z
LAST-MODIFIED:20260223T101406Z
UID:10037085-1908959400-1908975600@discovercrewe.co.uk
SUMMARY:Saturday Mini Market
DESCRIPTION:Every Saturday\, Crewe Market Hall has a Mini Market from 10.30am to 3pm. \nIts your chance to shop local and discover some gems from incredible independent traders. \nSupport your community and head down for a browse. \nFor more information\, keep an eye out for updates on the Crewe Market Hall Facebook here. \nImage (Crewe Market Hall)
URL:https://discovercrewe.co.uk/event/saturday-mini-market/2030-06-29/
LOCATION:Crewe Market Hall\, Crewe Market Hall\, 27 Earle Street\, Crewe\, Cheshire\, CW1 2BL
CATEGORIES:Events,Market Hall,Town Centre
ATTACH;FMTTYPE=image/jpeg:https://discovercrewe.co.uk/wp-content/uploads/2025/11/saturday-mini-market-e1762353277181.jpg
END:VEVENT
END:VCALENDAR