BEGIN:VCALENDAR
VERSION:2.0
PRODID:-//Discover Crewe - ECPv6.15.15//NONSGML v1.0//EN
CALSCALE:GREGORIAN
METHOD:PUBLISH
X-WR-CALNAME:Discover Crewe
X-ORIGINAL-URL:https://discovercrewe.co.uk
X-WR-CALDESC:Events for Discover Crewe
REFRESH-INTERVAL;VALUE=DURATION:PT1H
X-Robots-Tag:noindex
X-PUBLISHED-TTL:PT1H
BEGIN:VTIMEZONE
TZID:UTC
BEGIN:STANDARD
TZOFFSETFROM:+0000
TZOFFSETTO:+0000
TZNAME:UTC
DTSTART:20340101T000000
END:STANDARD
END:VTIMEZONE
BEGIN:VEVENT
DTSTART;TZID=UTC:20350802T100000
DTEND;TZID=UTC:20350802T120000
DTSTAMP:20260425T191645
CREATED:20251015T121913Z
LAST-MODIFIED:20251015T121913Z
UID:10033801-2069661600-2069668800@discovercrewe.co.uk
SUMMARY:IT Buddy
DESCRIPTION:Weekly\, Crewe Library have IT Buddy sessions to help any adults struggling with all things computer related. \nBooking is required\, but helpful volunteers will be available from 10am and 12pm on Thursdays and Saturdays. Plus they will be around from 1.30pm to 4.30pm on Mondays. \nBring your own devices like laptops\, tablets and phones\, or use the library computer and learn essential technology skills for free. \nFor more information and to see the full schedule of Crewe Library’s events visit here.
URL:https://discovercrewe.co.uk/event/it-buddy/2035-08-02/
LOCATION:Crewe Library\, Lifestyle Centre\, Moss Square\, Crewe\, CW1 2BB
CATEGORIES:Events,Library,Town Centre
ATTACH;FMTTYPE=image/jpeg:https://discovercrewe.co.uk/wp-content/uploads/2025/10/Photo-09-08-2025-12-30-22-scaled.jpg
END:VEVENT
BEGIN:VEVENT
DTSTART;TZID=UTC:20350803T163000
DTEND;TZID=UTC:20350803T173000
DTSTAMP:20260425T191645
CREATED:20250612T151252Z
LAST-MODIFIED:20251010T133719Z
UID:10031848-2069771400-2069775000@discovercrewe.co.uk
SUMMARY:Chess Club
DESCRIPTION:Chess Club at Crewe Library \nCrewe Library\, in partnership with Crewe Chess Club\, is now hosting a weekly drop-in Chess Club every Friday afternoon. \nThe sessions are free and open to adults and school-age children of all abilities. It’s a relaxed and friendly way to play a few games\, pick up some tips or simply enjoy a shared love of chess. \nAll equipment is provided and no booking is needed. \nFridays from 4.30pm to 5.45pm at Crewe Library \nImage (Crewe Town Council)
URL:https://discovercrewe.co.uk/event/crewe-chess-club-at-crewe-library/2035-08-03/
LOCATION:Crewe Library\, Lifestyle Centre\, Moss Square\, Crewe\, CW1 2BB
CATEGORIES:Events,Library,Town Centre
ATTACH;FMTTYPE=image/jpeg:https://discovercrewe.co.uk/wp-content/uploads/2025/06/chess-club.jpg
END:VEVENT
BEGIN:VEVENT
DTSTART;TZID=UTC:20350804T100000
DTEND;TZID=UTC:20350804T120000
DTSTAMP:20260425T191645
CREATED:20251015T121913Z
LAST-MODIFIED:20251015T121913Z
UID:10033802-2069834400-2069841600@discovercrewe.co.uk
SUMMARY:IT Buddy
DESCRIPTION:Weekly\, Crewe Library have IT Buddy sessions to help any adults struggling with all things computer related. \nBooking is required\, but helpful volunteers will be available from 10am and 12pm on Thursdays and Saturdays. Plus they will be around from 1.30pm to 4.30pm on Mondays. \nBring your own devices like laptops\, tablets and phones\, or use the library computer and learn essential technology skills for free. \nFor more information and to see the full schedule of Crewe Library’s events visit here.
URL:https://discovercrewe.co.uk/event/it-buddy/2035-08-04/
LOCATION:Crewe Library\, Lifestyle Centre\, Moss Square\, Crewe\, CW1 2BB
CATEGORIES:Events,Library,Town Centre
ATTACH;FMTTYPE=image/jpeg:https://discovercrewe.co.uk/wp-content/uploads/2025/10/Photo-09-08-2025-12-30-22-scaled.jpg
END:VEVENT
BEGIN:VEVENT
DTSTART;TZID=UTC:20350806T133000
DTEND;TZID=UTC:20350806T163000
DTSTAMP:20260425T191645
CREATED:20251015T122100Z
LAST-MODIFIED:20251015T122115Z
UID:10034334-2070019800-2070030600@discovercrewe.co.uk
SUMMARY:IT Buddy
DESCRIPTION:Weekly\, Crewe Library have IT Buddy sessions to help any adults struggling with all things computer related. \nBooking is required\, but helpful volunteers will be available from 10am and 12pm on Thursdays and Saturdays. Plus they will be around from 1.30pm to 4.30pm on Mondays. \nBring your own devices like laptops\, tablets and phones\, or use the library computer and learn essential technology skills for free. \nFor more information and to see the full schedule of Crewe Library’s events visit here.
URL:https://discovercrewe.co.uk/event/it-buddy-2/2035-08-06/
LOCATION:Crewe Library\, Lifestyle Centre\, Moss Square\, Crewe\, CW1 2BB
CATEGORIES:Events,Library,Town Centre
ATTACH;FMTTYPE=image/jpeg:https://discovercrewe.co.uk/wp-content/uploads/2025/10/Photo-09-08-2025-12-30-22-scaled.jpg
END:VEVENT
BEGIN:VEVENT
DTSTART;TZID=UTC:20350806T140000
DTEND;TZID=UTC:20350806T160000
DTSTAMP:20260425T191645
CREATED:20251010T153159Z
LAST-MODIFIED:20251010T153233Z
UID:10032632-2070021600-2070028800@discovercrewe.co.uk
SUMMARY:Creative HeARTs
DESCRIPTION:As part of their weekly schedule of activities\, Crewe Library host a creative heARTs session on a Monday. \nFrom 2pm to 4pm\, a relaxed and informal adult art group meet to dabble in painting\, drawing and colouring. \nMembers work includes watercolour and acrylic painting\, sketching\, mixed media and colouring. They can bring their own project or use the library’s range of paints and materials to create something new. \nLight refreshments are provided and any donations towards the cost of these are welcome\, but not required. \nThe sessions are drop in and free of charge. \nFor more information on all of the Crewe Library groups visit here.
URL:https://discovercrewe.co.uk/event/creative-hearts/2035-08-06/
LOCATION:Crewe Library\, Lifestyle Centre\, Moss Square\, Crewe\, CW1 2BB
CATEGORIES:Events,Library,Town Centre
ATTACH;FMTTYPE=image/jpeg:https://discovercrewe.co.uk/wp-content/uploads/2025/10/Photo-09-08-2025-12-18-12-scaled.jpg
END:VEVENT
BEGIN:VEVENT
DTSTART;TZID=UTC:20350809T100000
DTEND;TZID=UTC:20350809T120000
DTSTAMP:20260425T191645
CREATED:20251015T121913Z
LAST-MODIFIED:20251015T121913Z
UID:10033803-2070266400-2070273600@discovercrewe.co.uk
SUMMARY:IT Buddy
DESCRIPTION:Weekly\, Crewe Library have IT Buddy sessions to help any adults struggling with all things computer related. \nBooking is required\, but helpful volunteers will be available from 10am and 12pm on Thursdays and Saturdays. Plus they will be around from 1.30pm to 4.30pm on Mondays. \nBring your own devices like laptops\, tablets and phones\, or use the library computer and learn essential technology skills for free. \nFor more information and to see the full schedule of Crewe Library’s events visit here.
URL:https://discovercrewe.co.uk/event/it-buddy/2035-08-09/
LOCATION:Crewe Library\, Lifestyle Centre\, Moss Square\, Crewe\, CW1 2BB
CATEGORIES:Events,Library,Town Centre
ATTACH;FMTTYPE=image/jpeg:https://discovercrewe.co.uk/wp-content/uploads/2025/10/Photo-09-08-2025-12-30-22-scaled.jpg
END:VEVENT
BEGIN:VEVENT
DTSTART;TZID=UTC:20350810T163000
DTEND;TZID=UTC:20350810T173000
DTSTAMP:20260425T191645
CREATED:20250612T151252Z
LAST-MODIFIED:20251010T133719Z
UID:10031849-2070376200-2070379800@discovercrewe.co.uk
SUMMARY:Chess Club
DESCRIPTION:Chess Club at Crewe Library \nCrewe Library\, in partnership with Crewe Chess Club\, is now hosting a weekly drop-in Chess Club every Friday afternoon. \nThe sessions are free and open to adults and school-age children of all abilities. It’s a relaxed and friendly way to play a few games\, pick up some tips or simply enjoy a shared love of chess. \nAll equipment is provided and no booking is needed. \nFridays from 4.30pm to 5.45pm at Crewe Library \nImage (Crewe Town Council)
URL:https://discovercrewe.co.uk/event/crewe-chess-club-at-crewe-library/2035-08-10/
LOCATION:Crewe Library\, Lifestyle Centre\, Moss Square\, Crewe\, CW1 2BB
CATEGORIES:Events,Library,Town Centre
ATTACH;FMTTYPE=image/jpeg:https://discovercrewe.co.uk/wp-content/uploads/2025/06/chess-club.jpg
END:VEVENT
BEGIN:VEVENT
DTSTART;TZID=UTC:20350811T100000
DTEND;TZID=UTC:20350811T120000
DTSTAMP:20260425T191645
CREATED:20251015T121913Z
LAST-MODIFIED:20251015T121913Z
UID:10033804-2070439200-2070446400@discovercrewe.co.uk
SUMMARY:IT Buddy
DESCRIPTION:Weekly\, Crewe Library have IT Buddy sessions to help any adults struggling with all things computer related. \nBooking is required\, but helpful volunteers will be available from 10am and 12pm on Thursdays and Saturdays. Plus they will be around from 1.30pm to 4.30pm on Mondays. \nBring your own devices like laptops\, tablets and phones\, or use the library computer and learn essential technology skills for free. \nFor more information and to see the full schedule of Crewe Library’s events visit here.
URL:https://discovercrewe.co.uk/event/it-buddy/2035-08-11/
LOCATION:Crewe Library\, Lifestyle Centre\, Moss Square\, Crewe\, CW1 2BB
CATEGORIES:Events,Library,Town Centre
ATTACH;FMTTYPE=image/jpeg:https://discovercrewe.co.uk/wp-content/uploads/2025/10/Photo-09-08-2025-12-30-22-scaled.jpg
END:VEVENT
BEGIN:VEVENT
DTSTART;TZID=UTC:20350813T133000
DTEND;TZID=UTC:20350813T163000
DTSTAMP:20260425T191645
CREATED:20251015T122100Z
LAST-MODIFIED:20251015T122115Z
UID:10034335-2070624600-2070635400@discovercrewe.co.uk
SUMMARY:IT Buddy
DESCRIPTION:Weekly\, Crewe Library have IT Buddy sessions to help any adults struggling with all things computer related. \nBooking is required\, but helpful volunteers will be available from 10am and 12pm on Thursdays and Saturdays. Plus they will be around from 1.30pm to 4.30pm on Mondays. \nBring your own devices like laptops\, tablets and phones\, or use the library computer and learn essential technology skills for free. \nFor more information and to see the full schedule of Crewe Library’s events visit here.
URL:https://discovercrewe.co.uk/event/it-buddy-2/2035-08-13/
LOCATION:Crewe Library\, Lifestyle Centre\, Moss Square\, Crewe\, CW1 2BB
CATEGORIES:Events,Library,Town Centre
ATTACH;FMTTYPE=image/jpeg:https://discovercrewe.co.uk/wp-content/uploads/2025/10/Photo-09-08-2025-12-30-22-scaled.jpg
END:VEVENT
BEGIN:VEVENT
DTSTART;TZID=UTC:20350813T140000
DTEND;TZID=UTC:20350813T160000
DTSTAMP:20260425T191645
CREATED:20251010T153159Z
LAST-MODIFIED:20251010T153233Z
UID:10032633-2070626400-2070633600@discovercrewe.co.uk
SUMMARY:Creative HeARTs
DESCRIPTION:As part of their weekly schedule of activities\, Crewe Library host a creative heARTs session on a Monday. \nFrom 2pm to 4pm\, a relaxed and informal adult art group meet to dabble in painting\, drawing and colouring. \nMembers work includes watercolour and acrylic painting\, sketching\, mixed media and colouring. They can bring their own project or use the library’s range of paints and materials to create something new. \nLight refreshments are provided and any donations towards the cost of these are welcome\, but not required. \nThe sessions are drop in and free of charge. \nFor more information on all of the Crewe Library groups visit here.
URL:https://discovercrewe.co.uk/event/creative-hearts/2035-08-13/
LOCATION:Crewe Library\, Lifestyle Centre\, Moss Square\, Crewe\, CW1 2BB
CATEGORIES:Events,Library,Town Centre
ATTACH;FMTTYPE=image/jpeg:https://discovercrewe.co.uk/wp-content/uploads/2025/10/Photo-09-08-2025-12-18-12-scaled.jpg
END:VEVENT
BEGIN:VEVENT
DTSTART;TZID=UTC:20350816T100000
DTEND;TZID=UTC:20350816T120000
DTSTAMP:20260425T191645
CREATED:20251015T121913Z
LAST-MODIFIED:20251015T121913Z
UID:10033805-2070871200-2070878400@discovercrewe.co.uk
SUMMARY:IT Buddy
DESCRIPTION:Weekly\, Crewe Library have IT Buddy sessions to help any adults struggling with all things computer related. \nBooking is required\, but helpful volunteers will be available from 10am and 12pm on Thursdays and Saturdays. Plus they will be around from 1.30pm to 4.30pm on Mondays. \nBring your own devices like laptops\, tablets and phones\, or use the library computer and learn essential technology skills for free. \nFor more information and to see the full schedule of Crewe Library’s events visit here.
URL:https://discovercrewe.co.uk/event/it-buddy/2035-08-16/
LOCATION:Crewe Library\, Lifestyle Centre\, Moss Square\, Crewe\, CW1 2BB
CATEGORIES:Events,Library,Town Centre
ATTACH;FMTTYPE=image/jpeg:https://discovercrewe.co.uk/wp-content/uploads/2025/10/Photo-09-08-2025-12-30-22-scaled.jpg
END:VEVENT
BEGIN:VEVENT
DTSTART;TZID=UTC:20350817T163000
DTEND;TZID=UTC:20350817T173000
DTSTAMP:20260425T191645
CREATED:20250612T151252Z
LAST-MODIFIED:20251010T133719Z
UID:10031850-2070981000-2070984600@discovercrewe.co.uk
SUMMARY:Chess Club
DESCRIPTION:Chess Club at Crewe Library \nCrewe Library\, in partnership with Crewe Chess Club\, is now hosting a weekly drop-in Chess Club every Friday afternoon. \nThe sessions are free and open to adults and school-age children of all abilities. It’s a relaxed and friendly way to play a few games\, pick up some tips or simply enjoy a shared love of chess. \nAll equipment is provided and no booking is needed. \nFridays from 4.30pm to 5.45pm at Crewe Library \nImage (Crewe Town Council)
URL:https://discovercrewe.co.uk/event/crewe-chess-club-at-crewe-library/2035-08-17/
LOCATION:Crewe Library\, Lifestyle Centre\, Moss Square\, Crewe\, CW1 2BB
CATEGORIES:Events,Library,Town Centre
ATTACH;FMTTYPE=image/jpeg:https://discovercrewe.co.uk/wp-content/uploads/2025/06/chess-club.jpg
END:VEVENT
BEGIN:VEVENT
DTSTART;TZID=UTC:20350818T100000
DTEND;TZID=UTC:20350818T120000
DTSTAMP:20260425T191645
CREATED:20251015T121913Z
LAST-MODIFIED:20251015T121913Z
UID:10033806-2071044000-2071051200@discovercrewe.co.uk
SUMMARY:IT Buddy
DESCRIPTION:Weekly\, Crewe Library have IT Buddy sessions to help any adults struggling with all things computer related. \nBooking is required\, but helpful volunteers will be available from 10am and 12pm on Thursdays and Saturdays. Plus they will be around from 1.30pm to 4.30pm on Mondays. \nBring your own devices like laptops\, tablets and phones\, or use the library computer and learn essential technology skills for free. \nFor more information and to see the full schedule of Crewe Library’s events visit here.
URL:https://discovercrewe.co.uk/event/it-buddy/2035-08-18/
LOCATION:Crewe Library\, Lifestyle Centre\, Moss Square\, Crewe\, CW1 2BB
CATEGORIES:Events,Library,Town Centre
ATTACH;FMTTYPE=image/jpeg:https://discovercrewe.co.uk/wp-content/uploads/2025/10/Photo-09-08-2025-12-30-22-scaled.jpg
END:VEVENT
BEGIN:VEVENT
DTSTART;TZID=UTC:20350820T133000
DTEND;TZID=UTC:20350820T163000
DTSTAMP:20260425T191645
CREATED:20251015T122100Z
LAST-MODIFIED:20251015T122115Z
UID:10034336-2071229400-2071240200@discovercrewe.co.uk
SUMMARY:IT Buddy
DESCRIPTION:Weekly\, Crewe Library have IT Buddy sessions to help any adults struggling with all things computer related. \nBooking is required\, but helpful volunteers will be available from 10am and 12pm on Thursdays and Saturdays. Plus they will be around from 1.30pm to 4.30pm on Mondays. \nBring your own devices like laptops\, tablets and phones\, or use the library computer and learn essential technology skills for free. \nFor more information and to see the full schedule of Crewe Library’s events visit here.
URL:https://discovercrewe.co.uk/event/it-buddy-2/2035-08-20/
LOCATION:Crewe Library\, Lifestyle Centre\, Moss Square\, Crewe\, CW1 2BB
CATEGORIES:Events,Library,Town Centre
ATTACH;FMTTYPE=image/jpeg:https://discovercrewe.co.uk/wp-content/uploads/2025/10/Photo-09-08-2025-12-30-22-scaled.jpg
END:VEVENT
BEGIN:VEVENT
DTSTART;TZID=UTC:20350820T140000
DTEND;TZID=UTC:20350820T160000
DTSTAMP:20260425T191646
CREATED:20251010T153159Z
LAST-MODIFIED:20251010T153233Z
UID:10032634-2071231200-2071238400@discovercrewe.co.uk
SUMMARY:Creative HeARTs
DESCRIPTION:As part of their weekly schedule of activities\, Crewe Library host a creative heARTs session on a Monday. \nFrom 2pm to 4pm\, a relaxed and informal adult art group meet to dabble in painting\, drawing and colouring. \nMembers work includes watercolour and acrylic painting\, sketching\, mixed media and colouring. They can bring their own project or use the library’s range of paints and materials to create something new. \nLight refreshments are provided and any donations towards the cost of these are welcome\, but not required. \nThe sessions are drop in and free of charge. \nFor more information on all of the Crewe Library groups visit here.
URL:https://discovercrewe.co.uk/event/creative-hearts/2035-08-20/
LOCATION:Crewe Library\, Lifestyle Centre\, Moss Square\, Crewe\, CW1 2BB
CATEGORIES:Events,Library,Town Centre
ATTACH;FMTTYPE=image/jpeg:https://discovercrewe.co.uk/wp-content/uploads/2025/10/Photo-09-08-2025-12-18-12-scaled.jpg
END:VEVENT
BEGIN:VEVENT
DTSTART;TZID=UTC:20350821T173000
DTEND;TZID=UTC:20350821T190000
DTSTAMP:20260425T191646
CREATED:20260316T105513Z
LAST-MODIFIED:20260316T105513Z
UID:10041445-2071330200-2071335600@discovercrewe.co.uk
SUMMARY:Creative Writers
DESCRIPTION:Creative Writers \nNew members are welcome to this informal and friendly group who meet on every second Tuesday of the month. \nThere are monthly themes to inspire you to write\, or you can bring along whatever you are working on to the drop in sessions and gain feedback from other members. \nMembership is £1 per session to help cover the cost of light refreshments. \nTime: 5:30pm – 7pm \nImage (Crewe Library)
URL:https://discovercrewe.co.uk/event/creative-writers-2/2035-08-21/
LOCATION:Crewe Library\, Lifestyle Centre\, Moss Square\, Crewe\, CW1 2BB
CATEGORIES:Events,Library,Town Centre
ATTACH;FMTTYPE=image/jpeg:https://discovercrewe.co.uk/wp-content/uploads/2025/06/crewe-library.jpg
END:VEVENT
BEGIN:VEVENT
DTSTART;TZID=UTC:20350823T100000
DTEND;TZID=UTC:20350823T120000
DTSTAMP:20260425T191646
CREATED:20251015T121913Z
LAST-MODIFIED:20251015T121913Z
UID:10033807-2071476000-2071483200@discovercrewe.co.uk
SUMMARY:IT Buddy
DESCRIPTION:Weekly\, Crewe Library have IT Buddy sessions to help any adults struggling with all things computer related. \nBooking is required\, but helpful volunteers will be available from 10am and 12pm on Thursdays and Saturdays. Plus they will be around from 1.30pm to 4.30pm on Mondays. \nBring your own devices like laptops\, tablets and phones\, or use the library computer and learn essential technology skills for free. \nFor more information and to see the full schedule of Crewe Library’s events visit here.
URL:https://discovercrewe.co.uk/event/it-buddy/2035-08-23/
LOCATION:Crewe Library\, Lifestyle Centre\, Moss Square\, Crewe\, CW1 2BB
CATEGORIES:Events,Library,Town Centre
ATTACH;FMTTYPE=image/jpeg:https://discovercrewe.co.uk/wp-content/uploads/2025/10/Photo-09-08-2025-12-30-22-scaled.jpg
END:VEVENT
BEGIN:VEVENT
DTSTART;TZID=UTC:20350824T163000
DTEND;TZID=UTC:20350824T173000
DTSTAMP:20260425T191646
CREATED:20250612T151252Z
LAST-MODIFIED:20251010T133719Z
UID:10031851-2071585800-2071589400@discovercrewe.co.uk
SUMMARY:Chess Club
DESCRIPTION:Chess Club at Crewe Library \nCrewe Library\, in partnership with Crewe Chess Club\, is now hosting a weekly drop-in Chess Club every Friday afternoon. \nThe sessions are free and open to adults and school-age children of all abilities. It’s a relaxed and friendly way to play a few games\, pick up some tips or simply enjoy a shared love of chess. \nAll equipment is provided and no booking is needed. \nFridays from 4.30pm to 5.45pm at Crewe Library \nImage (Crewe Town Council)
URL:https://discovercrewe.co.uk/event/crewe-chess-club-at-crewe-library/2035-08-24/
LOCATION:Crewe Library\, Lifestyle Centre\, Moss Square\, Crewe\, CW1 2BB
CATEGORIES:Events,Library,Town Centre
ATTACH;FMTTYPE=image/jpeg:https://discovercrewe.co.uk/wp-content/uploads/2025/06/chess-club.jpg
END:VEVENT
BEGIN:VEVENT
DTSTART;TZID=UTC:20350825T100000
DTEND;TZID=UTC:20350825T120000
DTSTAMP:20260425T191646
CREATED:20251015T121913Z
LAST-MODIFIED:20251015T121913Z
UID:10033808-2071648800-2071656000@discovercrewe.co.uk
SUMMARY:IT Buddy
DESCRIPTION:Weekly\, Crewe Library have IT Buddy sessions to help any adults struggling with all things computer related. \nBooking is required\, but helpful volunteers will be available from 10am and 12pm on Thursdays and Saturdays. Plus they will be around from 1.30pm to 4.30pm on Mondays. \nBring your own devices like laptops\, tablets and phones\, or use the library computer and learn essential technology skills for free. \nFor more information and to see the full schedule of Crewe Library’s events visit here.
URL:https://discovercrewe.co.uk/event/it-buddy/2035-08-25/
LOCATION:Crewe Library\, Lifestyle Centre\, Moss Square\, Crewe\, CW1 2BB
CATEGORIES:Events,Library,Town Centre
ATTACH;FMTTYPE=image/jpeg:https://discovercrewe.co.uk/wp-content/uploads/2025/10/Photo-09-08-2025-12-30-22-scaled.jpg
END:VEVENT
BEGIN:VEVENT
DTSTART;TZID=UTC:20350827T133000
DTEND;TZID=UTC:20350827T163000
DTSTAMP:20260425T191646
CREATED:20251015T122100Z
LAST-MODIFIED:20251015T122115Z
UID:10034337-2071834200-2071845000@discovercrewe.co.uk
SUMMARY:IT Buddy
DESCRIPTION:Weekly\, Crewe Library have IT Buddy sessions to help any adults struggling with all things computer related. \nBooking is required\, but helpful volunteers will be available from 10am and 12pm on Thursdays and Saturdays. Plus they will be around from 1.30pm to 4.30pm on Mondays. \nBring your own devices like laptops\, tablets and phones\, or use the library computer and learn essential technology skills for free. \nFor more information and to see the full schedule of Crewe Library’s events visit here.
URL:https://discovercrewe.co.uk/event/it-buddy-2/2035-08-27/
LOCATION:Crewe Library\, Lifestyle Centre\, Moss Square\, Crewe\, CW1 2BB
CATEGORIES:Events,Library,Town Centre
ATTACH;FMTTYPE=image/jpeg:https://discovercrewe.co.uk/wp-content/uploads/2025/10/Photo-09-08-2025-12-30-22-scaled.jpg
END:VEVENT
BEGIN:VEVENT
DTSTART;TZID=UTC:20350827T140000
DTEND;TZID=UTC:20350827T160000
DTSTAMP:20260425T191646
CREATED:20251010T153159Z
LAST-MODIFIED:20251010T153233Z
UID:10032635-2071836000-2071843200@discovercrewe.co.uk
SUMMARY:Creative HeARTs
DESCRIPTION:As part of their weekly schedule of activities\, Crewe Library host a creative heARTs session on a Monday. \nFrom 2pm to 4pm\, a relaxed and informal adult art group meet to dabble in painting\, drawing and colouring. \nMembers work includes watercolour and acrylic painting\, sketching\, mixed media and colouring. They can bring their own project or use the library’s range of paints and materials to create something new. \nLight refreshments are provided and any donations towards the cost of these are welcome\, but not required. \nThe sessions are drop in and free of charge. \nFor more information on all of the Crewe Library groups visit here.
URL:https://discovercrewe.co.uk/event/creative-hearts/2035-08-27/
LOCATION:Crewe Library\, Lifestyle Centre\, Moss Square\, Crewe\, CW1 2BB
CATEGORIES:Events,Library,Town Centre
ATTACH;FMTTYPE=image/jpeg:https://discovercrewe.co.uk/wp-content/uploads/2025/10/Photo-09-08-2025-12-18-12-scaled.jpg
END:VEVENT
BEGIN:VEVENT
DTSTART;TZID=UTC:20350830T100000
DTEND;TZID=UTC:20350830T120000
DTSTAMP:20260425T191646
CREATED:20251015T121913Z
LAST-MODIFIED:20251015T121913Z
UID:10033809-2072080800-2072088000@discovercrewe.co.uk
SUMMARY:IT Buddy
DESCRIPTION:Weekly\, Crewe Library have IT Buddy sessions to help any adults struggling with all things computer related. \nBooking is required\, but helpful volunteers will be available from 10am and 12pm on Thursdays and Saturdays. Plus they will be around from 1.30pm to 4.30pm on Mondays. \nBring your own devices like laptops\, tablets and phones\, or use the library computer and learn essential technology skills for free. \nFor more information and to see the full schedule of Crewe Library’s events visit here.
URL:https://discovercrewe.co.uk/event/it-buddy/2035-08-30/
LOCATION:Crewe Library\, Lifestyle Centre\, Moss Square\, Crewe\, CW1 2BB
CATEGORIES:Events,Library,Town Centre
ATTACH;FMTTYPE=image/jpeg:https://discovercrewe.co.uk/wp-content/uploads/2025/10/Photo-09-08-2025-12-30-22-scaled.jpg
END:VEVENT
BEGIN:VEVENT
DTSTART;TZID=UTC:20350831T163000
DTEND;TZID=UTC:20350831T173000
DTSTAMP:20260425T191646
CREATED:20250612T151252Z
LAST-MODIFIED:20251010T133719Z
UID:10031852-2072190600-2072194200@discovercrewe.co.uk
SUMMARY:Chess Club
DESCRIPTION:Chess Club at Crewe Library \nCrewe Library\, in partnership with Crewe Chess Club\, is now hosting a weekly drop-in Chess Club every Friday afternoon. \nThe sessions are free and open to adults and school-age children of all abilities. It’s a relaxed and friendly way to play a few games\, pick up some tips or simply enjoy a shared love of chess. \nAll equipment is provided and no booking is needed. \nFridays from 4.30pm to 5.45pm at Crewe Library \nImage (Crewe Town Council)
URL:https://discovercrewe.co.uk/event/crewe-chess-club-at-crewe-library/2035-08-31/
LOCATION:Crewe Library\, Lifestyle Centre\, Moss Square\, Crewe\, CW1 2BB
CATEGORIES:Events,Library,Town Centre
ATTACH;FMTTYPE=image/jpeg:https://discovercrewe.co.uk/wp-content/uploads/2025/06/chess-club.jpg
END:VEVENT
END:VCALENDAR