BEGIN:VCALENDAR
VERSION:2.0
PRODID:-//Discover Crewe - ECPv6.15.15//NONSGML v1.0//EN
CALSCALE:GREGORIAN
METHOD:PUBLISH
X-ORIGINAL-URL:https://discovercrewe.co.uk
X-WR-CALDESC:Events for Discover Crewe
REFRESH-INTERVAL;VALUE=DURATION:PT1H
X-Robots-Tag:noindex
X-PUBLISHED-TTL:PT1H
BEGIN:VTIMEZONE
TZID:UTC
BEGIN:STANDARD
TZOFFSETFROM:+0000
TZOFFSETTO:+0000
TZNAME:UTC
DTSTART:20240101T000000
END:STANDARD
END:VTIMEZONE
BEGIN:VEVENT
DTSTART;TZID=UTC:20250802T120000
DTEND;TZID=UTC:20250802T180000
DTSTAMP:20260419T155520
CREATED:20250707T144508Z
LAST-MODIFIED:20250721T142421Z
UID:10023212-1754136000-1754157600@discovercrewe.co.uk
SUMMARY:Dog Day Afternoon
DESCRIPTION:Axe throwing and live music\, all under one roof? \nDog Day Afternoon is back at Crewe Market Hall on Saturday\, August 2nd and this year’s line-up is bigger and louder than ever. \nOrganised by The Crewe Dog\, the event runs from 12 to 6pm and brings together some of the best original bands around – including Carol Hodge\, GAS Kunst\, Red Spektor\, These Towns\, Kicked In The Teeth\, Lobster and Mademaker. \nThere’s something for everyone\, from heavy rock and stoner sounds to indie\, punk and lo-fi. If you’re already a fan or just want to hear something new\, it’s a great way to spend a Saturday afternoon in the town centre. \nThis year also features axe throwing at Crewe Central\, but you’ll need to book in advance if you want to take part. \nIt’s free to attend\, with food\, drink and a DJ set to follow in the Market Hall. \nImage (The Crewe Dog)
URL:https://discovercrewe.co.uk/event/dog-day-afternoon-2/
LOCATION:Crewe Market Hall\, Crewe Market Hall\, 27 Earle Street\, Crewe\, Cheshire\, CW1 2BL
CATEGORIES:Events,Food & Drink,Town Centre
ATTACH;FMTTYPE=image/jpeg:https://discovercrewe.co.uk/wp-content/uploads/2025/07/Dog-Day-Afternoon-Promo-e1751899605410.jpg
END:VEVENT
BEGIN:VEVENT
DTSTART;TZID=UTC:20250817T110000
DTEND;TZID=UTC:20250817T160000
DTSTAMP:20260419T155520
CREATED:20250612T142224Z
LAST-MODIFIED:20260107T132011Z
UID:10027996-1755428400-1755446400@discovercrewe.co.uk
SUMMARY:The Makers Market
DESCRIPTION:Crewe Makers Market is on every third Sunday of the month\, indulge in an abundance of the North West’s finest makers\, bakers and creators. \nThere will be an array of art\, crafts\, food\, drink\, music and street food. A great day out for all the family. \nYou can find the market on Victoria Street & Market Street from 11am – 4pm. \nThe Makers Market brings together independent artisans\, makers\, performers and businesses to create brilliant\, local community monthly markets. \nImage (The Makers Market)
URL:https://discovercrewe.co.uk/event/the-makers-market/2025-08-17/
LOCATION:Victoria Street\, Victoria Street & Market Street\, Crewe\, CW1 2NG\, United Kingdom
CATEGORIES:Food & Drink,Shopping,Town Centre
ATTACH;FMTTYPE=image/jpeg:https://discovercrewe.co.uk/wp-content/uploads/2025/06/Crewe-BID-8-scaled.jpg
END:VEVENT
END:VCALENDAR