BEGIN:VCALENDAR
VERSION:2.0
PRODID:-//Discover Crewe - ECPv6.15.15//NONSGML v1.0//EN
CALSCALE:GREGORIAN
METHOD:PUBLISH
X-ORIGINAL-URL:https://discovercrewe.co.uk
X-WR-CALDESC:Events for Discover Crewe
REFRESH-INTERVAL;VALUE=DURATION:PT1H
X-Robots-Tag:noindex
X-PUBLISHED-TTL:PT1H
BEGIN:VTIMEZONE
TZID:UTC
BEGIN:STANDARD
TZOFFSETFROM:+0000
TZOFFSETTO:+0000
TZNAME:UTC
DTSTART:20250101T000000
END:STANDARD
END:VTIMEZONE
BEGIN:VEVENT
DTSTART;TZID=UTC:20260115T100000
DTEND;TZID=UTC:20260115T110000
DTSTAMP:20260420T045517
CREATED:20260108T165414Z
LAST-MODIFIED:20260108T165414Z
UID:10038034-1768471200-1768474800@discovercrewe.co.uk
SUMMARY:Network Coffee Grind
DESCRIPTION:Big Mugs\, 251 Edleston Road\, is calling all entrepreneurs\, business owners and realists to attend their network coffee grind on Thursday\, January 15th. \nIt will be hosted from 10am until 11am for anyone who is building\, dreaming\, launching or levelling up in their business aspirations. \nNetwork your dream and join Big Mugs in their business to business speed hot seat. \nFor more information please visit here. \nImage (Big Mugs)
URL:https://discovercrewe.co.uk/event/network-coffee-grind/
LOCATION:Big Mugs\, 251 Edleston Road\, Crewe\, CW2 7EA\, United Kingdom
CATEGORIES:Big Mugs,Events
ATTACH;FMTTYPE=image/jpeg:https://discovercrewe.co.uk/wp-content/uploads/2026/01/Network-Coffee-Grind.jpg
END:VEVENT
BEGIN:VEVENT
DTSTART;TZID=UTC:20260117T100000
DTEND;TZID=UTC:20260117T160000
DTSTAMP:20260420T045517
CREATED:20260108T170155Z
LAST-MODIFIED:20260108T170155Z
UID:10038035-1768644000-1768665600@discovercrewe.co.uk
SUMMARY:Clothes Swap
DESCRIPTION:Bring up to 10 items of clothing in good\, clean condition and take as much as you like in Big Mugs’ clothes swap on Saturday\, January 17th. \nThe event will be held from 10am until 4pm\, head down to give something a second life. Accessories like bags\, scarves\, hats and jewellery count as items but underwear and swimwear is not permitted. \nDonations will be accepted and will be checked and added to the swap area. Once they are handed in they cannot be returned. \nIt will also be a collab with Her Space who will be there to promote their charity and to help run the event. \nFor more information please visit here. \nImage (Big Mugs)
URL:https://discovercrewe.co.uk/event/clothes-swap/
LOCATION:Big Mugs\, 251 Edleston Road\, Crewe\, CW2 7EA\, United Kingdom
CATEGORIES:Big Mugs,Events
ATTACH;FMTTYPE=image/jpeg:https://discovercrewe.co.uk/wp-content/uploads/2026/01/Clothes-Swap-e1767891649207.jpg
END:VEVENT
BEGIN:VEVENT
DTSTART;TZID=UTC:20260124T103000
DTEND;TZID=UTC:20260124T120000
DTSTAMP:20260420T045517
CREATED:20260112T144904Z
LAST-MODIFIED:20260112T144904Z
UID:10038037-1769250600-1769256000@discovercrewe.co.uk
SUMMARY:2026 Vision Board
DESCRIPTION:On Saturday\, January 24th Big Mugs is hosting a guided vision board making session. \nIt will be hosted at 10.30am until 12pm\, a time for you to create\, reflect and set intentions for your year ahead. \nEach ticket is £12.50 and comes with a complimentary drink\, book in now to secure your space. \nFor more information please visit here. \nImage (Big Mugs)
URL:https://discovercrewe.co.uk/event/2026-vision-board/
LOCATION:Big Mugs\, 251 Edleston Road\, Crewe\, CW2 7EA\, United Kingdom
CATEGORIES:Big Mugs,Events,Food & Drink
ATTACH;FMTTYPE=image/jpeg:https://discovercrewe.co.uk/wp-content/uploads/2026/01/Big-Mugs.jpg
END:VEVENT
BEGIN:VEVENT
DTSTART;TZID=UTC:20260124T150000
DTEND;TZID=UTC:20260124T160000
DTSTAMP:20260420T045518
CREATED:20260112T154531Z
LAST-MODIFIED:20260112T154531Z
UID:10038038-1769266800-1769270400@discovercrewe.co.uk
SUMMARY:Sapphic Bookclub
DESCRIPTION:Big Mugs hosts a free sapphic book club each month\, focusing on a different read each meeting. \nIn January\, the book is Think Again by Jaqueline Wilson\, her first adult novel about themes of friendship\, family\, and finding fulfilment in unexpected places. \nThe group is LGBT+ friendly. \nFor more information and to reserve your spot please visit here. \nImage (Big Mugs)
URL:https://discovercrewe.co.uk/event/sapphic-bookclub/
LOCATION:Big Mugs\, 251 Edleston Road\, Crewe\, CW2 7EA\, United Kingdom
CATEGORIES:Big Mugs,Events
ATTACH;FMTTYPE=image/jpeg:https://discovercrewe.co.uk/wp-content/uploads/2026/01/Big-Mugs.jpg
END:VEVENT
BEGIN:VEVENT
DTSTART;TZID=UTC:20260125T103000
DTEND;TZID=UTC:20260125T113000
DTSTAMP:20260420T045518
CREATED:20260112T155527Z
LAST-MODIFIED:20260112T155527Z
UID:10038039-1769337000-1769340600@discovercrewe.co.uk
SUMMARY:Book Club
DESCRIPTION:Every month\, Big Mugs hosts a book club which is free to attend. \nThis month\, the book up for discussion is Hotel Avocado by comedian Bob Mortimer. A story of crime\, romance\, large fruits\, planning applications and a lot of pie. \nThe next meeting is on Sunday\, January 25th from 10.30am to 11.30am. \nFor more information and to book your spot please visit here. \nImage (Big Mugs)
URL:https://discovercrewe.co.uk/event/book-club/
LOCATION:Big Mugs\, 251 Edleston Road\, Crewe\, CW2 7EA\, United Kingdom
CATEGORIES:Big Mugs,Events
ATTACH;FMTTYPE=image/jpeg:https://discovercrewe.co.uk/wp-content/uploads/2026/01/Big-Mugs.jpg
END:VEVENT
BEGIN:VEVENT
DTSTART;TZID=UTC:20260131T190000
DTEND;TZID=UTC:20260131T213000
DTSTAMP:20260420T045518
CREATED:20260112T161855Z
LAST-MODIFIED:20260112T161855Z
UID:10038040-1769886000-1769895000@discovercrewe.co.uk
SUMMARY:Caffeinate & Create
DESCRIPTION:Unwind\, grab a paintbrush and indulge in something sweet with Big Mugs this January. \n20 tickets are on offer for their Caffeinate & Create event on Saturday\, January 31st from 7pm until 9.30pm. \nNo experience is required\, just bring yourself and create a masterpiece with all the materials provided. Including the canvas\, the coffee and the cake. \nTickets are £22.50 per person. \nFor more information and to book your tickets please visit here \nImage (Big Mugs)
URL:https://discovercrewe.co.uk/event/caffeinate-create/
LOCATION:Big Mugs\, 251 Edleston Road\, Crewe\, CW2 7EA\, United Kingdom
CATEGORIES:Big Mugs,Events,Food & Drink
ATTACH;FMTTYPE=image/jpeg:https://discovercrewe.co.uk/wp-content/uploads/2026/01/Caffeine-and-Create.jpg
END:VEVENT
BEGIN:VEVENT
DTSTART;TZID=UTC:20260218T100000
DTEND;TZID=UTC:20260218T110000
DTSTAMP:20260420T045518
CREATED:20260209T133650Z
LAST-MODIFIED:20260209T134530Z
UID:10040675-1771408800-1771412400@discovercrewe.co.uk
SUMMARY:Network Coffee Grind
DESCRIPTION:Join Big Mugs on Wednesday\, February 18th for an in person chance to mingle\, connect and have fun in a hot speed networking event. \nThe event is free to attend and meet new people\, share ideas or enjoy some good vibes. \nIt’s a casual dress code so no pressure\, just bring your best smile and network like a pro. \nFor more information please visit here. \nImage (Big Mugs)
URL:https://discovercrewe.co.uk/event/network-coffee-grind-3/
LOCATION:Big Mugs\, 251 Edleston Road\, Crewe\, CW2 7EA\, United Kingdom
CATEGORIES:Big Mugs,Town Centre
ATTACH;FMTTYPE=image/jpeg:https://discovercrewe.co.uk/wp-content/uploads/2026/01/Network-Coffee-Grind.jpg
END:VEVENT
BEGIN:VEVENT
DTSTART;VALUE=DATE:20260224
DTEND;VALUE=DATE:20260401
DTSTAMP:20260420T045518
CREATED:20260304T162356Z
LAST-MODIFIED:20260316T103611Z
UID:10041325-1771891200-1775001599@discovercrewe.co.uk
SUMMARY:Big Mugs Raffle
DESCRIPTION:Until Tuesday\, March 31st\, Big Mugs are hosting a raffle for one lucky winner to receive coffee/hot drinks for the entire month. \nThe winnings is two hot drinks a day (excluding large drinks)\, equivalent to £270. \nA ticket is £1 to enter and has to be purchased in store. \nThe winner will be announced on Wednesday\, April 1st. \nFor more information visit here.
URL:https://discovercrewe.co.uk/event/big-mugs-raffle/
LOCATION:Big Mugs\, 251 Edleston Road\, Crewe\, CW2 7EA\, United Kingdom
CATEGORIES:Big Mugs,Food & Drink,Town Centre
ATTACH;FMTTYPE=image/jpeg:https://discovercrewe.co.uk/wp-content/uploads/2026/01/Photo-10-01-2026-13-49-16-scaled.jpg
END:VEVENT
BEGIN:VEVENT
DTSTART;TZID=UTC:20260329T130000
DTEND;TZID=UTC:20260329T150000
DTSTAMP:20260420T045518
CREATED:20260316T135659Z
LAST-MODIFIED:20260316T135659Z
UID:10041454-1774789200-1774796400@discovercrewe.co.uk
SUMMARY:Craft & Chat at Big Mugs
DESCRIPTION:On Sunday 29 March\, Big Mugs are inviting the local community to a craft a chat afternoon. \nFrom 1pm until 3pm\, customers can bring their own craft projects or try something new and join fellow creatives in conversation. \nIt is a pay what you can session for all to join in. \nFor more information please visit here.
URL:https://discovercrewe.co.uk/event/craft-chat-at-big-mugs/
LOCATION:Big Mugs\, 251 Edleston Road\, Crewe\, CW2 7EA\, United Kingdom
CATEGORIES:Big Mugs,Events,Town Centre
ATTACH;FMTTYPE=image/jpeg:https://discovercrewe.co.uk/wp-content/uploads/2026/03/big-mugs-scaled-e1773669075809.jpg
END:VEVENT
END:VCALENDAR