BEGIN:VCALENDAR
VERSION:2.0
PRODID:-//Discover Crewe - ECPv6.15.15//NONSGML v1.0//EN
CALSCALE:GREGORIAN
METHOD:PUBLISH
X-ORIGINAL-URL:https://discovercrewe.co.uk
X-WR-CALDESC:Events for Discover Crewe
REFRESH-INTERVAL;VALUE=DURATION:PT1H
X-Robots-Tag:noindex
X-PUBLISHED-TTL:PT1H
BEGIN:VTIMEZONE
TZID:UTC
BEGIN:STANDARD
TZOFFSETFROM:+0000
TZOFFSETTO:+0000
TZNAME:UTC
DTSTART:20250101T000000
END:STANDARD
END:VTIMEZONE
BEGIN:VEVENT
DTSTART;TZID=UTC:20260502T110000
DTEND;TZID=UTC:20260502T160000
DTSTAMP:20260423T231846
CREATED:20260325T111612Z
LAST-MODIFIED:20260325T111612Z
UID:10028004-1777719600-1777737600@discovercrewe.co.uk
SUMMARY:The Makers Market
DESCRIPTION:Crewe Makers Market is on every first Saturday of the month\, indulge in an abundance of the North West’s finest makers\, bakers and creators. \nThere will be an array of art\, crafts\, food\, drink\, music and street food. A great day out for all the family. \nYou can find the market on Victoria Street & Market Street from 11am – 4pm. \nThe Makers Market brings together independent artisans\, makers\, performers and businesses to create brilliant\, local community monthly markets. \nImage (The Makers Market)
URL:https://discovercrewe.co.uk/event/the-makers-market-2-2/2026-05-02/
LOCATION:Victoria Street\, Victoria Street & Market Street\, Crewe\, CW1 2NG\, United Kingdom
CATEGORIES:Food & Drink,Shopping,Town Centre
ATTACH;FMTTYPE=image/jpeg:https://discovercrewe.co.uk/wp-content/uploads/2025/06/Crewe-BID-8-scaled.jpg
END:VEVENT
BEGIN:VEVENT
DTSTART;TZID=UTC:20260502T193000
DTEND;TZID=UTC:20260502T233000
DTSTAMP:20260423T231846
CREATED:20260420T100218Z
LAST-MODIFIED:20260420T100218Z
UID:10042123-1777750200-1777764600@discovercrewe.co.uk
SUMMARY:Gerry Cinna-man Experience with Special Guest Support
DESCRIPTION:Watch a brilliant tribute to Gerry Cinnamon at The Arena Crewe on Saturday 2 May for a night of ‘Belters.’ \nPlus a special guest will be supporting to start the party early. \nDate & time = Saturday 2 May at 7.30pm \nTicket price = £15 ADV £20 OTD \nFor more information visit here. \nImage (The Arena)
URL:https://discovercrewe.co.uk/event/gerry-cinna-man-experience-with-special-guest-support/
LOCATION:The Arena Crewe\, 39 High Street\, Crewe\, CW2 7BL\, United Kingdom
CATEGORIES:Live Music,The Arena,Town Centre
ATTACH;FMTTYPE=image/png:https://discovercrewe.co.uk/wp-content/uploads/2026/04/Screenshot-2026-04-20-104029.png
END:VEVENT
END:VCALENDAR