BEGIN:VCALENDAR
VERSION:2.0
PRODID:-//Discover Crewe - ECPv6.15.15//NONSGML v1.0//EN
CALSCALE:GREGORIAN
METHOD:PUBLISH
X-WR-CALNAME:Discover Crewe
X-ORIGINAL-URL:https://discovercrewe.co.uk
X-WR-CALDESC:Events for Discover Crewe
REFRESH-INTERVAL;VALUE=DURATION:PT1H
X-Robots-Tag:noindex
X-PUBLISHED-TTL:PT1H
BEGIN:VTIMEZONE
TZID:UTC
BEGIN:STANDARD
TZOFFSETFROM:+0000
TZOFFSETTO:+0000
TZNAME:UTC
DTSTART:20250101T000000
END:STANDARD
END:VTIMEZONE
BEGIN:VEVENT
DTSTART;TZID=UTC:20260426T183000
DTEND;TZID=UTC:20260428T210000
DTSTAMP:20260422T170848
CREATED:20260407T120458Z
LAST-MODIFIED:20260407T120458Z
UID:10042109-1777228200-1777410000@discovercrewe.co.uk
SUMMARY:National Theatre Connections 2026
DESCRIPTION:Connections is the National Theatre’s annual\, nationwide youth theatre festival. The programme is 30 years old and has a history of championing the talent of young people from across the UK. \nEvery year\, the National Theatre commissions new plays for young people to perform. The programme brings together some of the UK’s most exciting writers with the theatre-makers of tomorrow. \nThis year\, Crewe Lyceum Theatre will be a partner for it’s fifth year\, welcoming six companies from across the North West to perform on its historic Main Stage. \nPerformances may contain strong language\, sexual references\, and discussion of mental health. \nPerformances include: \nSunday 26 April = Senior Company presents Macbeth Macbeth Macbeth Macbeth Macbeth by Kirsty Housle \nThe Boaty Theatre Company presents The Animals by Sean Buckley. \nMonday 27 April = The Power Project presents Ride or Die by Florence Espeut-Nickless \nTuesday 28 April = Queens Park High School presents Wildfire Road by Eve Leigh \nThe Grange Young Company presents Macbeth Macbeth Macbeth Macbeth Macbeth by Kirsty Housle \nTicket price = from £6.50 \nAge restriction = 10+ \nFor more information visit here.
URL:https://discovercrewe.co.uk/event/national-theatre-connections-2026/
LOCATION:Lyceum Theatre\, Lyceum Theatre\, Heath Street\, Crewe\, Cheshire\, CW1 2DA\, United Kingdom
CATEGORIES:Lyceum,Theatre,Town Centre
ATTACH;FMTTYPE=image/png:https://discovercrewe.co.uk/wp-content/uploads/2026/04/Screenshot-2026-04-07-125616-e1775563551184.png
END:VEVENT
BEGIN:VEVENT
DTSTART;TZID=UTC:20260427T100000
DTEND;TZID=UTC:20260427T103000
DTSTAMP:20260422T170848
CREATED:20250721T154153Z
LAST-MODIFIED:20250721T154153Z
UID:10024077-1777284000-1777285800@discovercrewe.co.uk
SUMMARY:Stories and Songs
DESCRIPTION:A Monday Funday Interactive session. \nFrom 10am – 10.30am every Monday at Crewe Library\, there are sessions of stories\, singing\, movement\, games and activities. \nThey are free of charge and drop-in for under 5’s who must be accompanied by an adult. \nImage (Crewe Town Council)
URL:https://discovercrewe.co.uk/event/stories-and-songs/2026-04-27/
LOCATION:Crewe Library\, Lifestyle Centre\, Moss Square\, Crewe\, CW1 2BB
CATEGORIES:Events,Family Attractions,Town Centre
ATTACH;FMTTYPE=image/jpeg:https://discovercrewe.co.uk/wp-content/uploads/2025/07/Crewe-Library-storytime-e1753112480754.jpg
END:VEVENT
BEGIN:VEVENT
DTSTART;TZID=UTC:20260427T130000
DTEND;TZID=UTC:20260427T160000
DTSTAMP:20260422T170848
CREATED:20260209T112524Z
LAST-MODIFIED:20260209T112524Z
UID:10039118-1777294800-1777305600@discovercrewe.co.uk
SUMMARY:Learn to Crochet
DESCRIPTION:Every Monday from 1pm until 4pm\, learn how to crochet with The Lizards Lair Gaming Co. \nThe event is ran by volunteers so there is no charge and anyone can take part as there is no experience needed. \nFor more information please visit here. \nImage (The Lizards Lair Gaming Co)
URL:https://discovercrewe.co.uk/event/learn-to-crochet/2026-04-27/
LOCATION:Lizards Lair\, 22 Victoria Centre\, Crewe\, CW1 2PU\, United Kingdom
CATEGORIES:Lizards Lair,Town Centre
ATTACH;FMTTYPE=image/jpeg:https://discovercrewe.co.uk/wp-content/uploads/2026/02/Learn-to-Crochet.jpg
END:VEVENT
BEGIN:VEVENT
DTSTART;TZID=UTC:20260427T133000
DTEND;TZID=UTC:20260427T163000
DTSTAMP:20260422T170848
CREATED:20251015T122100Z
LAST-MODIFIED:20251015T122115Z
UID:10033850-1777296600-1777307400@discovercrewe.co.uk
SUMMARY:IT Buddy
DESCRIPTION:Weekly\, Crewe Library have IT Buddy sessions to help any adults struggling with all things computer related. \nBooking is required\, but helpful volunteers will be available from 10am and 12pm on Thursdays and Saturdays. Plus they will be around from 1.30pm to 4.30pm on Mondays. \nBring your own devices like laptops\, tablets and phones\, or use the library computer and learn essential technology skills for free. \nFor more information and to see the full schedule of Crewe Library’s events visit here.
URL:https://discovercrewe.co.uk/event/it-buddy-2/2026-04-27/
LOCATION:Crewe Library\, Lifestyle Centre\, Moss Square\, Crewe\, CW1 2BB
CATEGORIES:Events,Library,Town Centre
ATTACH;FMTTYPE=image/jpeg:https://discovercrewe.co.uk/wp-content/uploads/2025/10/Photo-09-08-2025-12-30-22-scaled.jpg
END:VEVENT
BEGIN:VEVENT
DTSTART;TZID=UTC:20260427T140000
DTEND;TZID=UTC:20260427T160000
DTSTAMP:20260422T170848
CREATED:20251010T153159Z
LAST-MODIFIED:20251010T153233Z
UID:10032148-1777298400-1777305600@discovercrewe.co.uk
SUMMARY:Creative HeARTs
DESCRIPTION:As part of their weekly schedule of activities\, Crewe Library host a creative heARTs session on a Monday. \nFrom 2pm to 4pm\, a relaxed and informal adult art group meet to dabble in painting\, drawing and colouring. \nMembers work includes watercolour and acrylic painting\, sketching\, mixed media and colouring. They can bring their own project or use the library’s range of paints and materials to create something new. \nLight refreshments are provided and any donations towards the cost of these are welcome\, but not required. \nThe sessions are drop in and free of charge. \nFor more information on all of the Crewe Library groups visit here.
URL:https://discovercrewe.co.uk/event/creative-hearts/2026-04-27/
LOCATION:Crewe Library\, Lifestyle Centre\, Moss Square\, Crewe\, CW1 2BB
CATEGORIES:Events,Library,Town Centre
ATTACH;FMTTYPE=image/jpeg:https://discovercrewe.co.uk/wp-content/uploads/2025/10/Photo-09-08-2025-12-18-12-scaled.jpg
END:VEVENT
BEGIN:VEVENT
DTSTART;TZID=UTC:20260427T183000
DTEND;TZID=UTC:20260427T193000
DTSTAMP:20260422T170848
CREATED:20260209T105426Z
LAST-MODIFIED:20260209T105426Z
UID:10038075-1777314600-1777318200@discovercrewe.co.uk
SUMMARY:Monday Night Board Games
DESCRIPTION:Join the Lizards Lair Gaming Co on Monday evenings for a chilled board game or two. \nStarting at 6.30pm\, it promises to be casual fun for all to get involved in\, a selection of games will be available in shop. \nFor more information please visit here. \nImage (The Lizards Lair Gaming Co)
URL:https://discovercrewe.co.uk/event/monday-night-board-games/2026-04-27/
LOCATION:Lizards Lair\, 22 Victoria Centre\, Crewe\, CW1 2PU\, United Kingdom
CATEGORIES:Lizards Lair,Town Centre
ATTACH;FMTTYPE=image/jpeg:https://discovercrewe.co.uk/wp-content/uploads/2026/02/Monday-Evening-Board-Games.jpg
END:VEVENT
END:VCALENDAR