BEGIN:VCALENDAR
VERSION:2.0
PRODID:-//Discover Crewe - ECPv6.15.15//NONSGML v1.0//EN
CALSCALE:GREGORIAN
METHOD:PUBLISH
X-WR-CALNAME:Discover Crewe
X-ORIGINAL-URL:https://discovercrewe.co.uk
X-WR-CALDESC:Events for Discover Crewe
REFRESH-INTERVAL;VALUE=DURATION:PT1H
X-Robots-Tag:noindex
X-PUBLISHED-TTL:PT1H
BEGIN:VTIMEZONE
TZID:UTC
BEGIN:STANDARD
TZOFFSETFROM:+0000
TZOFFSETTO:+0000
TZNAME:UTC
DTSTART:20250101T000000
END:STANDARD
END:VTIMEZONE
BEGIN:VEVENT
DTSTART;TZID=UTC:20260425T103000
DTEND;TZID=UTC:20260425T150000
DTSTAMP:20260422T035714
CREATED:20251105T143530Z
LAST-MODIFIED:20260223T101406Z
UID:10036867-1777113000-1777129200@discovercrewe.co.uk
SUMMARY:Saturday Mini Market
DESCRIPTION:Every Saturday\, Crewe Market Hall has a Mini Market from 10.30am to 3pm. \nIts your chance to shop local and discover some gems from incredible independent traders. \nSupport your community and head down for a browse. \nFor more information\, keep an eye out for updates on the Crewe Market Hall Facebook here. \nImage (Crewe Market Hall)
URL:https://discovercrewe.co.uk/event/saturday-mini-market/2026-04-25/
LOCATION:Crewe Market Hall\, Crewe Market Hall\, 27 Earle Street\, Crewe\, Cheshire\, CW1 2BL
CATEGORIES:Events,Market Hall,Town Centre
ATTACH;FMTTYPE=image/jpeg:https://discovercrewe.co.uk/wp-content/uploads/2025/11/saturday-mini-market-e1762353277181.jpg
END:VEVENT
BEGIN:VEVENT
DTSTART;TZID=UTC:20260425T120000
DTEND;TZID=UTC:20260425T180000
DTSTAMP:20260422T035714
CREATED:20251128T163530Z
LAST-MODIFIED:20251128T163530Z
UID:10037433-1777118400-1777140000@discovercrewe.co.uk
SUMMARY:Bottomless Lunch
DESCRIPTION:Every Saturday\, Gio’s does bottomless lunch between 12pm and 6pm. \nThe 90 minute session includes one main chosen out of hot sandwiches\, calzones\, pasta and pizza. Alongside one side chosen from doughballs\, cheesy/garlic bread\, rocket & parmesan salad and rosemary and sea salt chips. \nPlus choose from three drinks packages to complete the deal: \n\nBeer & Prosecco\, Spritzers & Spirits is £35pp\nCocktails is £42pp\nFor all options it is £46pp\n\n  \nFor more information and to book online visit here.
URL:https://discovercrewe.co.uk/event/bottomless-lunch/2026-04-25/
LOCATION:Giovanni’s\, 23-25 Nantwich Road\, Crewe\, CW26AF\, United Kingdom
CATEGORIES:Events,Food & Drink,Nantwich Road
ATTACH;FMTTYPE=image/png:https://discovercrewe.co.uk/wp-content/uploads/2025/07/Gios.png
END:VEVENT
BEGIN:VEVENT
DTSTART;TZID=UTC:20260425T190000
DTEND;TZID=UTC:20260425T210000
DTSTAMP:20260422T035714
CREATED:20260420T093736Z
LAST-MODIFIED:20260420T093906Z
UID:10042122-1777143600-1777150800@discovercrewe.co.uk
SUMMARY:A Live Tribute to George Michael with Support from Kylie Unlimited
DESCRIPTION:Join The Arena Crewe on Saturday 25 April for a live tribute to George Michael from Steve Mitchell. \nThe party will start early with support from Kylie Unlimited\, making the night a double-bill of icons. Dance to all the hits like ‘Spinning Around\,’ ‘Can’t Get You Out of My Head’ and ‘Padam Padam.’ \nDate & time = Saturday 25 April at 7pm \nTicket price = first 50 at £10\, £12.50 ADV & £15 OTD \nFor more information visit here. \nImage (The Arena)
URL:https://discovercrewe.co.uk/event/a-live-tribute-to-george-michael-with-support-from-kylie-unlimited/
LOCATION:The Arena Crewe\, 39 High Street\, Crewe\, CW2 7BL\, United Kingdom
CATEGORIES:Live Music,The Arena,Town Centre
ATTACH;FMTTYPE=image/png:https://discovercrewe.co.uk/wp-content/uploads/2026/04/Screenshot-2026-04-20-101004-e1776677942492.png
END:VEVENT
END:VCALENDAR