BEGIN:VCALENDAR
VERSION:2.0
PRODID:-//Discover Crewe - ECPv6.15.15//NONSGML v1.0//EN
CALSCALE:GREGORIAN
METHOD:PUBLISH
X-WR-CALNAME:Discover Crewe
X-ORIGINAL-URL:https://discovercrewe.co.uk
X-WR-CALDESC:Events for Discover Crewe
REFRESH-INTERVAL;VALUE=DURATION:PT1H
X-Robots-Tag:noindex
X-PUBLISHED-TTL:PT1H
BEGIN:VTIMEZONE
TZID:UTC
BEGIN:STANDARD
TZOFFSETFROM:+0000
TZOFFSETTO:+0000
TZNAME:UTC
DTSTART:20250101T000000
END:STANDARD
END:VTIMEZONE
BEGIN:VEVENT
DTSTART;TZID=UTC:20260424T110000
DTEND;TZID=UTC:20260424T113000
DTSTAMP:20260422T001624
CREATED:20250721T145547Z
LAST-MODIFIED:20250721T145547Z
UID:10023391-1777028400-1777030200@discovercrewe.co.uk
SUMMARY:Rhymetime
DESCRIPTION:Songs\, rhymes and lots of movement! \nEvery Friday from 11am – 11.30am Crewe Library holds a Rhymetime session for pre-school children or under 5’s. \nIt is free of charge and requires no booking so participants only need to drop in to enjoy this event. \nImage (Crewe Library)
URL:https://discovercrewe.co.uk/event/rhymetime/2026-04-24/
LOCATION:Crewe Library\, Lifestyle Centre\, Moss Square\, Crewe\, CW1 2BB
CATEGORIES:Events,Family Attractions,Town Centre
ATTACH;FMTTYPE=image/jpeg:https://discovercrewe.co.uk/wp-content/uploads/2025/06/crewe-library.jpg
END:VEVENT
BEGIN:VEVENT
DTSTART;TZID=UTC:20260424T163000
DTEND;TZID=UTC:20260424T173000
DTSTAMP:20260422T001624
CREATED:20250612T151252Z
LAST-MODIFIED:20251010T133719Z
UID:10022363-1777048200-1777051800@discovercrewe.co.uk
SUMMARY:Chess Club
DESCRIPTION:Chess Club at Crewe Library \nCrewe Library\, in partnership with Crewe Chess Club\, is now hosting a weekly drop-in Chess Club every Friday afternoon. \nThe sessions are free and open to adults and school-age children of all abilities. It’s a relaxed and friendly way to play a few games\, pick up some tips or simply enjoy a shared love of chess. \nAll equipment is provided and no booking is needed. \nFridays from 4.30pm to 5.45pm at Crewe Library \nImage (Crewe Town Council)
URL:https://discovercrewe.co.uk/event/crewe-chess-club-at-crewe-library/2026-04-24/
LOCATION:Crewe Library\, Lifestyle Centre\, Moss Square\, Crewe\, CW1 2BB
CATEGORIES:Events,Library,Town Centre
ATTACH;FMTTYPE=image/jpeg:https://discovercrewe.co.uk/wp-content/uploads/2025/06/chess-club.jpg
END:VEVENT
BEGIN:VEVENT
DTSTART;TZID=UTC:20260424T193000
DTEND;TZID=UTC:20260424T213000
DTSTAMP:20260422T001624
CREATED:20260420T090904Z
LAST-MODIFIED:20260420T090904Z
UID:10042121-1777059000-1777066200@discovercrewe.co.uk
SUMMARY:Eminem - Performed by Michael Mathers
DESCRIPTION:The Real Slim Shady is coming to The Arena Crewe on Friday 24 April\, as Michael Mathers brings his Eminem tribute act to the venue. \nDate & time = Friday 24 April at 7.30pm \nTicket price = £10 ADV and £12.50 OTD \nFor more information visit here. \nImage (The Arena)
URL:https://discovercrewe.co.uk/event/eminem-performed-by-michael-mathers/
LOCATION:The Arena Crewe\, 39 High Street\, Crewe\, CW2 7BL\, United Kingdom
CATEGORIES:Live Music,The Arena,Town Centre
ATTACH;FMTTYPE=image/jpeg:https://discovercrewe.co.uk/wp-content/uploads/2026/04/eminem-michael-mathers.jpg
END:VEVENT
END:VCALENDAR