BEGIN:VCALENDAR
VERSION:2.0
PRODID:-//Discover Crewe - ECPv6.15.15//NONSGML v1.0//EN
CALSCALE:GREGORIAN
METHOD:PUBLISH
X-ORIGINAL-URL:https://discovercrewe.co.uk
X-WR-CALDESC:Events for Discover Crewe
REFRESH-INTERVAL;VALUE=DURATION:PT1H
X-Robots-Tag:noindex
X-PUBLISHED-TTL:PT1H
BEGIN:VTIMEZONE
TZID:UTC
BEGIN:STANDARD
TZOFFSETFROM:+0000
TZOFFSETTO:+0000
TZNAME:UTC
DTSTART:20250101T000000
END:STANDARD
END:VTIMEZONE
BEGIN:VEVENT
DTSTART;VALUE=DATE:20260422
DTEND;VALUE=DATE:20260423
DTSTAMP:20260422T001809
CREATED:20250926T121215Z
LAST-MODIFIED:20260219T132856Z
UID:10028361-1776816000-1776902399@discovercrewe.co.uk
SUMMARY:The Rail Ale Trail
DESCRIPTION:Explore the best local pubs from Crewe to Manchester\, the Rail Ale trail connects charming stations with pubs full of character. \nThere are nine stations and villages to explore with more than 20 pubs to choose from. Collect stickers along the way and win a free branded baseball cap by collecting 15. \nThe trail is intended to be enjoyed at a leisurely pace and not all in one day. \nCrewe pubs included are The Crewe Dog in Crewe’s Market Hall\, Hops Belgian Brewery on Prince Albert Street and Ebenezer’s on Nantwich Road. \nFor more information on the Rail Ale Trail visit here. \nImage (Rail Ale Trail)
URL:https://discovercrewe.co.uk/event/the-rail-ail-trail/2026-04-22/
LOCATION:The Crewe Dog\, Market Hall\, 27 Earle St\, Crewe\, CW1 2BL\, United Kingdom
CATEGORIES:Events,Experience,Food & Drink
ATTACH;FMTTYPE=image/png:https://discovercrewe.co.uk/wp-content/uploads/2025/09/Screenshot-2025-09-26-131644-e1758889250179.png
END:VEVENT
BEGIN:VEVENT
DTSTART;TZID=UTC:20260422T110000
DTEND;TZID=UTC:20260422T193000
DTSTAMP:20260422T001809
CREATED:20251105T100210Z
LAST-MODIFIED:20251105T100235Z
UID:10035821-1776855600-1776886200@discovercrewe.co.uk
SUMMARY:Real Ale Club
DESCRIPTION:Every Wednesday from 11am to 7.30pm\, The Crewe Dog hosts their Real Ale Club where each pint is only £3. \nHead down to Crewe Market Hall to enjoy a delicious craft ale for a fraction of the price. \nFor more information and updates please visit the Crewe Market Hall Facebook page here.
URL:https://discovercrewe.co.uk/event/real-ale-club/2026-04-22/
LOCATION:Crewe Market Hall\, Crewe Market Hall\, 27 Earle Street\, Crewe\, Cheshire\, CW1 2BL
CATEGORIES:Events,Market Hall,Town Centre
ATTACH;FMTTYPE=image/png:https://discovercrewe.co.uk/wp-content/uploads/2025/07/The-Crewe-Dog-5-e1751984589610.png
END:VEVENT
BEGIN:VEVENT
DTSTART;TZID=UTC:20260422T183000
DTEND;TZID=UTC:20260422T183000
DTSTAMP:20260422T001809
CREATED:20260323T163102Z
LAST-MODIFIED:20260323T163120Z
UID:10041465-1776882600-1776882600@discovercrewe.co.uk
SUMMARY:Walking Netball
DESCRIPTION:Weekly on Wednesdays\, there is a walking netball group at Everybody Lifestyle Centre\, Crewe. \nIt is a supportive\, inclusive way to stay active and have fun. \nThe sessions start at 6.30pm and there is a suggested donation of £4. \nFor more information contact events@her-place.co.uk or visit here.
URL:https://discovercrewe.co.uk/event/walking-netball/2026-04-22/
LOCATION:Crewe Lifestyle Centre\, Crewe Lifestyle Centre\, Moss Square\, Crewe\, CW1 2BB\, United Kingdom
CATEGORIES:Events,Town Centre
ATTACH;FMTTYPE=image/jpeg:https://discovercrewe.co.uk/wp-content/uploads/2025/05/Crewe-Lifestyle-Centre-scaled.jpg
END:VEVENT
BEGIN:VEVENT
DTSTART;TZID=UTC:20260422T183000
DTEND;TZID=UTC:20260422T200000
DTSTAMP:20260422T001809
CREATED:20260226T093751Z
LAST-MODIFIED:20260407T152029Z
UID:10040776-1776882600-1776888000@discovercrewe.co.uk
SUMMARY:Bingo Night at The Cheese Hall
DESCRIPTION:Every Wednesday\, The Cheese Hall has a Bingo night hosted by Craig Allcock and Faith. \nTickets can be bought from 6.30pm and eyes are down by 7pm to start the first game. \nThere will also be rounds of play your cards right. \nFor a night of cask ale\, friendly company and competitive games of bingo\, head to The Cheese Hall every Wednesday evening. \nFor more information please visit here.
URL:https://discovercrewe.co.uk/event/bingo-night-at-the-cheese-hall/2026-04-22/
LOCATION:The Cheese Hall\, 15 Earle Street\, Crewe\, CW1 2BS\, United Kingdom
CATEGORIES:Events,Food & Drink,Town Centre
ATTACH;FMTTYPE=image/jpeg:https://discovercrewe.co.uk/wp-content/uploads/2026/02/The-Cheese-Hall.jpg
END:VEVENT
END:VCALENDAR